Workbook
Name BD_CCTV: Planilha1!$A$2:$H$68
Name SegmentaçãodeDados_Tipo: #N/A
Name SegmentaçãodeDados_TIPO_A: #N/A
Name SegmentaçãodeDados_TIPO_A1: #N/A

Sheet TABELA
A3: Camada | B3: TIPO A | C3: Setor Origem | D3: Origem | E3: IP_A | F3: Soma de LAT | G3: Soma de LOGITUDE
A4: Acesso Industrial | B4: CAMERA CCTV | C4: 1 ANDAR LIMPEZA | D4: BR-PE-IPO1-CCTV-CAM - 043 | E4: 10.173.138.53 | F4: -839373353596184 | G4: -349814741525487
C5: ACESSO A PORTARIA | D5: BR-PE-IPO1-CCTV-CAM - 044 | E5: 10.173.138.54 | F5: -839297317822834 | G5: -349805841945756
C6: ACESSO A SALA CFTV | D6: BR-PE-IPO1-CCTV-CAM - 045 | E6: 10.173.138.55 | F6: -839315960883087 | G6: -349806172327275
C7: ACESSO A SUBSTAÇÃO 2 | D7: BR-PE-IPO1-CCTV-CAM - 055 | E7: 10.173.138.65 | F7: -839392819496571 | G7: -349818753110349
C8: ACESSO ARMAZEM | D8: BR-PE-IPO1-CCTV-CAM - 041 | E8: 10.173.138.51 | F8: -839456529245095 | G8: -349821745840585
C9: ACESSO SL SERVIDOR | D9: BR-PE-IPO1-CCTV-CAM - 038 | E9: 10.173.138.48 | F9: -839443627446032 | G9: -349807090975283
C10: ACESSO SUBSTAÇÃO | D10: BR-PE-IPO1-CCTV-CAM - 040 | E10: 10.173.138.50 | F10: -839512425185933 | G10: -349814675015129
C11: ACESSO SUBSTAÇÃO 01 | D11: BR-PE-IPO1-CCTV-CAM - 039 | E11: 10.173.138.49 | F11: -83952257259798 | G11: -349813759953436
C12: Administrativo | D12: BR-PE-IPO1-CCTV-CAM - 042 | E12: 10.173.138.52 | F12: -839413730161277 | G12: -349820640022284
C13: CANCELA ENTRADA E SAIDA | D13: BR-PE-IPO1-CCTV-CAM - 046 | E13: 10.173.138.56 | F13: -839299669944131 | G13: -34980491167101
C14: ENTRADA BALANÇA | D14: BR-PE-IPO1-CCTV-CAM - 066 | E14: 10.173.138.76 | F14: -839493702105934 | G14: -349807526866276
D15: BR-PE-IPO1-CCTV-CAM - 067 | E15: 10.173.138.77 | F15: -839500289397036 | G15: -349810900746526
C16: ENTRADA DA LOGISTICA | D16: BR-PE-IPO1-CCTV-CAM - 059 | E16: 10.173.138.68 | F16: -839445057102618 | G16: -349821714192017
C17: ENTRADA DA PRODUÇÃO | D17: BR-PE-IPO1-CCTV-CAM - 058 | E17: 10.173.138.67 | F17: -839386309669166 | G17: -349819690978019
C18: ESTEIRA | D18: BR-PE-IPO1-CCTV-CAM - 048 | E18: 10.173.138.58 | F18: -839337123821898 | G18: -349814049474047
D19: BR-PE-IPO1-CCTV-CAM - 049 | E19: 10.173.138.59 | F19: -839266554788544 | G19: -349814473744811
D20: BR-PE-IPO1-CCTV-CAM - 051 | E20: 10.173.138.61 | F20: -839262134663708 | G20: -349813923460329
D21: BR-PE-IPO1-CCTV-CAM - 052 | E21: 10.173.138.62 | F21: -839219677751252 | G21: -349729365471461
D22: BR-PE-IPO1-CCTV-CAM - 054 | E22: 10.173.138.64 | F22: -839216822157361 | G22: -349728391752068
C23: PATIO DPA EXTERNO | D23: BR-PE-IPO1-CCTV-CAM - 062 | E23: 10.173.138.72 | F23: -839456506803536 | G23: -349821960909111
C24: PATIO DPA INTERNO | D24: BR-PE-IPO1-CCTV-CAM - 063 | E24: 10.173.138.73 | F24: -839440767120592 | G24: -349820255120134
C25: PATIO SILOS | D25: BR-PE-IPO1-CCTV-CAM - 047 | E25: 10.173.138.57 | F25: -839335488470887 | G25: -349813679265949
C26: PERIMETRO LESTE | D26: BR-PE-IPO1-CCTV-CAM - 032 | E26: 10.173.138.42 | F26: -839326328164967 | G26: -349801388227018
D27: BR-PE-IPO1-CCTV-CAM - 033 | E27: 10.173.138.43 | F27: -83933020300717 | G27: -349801336781877
D28: BR-PE-IPO1-CCTV-CAM - 034 | E28: 10.173.138.44 | F28: -839406513622973 | G28: -349801043682096
D29: BR-PE-IPO1-CCTV-CAM - 035 | E29: 10.173.138.45 | F29: -83941019658437 | G29: -349800980066503
D30: BR-PE-IPO1-CCTV-CAM - 036 | E30: 10.173.138.46 | F30: -839451594361162 | G30: -349800717187963
D31: BR-PE-IPO1-CCTV-CAM - 037 | E31: 10.173.138.47 | F31: -839454070974403 | G31: -349800693494947
C32: PERIMETRO NOROESTE | D32: BR-PE-IPO1-CCTV-CAM - 020 | E32: 10.173.138.30 | F32: -839309657801317 | G32: -349829051020689
D33: BR-PE-IPO1-CCTV-CAM - 021 | E33: 10.173.138.31 | F33: -839306822893465 | G33: -349829072326105
D34: BR-PE-IPO1-CCTV-CAM - 030 | E34: 10.173.138.40 | F34: -839292178708134 | G34: -349801626623871
D35: BR-PE-IPO1-CCTV-CAM - 031 | E35: 10.173.138.41 | F35: -839297373481041 | G35: -349801436896876
C36: PERIMETRO NORTE | D36: BR-PE-IPO1-CCTV-CAM - 022 | E36: 10.173.138.32 | F36: -839305977077883 | G36: -349825422223098
D37: BR-PE-IPO1-CCTV-CAM - 023 | E37: 10.173.138.33 | F37: -839306118225319 | G37: -349825094612308
D38: BR-PE-IPO1-CCTV-CAM - 024 | E38: 10.173.138.34 | F38: -839304251085938 | G38: -349819329778252
D39: BR-PE-IPO1-CCTV-CAM - 025 | E39: 10.173.138.35 | F39: -839303047757866 | G39: -349818565847458
D40: BR-PE-IPO1-CCTV-CAM - 026 | E40: 10.173.138.36 | F40: -839295132342716 | G40: -34981281471018
D41: BR-PE-IPO1-CCTV-CAM - 027 | E41: 10.173.138.37 | F41: -839295026797205 | G41: -349812622211823
D42: BR-PE-IPO1-CCTV-CAM - 028 | E42: 10.173.138.38 | F42: -839293532346199 | G42: -349806928922715
D43: BR-PE-IPO1-CCTV-CAM - 029 | E43: 10.173.138.39 | F43: -839293316797384 | G43: -34980675500099
C44: PERIMETRO OESTE | D44: BR-PE-IPO1-CCTV-CAM - 014 | E44: 10.173.138.24 | F44: -83948453463092 | G44: -349827912467449
D45: BR-PE-IPO1-CCTV-CAM - 015 | E45: 10.173.138.25 | F45: -839477872221857 | G45: -349827895666873
D46: BR-PE-IPO1-CCTV-CAM - 016 | E46: 10.173.138.26 | F46: -839430662528918 | G46: -349828184803776
D47: BR-PE-IPO1-CCTV-CAM - 017 | E47: 10.173.138.27 | F47: -839422921647872 | G47: -349828101732652
D48: BR-PE-IPO1-CCTV-CAM - 018 | E48: 10.173.138.28 | F48: -839361967763889 | G48: -349828915014929
D49: BR-PE-IPO1-CCTV-CAM - 019 | E49: 10.173.138.29 | F49: -839356791936792 | G49: -349828938028074
C50: PERIMETRO SUL | D50: BR-PE-IPO1-CCTV-CAM - 004 | E50: 10.173.138.14 | F50: -83951250895223 | G50: -349806546756134
D51: BR-PE-IPO1-CCTV-CAM - 005 | E51: 10.173.138.15 | F51: -839512792667867 | G51: -349806404285613
D52: BR-PE-IPO1-CCTV-CAM - 006 | E52: 10.173.138.16 | F52: -839518832756237 | G52: -349810999661202
D53: BR-PE-IPO1-CCTV-CAM - 007 | E53: 10.173.138.17 | F53: -839518647189521 | G53: -349811145036329
D54: BR-PE-IPO1-CCTV-CAM - 008 | E54: 10.173.138.18 | F54: -8395277132448 | G54: -349817039800978
D55: BR-PE-IPO1-CCTV-CAM - 009 | E55: 10.173.138.19 | F55: -839527784720926 | G55: -349817172109514
D56: BR-PE-IPO1-CCTV-CAM - 010 | E56: 10.173.138.20 | F56: -839545104624989 | G56: -349823510937675
D57: BR-PE-IPO1-CCTV-CAM - 011 | E57: 10.173.138.21 | F57: -839545565775499 | G57: -349824040853502
D58: BR-PE-IPO1-CCTV-CAM - 012 | E58: 10.173.138.22 | F58: -83955100187335 | G58: -349827176533504
C59: PERIMETRO SULDESTE | D59: BR-PE-IPO1-CCTV-CAM - 001 | E59: 10.173.138.11 | F59: -839499167457789 | G59: -349800387465946
D60: BR-PE-IPO1-CCTV-CAM - 002 | E60: 10.173.138.12 | F60: -839502241334003 | G60: -349800597738073
D61: BR-PE-IPO1-CCTV-CAM - 003 | E61: 10.173.138.13 | F61: -839496723611927 | G61: -349800818450684
C62: PERIMETRO SULDOESTE | D62: BR-PE-IPO1-CCTV-CAM - 013 | E62: 10.173.138.23 | F62: -839551714956152 | G62: -349827774082111
C63: Refeitorio | D63: BR-PE-IPO1-CCTV-CAM - 060 | E63: 10.173.138.70 | F63: -839460505491663 | G63: -349810337899106
C64: REFEITORIO ACESSO A COZINHA | D64: BR-PE-IPO1-CCTV-CAM - 061 | E64: 10.173.138.71 | F64: -839462491002371 | G64: -349809333608102
C65: SAIDA BALANÇA | D65: BR-PE-IPO1-CCTV-CAM - 068 | E65: 10.173.138.78 | F65: -839509764637999 | G65: -349810808339336
D66: BR-PE-IPO1-CCTV-CAM - 069 | E66: 10.173.138.79 | F66: -839507339335804 | G66: -349807447072832
C67: SALA CFTV | D67: BR-PE-IPO1-CCTV-CAM - 056 | E67: 10.173.138.66 | F67: -839303952458643 | G67: -349805856772247
C68: SUBSTAÇÃO ESTEIRA | D68: BR-PE-IPO1-CCTV-CAM - 050 | E68: 10.173.138.60 | F68: -83925935512751 | G68: -349814593771777
D69: BR-PE-IPO1-CCTV-CAM - 053 | E69: 10.173.138.63 | F69: -839223150563182 | G69: -349728613716107
A70: Total Geral | F70: -4.9280845e+16 | G70: -2.2142988e+16

Sheet Ligacoes
A1: Notas de leitura
A2: Azul = Fibra SX; Verde = Fibra LX; Vermelho = UTP; quadrado preto = conversor.
A3: Portas com ? foram inferidas visualmente e precisam de confirmação no arquivo-fonte.
A4: A conexão SWA-005 <-> SWA-013 foi mantida como hipótese por continuidade visual da linha azul.
A5: Topologia LAN - Planilha completa das ligações extraídas da imagem
A8: ID Link | B8: Camada | C8: Setor Origem | D8: Origem | E8: IP_A | F8: TIPO A | G8: Porta Origem | H8: Setor Destino | I8: Destino | J8: IP_B | K8: TIPO B | L8: Porta Destino | M8: Midia | N8: Velocidade | O8: Status | P8: Confianca | Q8: Observacoes | R8: LAT | S8: LOGITUDE
A9: L001 | B9: Borda | C9: Internet | D9: PRI INTERNET | E9: 189.23.196.2 | F9: ROUTER | G9: Vni-01 | H9: Core | I9: BR-PE-IPO1-RTC-001 | J9: 189.23.196.2 | K9: ROUTER | L9: Vni-02 | M9: UTP | N9: 1G | O9: Ativo | P9: Alta
A10: L002 | B10: Borda | C10: Internet | D10: TER BANDA | E10: 179.189.249.62 | F10: ROUTER | G10: Vni-01 | H10: Core | I10: BR-PE-IPO1-RTC-003 | J10: 179.189.249.62 | K10: ROUTER | L10: Vni-02 | M10: UTP | N10: 1G | O10: Ativo | P10: Alta
A11: L003 | B11: Borda | C11: Internet | D11: SEC INTERNET | E11: 187.32.41.121 | F11: ROUTER | G11: Vni-01 | H11: Core | I11: BR-PE-IPO1-RTC-002 | J11: 187.32.41.121 | K11: ROUTER | L11: Vni-02 | M11: UTP | N11: 1G | O11: Ativo | P11: Alta
A12: L004 | B12: Borda | C12: Core | D12: BR-PE-IPO1-RTC-001 | E12: 189.23.196.2 | F12: ROUTER | G12: Vni-02 | H12: Core | I12: BR-PE-IPO1-SDE-001 | J12: 10.249.6.27 | K12: ROUTER | L12: NIC | M12: UTP | N12: 1G | O12: Ativo | P12: Alta
A13: L005 | B13: Borda | C13: Core | D13: BR-PE-IPO1-RTC-003 | E13: 179.189.249.62 | F13: ROUTER | G13: Vni-05 | H13: Core | I13: BR-PE-IPO1-SDE-001 | J13: 179.189.249.62 | K13: ROUTER | L13: NIC | M13: UTP | N13: 1G | O13: Ativo | P13: Alta
A14: L006 | B14: Borda | C14: Core | D14: BR-PE-IPO1-RTC-002 | E14: 10.249.7.27 | F14: ROUTER | G14: Vni-02 | H14: Core | I14: BR-PE-IPO1-SDE-002 | J14: 10.249.7.27 | K14: ROUTER | L14: NIC | M14: UTP | N14: 1G | O14: Ativo | P14: Alta
A15: L007 | B15: Seguranca | C15: Core | D15: BR-PE-IPO1-SDE-001 | F15: ROUTER | G15: Vni-06 | H15: Core | I15: BR-PE-IPO1-SDE-002 | K15: ROUTER | L15: Vni-06 | M15: UTP | N15: 1G | O15: Ativo | P15: Alta
A16: L008 | B16: Core | C16: Core | D16: BR-PE-IPO1-SDE-001 | E16: 10.249.6.27 | F16: ROUTER | G16: Vni0/3 | H16: Administrativo | I16: BR-PE-IPO1-SWC-001-02 | J16: 10.173.133.1 | K16: SWITCH C | L16: Gi2/0/1 | M16: UTP | N16: 1G | O16: Ativo | P16: Alta
A17: L009 | B17: Core | C17: Core | D17: BR-PE-IPO1-SWC-001-02 | F17: SWITCH C | G17: Gi1/1/24 | H17: Core | I17: BR-PE-IPO1-RTV-001 | J17: 10173133254 | K17: ROUTER | L17: Gi1/1/1 | M17: UTP | N17: 1G | O17: Ativo | P17: Alta
A18: L010 | B18: Distribuicao | C18: Administrativo | D18: BR-PE-IPO1-SWC-001-01 | E18: 10.173.133.1 | F18: SWITCH C | G18: T1/1/5 | H18: Administrativo | I18: BR-PE-IPO1-SWA-001-01 | J18: 10.173.133.2 | K18: SWITCH A | L18: T1/1/1 | M18: UTP | N18: 1G | O18: Ativo | P18: Alta
A19: L010 | B19: Distribuicao | C19: Administrativo | D19: BR-PE-IPO1-SWC-001-02 | E19: 10.173.133.1 | F19: SWITCH C | G19: T2/1/4 | H19: Administrativo | I19: BR-PE-IPO1-SWA-001-02 | J19: 10.173.133.2 | K19: SWITCH A | L19: T2/1/1 | M19: UTP | N19: 1G | O19: Ativo | P19: Alta
A20: L011 | B20: Acesso | C20: Sup. Moagem | D20: BR-PE-IPO1-SWA-009 | E20: 10.173.133.10 | F20: SWITCH A | G20: Gi1/0/11 | H20: Sup. Moagem | I20: BR-PE-IPO1-AP6-006 | K20: AP | L20: Gi1/0/1 | M20: WAN | N20: N/I | O20: Ativo | P20: Alta
A21: L012 | B21: Distribuicao | C21: Sup. Moagem | D21: BR-PE-IPO1-SWA-009 | E21: 10.173.133.10 | F21: SWITCH A | G21: T1/1/1 | H21: Administrativo | I21: BR-PE-IPO1-SWC-001 | J21: 10.173.133.1 | K21: SWITCH C | L21: T1/1/3 | M21: WAN | N21: N/I | O21: Ativo | P21: Alta
A22: L013 | B22: Acesso | C22: Laboratorio | D22: BR-PE-IPO1-SWA-007 | E22: 10.173.133.8 | F22: SWITCH A | G22: Gi1/0/34 | H22: Laboratorio | I22: BR-PE-IPO1-AP6-009 | K22: AP | L22: Gi1/0/1 | M22: WAN | N22: N/I | O22: Ativo | P22: Alta
A23: L014 | B23: Acesso | C23: Laboratorio | D23: BR-PE-IPO1-SWA-007 | E23: 10.173.133.8 | F23: SWITCH A | G23: Gi1/0/28 | H23: Laboratorio | I23: BR-PE-IPO1-AP6-010 | K23: AP | L23: Gi1/0/1 | M23: WAN | N23: N/I | O23: Ativo | P23: Alta
A24: L015 | B24: Acesso | C24: Laboratorio | D24: BR-PE-IPO1-SWA-007 | E24: 10.173.133.8 | F24: SWITCH A | G24: Gi1/0/21 | H24: Laboratorio | I24: BR-PE-IPO1-AP6-007 | K24: AP | L24: Gi1/0/1 | M24: WAN | N24: N/I | O24: Ativo | P24: Alta
A25: L016 | B25: Acesso | C25: Laboratorio | D25: BR-PE-IPO1-SWA-007 | E25: 10.173.133.8 | F25: SWITCH A | G25: Gi2/0/5 | H25: Laboratorio | I25: BR-PE-IPO1-AP6-008 | K25: AP | L25: Gi1/0/1 | M25: WAN | N25: N/I | O25: Ativo | P25: Alta
A26: L017 | B26: Acesso | C26: Laboratorio | D26: BR-PE-IPO1-SWA-007 | E26: 10.173.133.8 | F26: SWITCH A | G26: T2/1/2 | H26: Laboratorio | I26: HUB_PLANET_ESTEIRA | K26: HUB | L26: Vni-02 | M26: Virtual/Overlay | N26: N/I | O26: Ativo | P26: Alta
A27: L018 | B27: Distribuicao | C27: Laboratorio | D27: BR-PE-IPO1-SWA-007 | E27: 10.173.133.8 | F27: SWITCH A | G27: T2/1/1 | H27: Administrativo | I27: BR-PE-IPO1-SWC-001-02 | J27: 10.173.133.1 | K27: SWITCH C | L27: T2/1/2 | M27: Virtual/Overlay | N27: N/I | O27: Ativo | P27: Alta
A28: L019 | B28: Acesso | C28: DPA | D28: BR-PE-IPO1-SWA-010 | E28: 10.173.133.11 | F28: SWITCH A | G28: Gi1/0/21 | H28: DPA | I28: BR-PE-IPO1-AP6-005 | K28: AP | L28: Gi1/0/1 | M28: WAN | N28: N/I | O28: Ativo | P28: Alta
A29: L020 | B29: Distribuicao | C29: DPA | D29: BR-PE-IPO1-SWA-010 | E29: 10.173.133.11 | F29: SWITCH A | G29: T1/1/1 | H29: Administrativo | I29: BR-PE-IPO1-SWC-001-02 | J29: 10.173.133.1 | K29: SWITCH C | L29: T2/1/1 | M29: Fibra LX | N29: N/I | O29: Ativo | P29: Alta
A30: L021 | B30: Acesso | C30: Administrativo | D30: BR-PE-IPO1-SWA-001-01 | E30: 10.173.133.2 | F30: SWITCH A | G30: Gi1/0/6 | H30: Administrativo | I30: BR-PE-IPO1-AP6-001 | K30: AP | L30: Gi1/0/1 | M30: WAN | N30: N/I | O30: Ativo | P30: Alta
A31: L022 | B31: Acesso | C31: Administrativo | D31: BR-PE-IPO1-SWA-001-02 | E31: 10.173.133.2 | F31: SWITCH A | G31: Gi2/0/9 | H31: Administrativo | I31: BR-PE-IPO1-AP6-002 | K31: AP | L31: Gi1/0/1 | M31: WAN | N31: N/I | O31: Ativo | P31: Alta
A32: L023 | B32: Acesso | C32: Administrativo | D32: BR-PE-IPO1-SWA-001-02 | E32: 10.173.133.2 | F32: SWITCH A | G32: Gi2/0/6 | H32: Administrativo | I32: BR-PE-IPO1-AP6-003 | K32: AP | L32: Gi1/0/1 | M32: WAN | N32: N/I | O32: Ativo | P32: Alta
A33: L024 | B33: Distribuicao | C33: Portaria | D33: BR-PE-IPO1-SWA-004 | E33: 10.173.133.5 | F33: SWITCH A | G33: T1/1/1 | H33: Administrativo | I33: BR-PE-IPO1-SWC-001 | J33: 10.173.133.1 | K33: SWITCH C | L33: Gi1/1/10 | M33: Fibra SX | N33: N/I | O33: Ativo | P33: Alta
A34: L025 | B34: Acesso Industrial | C34: Portaria | D34: BR-PE-IPO1-SWA-004 | E34: 10.173.133.5 | F34: SWITCH A | G34: T1/1/4 | H34: Portaria | I34: BR-PE-IPO1-SWI-017 | J34: 10.173.133.20 | K34: SWITCH I | L34: Gi1/1/9 | M34: Fibra LX | N34: N/I | O34: Ativo | P34: Alta
A35: L026 | B35: Acesso Industrial | C35: Portaria | D35: BR-PE-IPO1-SWA-004 | E35: 10.173.133.5 | F35: SWITCH A | G35: T1/1/3 | H35: Sala de Servidores | I35: BR-PE-IPO1-SWI-019 | J35: 10.173.133.22 | K35: SWITCH I | L35: Gi1/1/9 | M35: Fibra SX / Port-channel | N35: N/I | O35: Ativo | P35: Alta
A36: L027 | B36: Acesso Industrial | C36: Sala de Servidores | D36: BR-PE-IPO1-SWA-005 | E36: 10.173.133.6 | F36: SWITCH A | G36: T1/1/2 | H36: Sala de Servidores | I36: BR-PE-IPO1-SWI-019 | J36: 10.173.133.22 | K36: SWITCH I | L36: Gi1/1/10 | M36: Fibra SX | N36: N/I | O36: Ativo | P36: Alta
A37: L028 | B37: Backbone | C37: Sala de Servidores | D37: BR-PE-IPO1-SWA-005 | E37: 10.173.133.6 | F37: SWITCH A | G37: T1/1/1 | H37: Faturamento | I37: BR-PE-IPO1-SWA-013 | J37: 10.173.133.17 | K37: SWITCH A | L37: T1/1/3 | M37: UTP | N37: N/I | O37: Ativo | P37: Alta
A38: L029 | B38: Distribuicao | C38: Refeitorio | D38: BR-PE-IPO1-SWA-006 | E38: 10.173.133.7 | F38: SWITCH A | G38: T1/1/1 | H38: Administrativo | I38: BR-PE-IPO1-SWC-001 | J38: 10.173.133.1 | K38: SWITCH C | L38: T1/1/2 | M38: Fibra LX | N38: N/I | O38: Ativo | P38: Alta
A39: L030 | B39: Distribuicao | C39: Subestacao | D39: BR-PE-IPO1-SWA-012 | E39: 10.173.133.16 | F39: SWITCH A | G39: T1/1/1 | H39: Administrativo | I39: BR-PE-IPO1-SWC-001 | J39: 10.173.133.1 | K39: SWITCH C | L39: T1/1/1 | M39: Fibra LX | N39: N/I | O39: Ativo | P39: Alta
A40: L031 | B40: Acesso Industrial | C40: Subestacao | D40: BR-PE-IPO1-SWA-012 | E40: 10.173.133.16 | F40: SWITCH A | G40: T1/1/2 | H40: Subestacao | I40: BR-PE-IPO1-SWI-018 | J40: 10.173.133.21 | K40: SWITCH I | L40: Gi1/1/9 | M40: Fibra LX | N40: N/I | O40: Ativo | P40: Alta
A41: L032 | B41: Acesso Industrial | C41: Subestacao | D41: BR-PE-IPO1-SWI-018 | E41: 10.173.133.21 | F41: SWITCH I | G41: Gi1/1/10 | H41: Subestacao | I41: BR-PE-IPO1-SWI-016 | J41: 10.173.133.19 | K41: SWITCH I | L41: Gi1/1/9 | M41: Fibra LX | N41: N/I | O41: Ativo | P41: Alta
A42: L033 | B42: Acesso | C42: Faturamento | D42: BR-PE-IPO1-SWA-013 | E42: 10.173.133.17 | F42: SWITCH A | G42: Gi1/0/1 | H42: Faturamento | I42: BR-PE-IPO1-AP6-004 | K42: AP | L42: Gi1/0/1 | M42: WAN | N42: N/I | O42: Ativo | P42: Alta
A43: L034 | B43: Acesso Industrial | C43: Faturamento | D43: BR-PE-IPO1-SWA-013 | E43: 10.173.133.17 | F43: SWITCH A | G43: T1/1/2 | H43: Faturamento | I43: BR-PE-IPO1-SWI-021 | J43: 10.173.133.40 | K43: SWITCH I | L43: Gi1/0/1 | M43: Fibra LX | N43: N/I | O43: Ativo | P43: Alta
A44: L035 | B44: Acesso Industrial | C44: Faturamento | D44: BR-PE-IPO1-SWA-013 | E44: 10.173.133.17 | F44: SWITCH A | G44: T1/1/4 | H44: Faturamento | I44: BR-PE-IPO1-SWI-015 | J44: 10.173.133.18 | K44: SWITCH I | L44: Gi1/0/1 | M44: Fibra LX | N44: N/I | O44: Ativo | P44: Alta
A45: L036 | B45: Distribuicao | C45: Faturamento | D45: BR-PE-IPO1-SWA-013 | E45: 10.173.133.17 | F45: SWITCH A | G45: T1/1/1 | H45: Administrativo | I45: BR-PE-IPO1-SWC-001-02 | J45: 10.173.133.1 | K45: SWITCH C | L45: T2/1/3 | M45: Fibra SX | N45: N/I | O45: Ativo | P45: Alta
A46: L037 | B46: Acesso Industrial | C46: =VLOOKUP(D46,BD_CCTV,5,FALSE) -> PERIMETRO SULDESTE | D46: BR-PE-IPO1-CCTV-CAM - 001 | E46: =VLOOKUP(D46,BD_CCTV,6,FALSE) -> 10.173.138.11 | F46: CAMERA CCTV | G46: T1/1/1 | H46: Perimetro (RP - 01) | I46: BR-PE-IPO1-SWI-015 | J46: 10.173.133.18 | K46: SWITCH I | L46: T2/1/1 | M46: UTP | N46: 1G | O46: Ativo | P46: Alta | R46: =VLOOKUP(D46,BD_CCTV,7,FALSE) -> -839499167457789 | S46: =VLOOKUP(D46,BD_CCTV,8,FALSE) -> -349800387465946
A47: L038 | B47: Acesso Industrial | C47: =VLOOKUP(D47,BD_CCTV,5,FALSE) -> PERIMETRO SULDESTE | D47: BR-PE-IPO1-CCTV-CAM - 002 | E47: =VLOOKUP(D47,BD_CCTV,6,FALSE) -> 10.173.138.12 | F47: CAMERA CCTV | G47: T1/1/2 | H47: Perimetro (RP - 01) | I47: BR-PE-IPO1-SWI-015 | J47: 10.173.133.18 | K47: SWITCH I | L47: T2/1/1 | M47: UTP | N47: 1G | O47: Ativo | P47: Alta | R47: =VLOOKUP(D47,BD_CCTV,7,FALSE) -> -839502241334003 | S47: =VLOOKUP(D47,BD_CCTV,8,FALSE) -> -349800597738073
A48: L039 | B48: Acesso Industrial | C48: =VLOOKUP(D48,BD_CCTV,5,FALSE) -> PERIMETRO SULDESTE | D48: BR-PE-IPO1-CCTV-CAM - 003 | E48: =VLOOKUP(D48,BD_CCTV,6,FALSE) -> 10.173.138.13 | F48: CAMERA CCTV | G48: T1/1/3 | H48: Perimetro (RP - 01) | I48: BR-PE-IPO1-SWI-015 | J48: 10.173.133.18 | K48: SWITCH I | L48: T2/1/1 | M48: UTP | N48: 1G | O48: Ativo | P48: Alta | R48: =VLOOKUP(D48,BD_CCTV,7,FALSE) -> -839496723611927 | S48: =VLOOKUP(D48,BD_CCTV,8,FALSE) -> -349800818450684
A49: L040 | B49: Acesso Industrial | C49: =VLOOKUP(D49,BD_CCTV,5,FALSE) -> PERIMETRO SUL | D49: BR-PE-IPO1-CCTV-CAM - 004 | E49: =VLOOKUP(D49,BD_CCTV,6,FALSE) -> 10.173.138.14 | F49: CAMERA CCTV | G49: T1/1/4 | H49: Perimetro (RP - 01) | I49: BR-PE-IPO1-SWI-015 | J49: 10.173.133.18 | K49: SWITCH I | L49: T2/1/1 | M49: UTP | N49: 1G | O49: Ativo | P49: Alta | R49: =VLOOKUP(D49,BD_CCTV,7,FALSE) -> -83951250895223 | S49: =VLOOKUP(D49,BD_CCTV,8,FALSE) -> -349806546756134
A50: L041 | B50: Acesso Industrial | C50: =VLOOKUP(D50,BD_CCTV,5,FALSE) -> PERIMETRO SUL | D50: BR-PE-IPO1-CCTV-CAM - 005 | E50: =VLOOKUP(D50,BD_CCTV,6,FALSE) -> 10.173.138.15 | F50: CAMERA CCTV | G50: T1/1/5 | H50: Perimetro (RP - 01) | I50: BR-PE-IPO1-SWI-015 | J50: 10.173.133.18 | K50: SWITCH I | L50: T2/1/1 | M50: UTP | N50: 1G | O50: Ativo | P50: Alta | R50: =VLOOKUP(D50,BD_CCTV,7,FALSE) -> -839512792667867 | S50: =VLOOKUP(D50,BD_CCTV,8,FALSE) -> -349806404285613
A51: L042 | B51: Acesso Industrial | C51: =VLOOKUP(D51,BD_CCTV,5,FALSE) -> PERIMETRO SUL | D51: BR-PE-IPO1-CCTV-CAM - 006 | E51: =VLOOKUP(D51,BD_CCTV,6,FALSE) -> 10.173.138.16 | F51: CAMERA CCTV | G51: T1/1/1 | H51: Perimetro (RP - 02) | I51: BR-PE-IPO1-SWI-018 | J51: 10.173.133.21 | K51: SWITCH I | L51: T2/1/1 | M51: UTP | N51: 1G | O51: Ativo | P51: Alta | R51: =VLOOKUP(D51,BD_CCTV,7,FALSE) -> -839518832756237 | S51: =VLOOKUP(D51,BD_CCTV,8,FALSE) -> -349810999661202
A52: L043 | B52: Acesso Industrial | C52: =VLOOKUP(D52,BD_CCTV,5,FALSE) -> PERIMETRO SUL | D52: BR-PE-IPO1-CCTV-CAM - 007 | E52: =VLOOKUP(D52,BD_CCTV,6,FALSE) -> 10.173.138.17 | F52: CAMERA CCTV | G52: T1/1/2 | H52: Perimetro (RP - 02) | I52: BR-PE-IPO1-SWI-018 | J52: 10.173.133.21 | K52: SWITCH I | L52: T2/1/1 | M52: UTP | N52: 1G | O52: Ativo | P52: Alta | R52: =VLOOKUP(D52,BD_CCTV,7,FALSE) -> -839518647189521 | S52: =VLOOKUP(D52,BD_CCTV,8,FALSE) -> -349811145036329
A53: L044 | B53: Acesso Industrial | C53: =VLOOKUP(D53,BD_CCTV,5,FALSE) -> PERIMETRO SUL | D53: BR-PE-IPO1-CCTV-CAM - 008 | E53: =VLOOKUP(D53,BD_CCTV,6,FALSE) -> 10.173.138.18 | F53: CAMERA CCTV | G53: T1/1/3 | H53: Perimetro (RP - 02) | I53: BR-PE-IPO1-SWI-018 | J53: 10.173.133.21 | K53: SWITCH I | L53: T2/1/1 | M53: UTP | N53: 1G | O53: Ativo | P53: Alta | R53: =VLOOKUP(D53,BD_CCTV,7,FALSE) -> -8395277132448 | S53: =VLOOKUP(D53,BD_CCTV,8,FALSE) -> -349817039800978
A54: L045 | B54: Acesso Industrial | C54: =VLOOKUP(D54,BD_CCTV,5,FALSE) -> PERIMETRO SUL | D54: BR-PE-IPO1-CCTV-CAM - 009 | E54: =VLOOKUP(D54,BD_CCTV,6,FALSE) -> 10.173.138.19 | F54: CAMERA CCTV | G54: T1/1/4 | H54: Perimetro (RP - 02) | I54: BR-PE-IPO1-SWI-018 | J54: 10.173.133.21 | K54: SWITCH I | L54: T2/1/1 | M54: UTP | N54: 1G | O54: Ativo | P54: Alta | R54: =VLOOKUP(D54,BD_CCTV,7,FALSE) -> -839527784720926 | S54: =VLOOKUP(D54,BD_CCTV,8,FALSE) -> -349817172109514
A55: L046 | B55: Acesso Industrial | C55: =VLOOKUP(D55,BD_CCTV,5,FALSE) -> PERIMETRO SUL | D55: BR-PE-IPO1-CCTV-CAM - 010 | E55: =VLOOKUP(D55,BD_CCTV,6,FALSE) -> 10.173.138.20 | F55: CAMERA CCTV | G55: T1/1/5 | H55: Perimetro (RP - 02) | I55: BR-PE-IPO1-SWI-018 | J55: 10.173.133.21 | K55: SWITCH I | L55: T2/1/1 | M55: UTP | N55: 1G | O55: Ativo | P55: Alta | R55: =VLOOKUP(D55,BD_CCTV,7,FALSE) -> -839545104624989 | S55: =VLOOKUP(D55,BD_CCTV,8,FALSE) -> -349823510937675
A56: L047 | B56: Acesso Industrial | C56: =VLOOKUP(D56,BD_CCTV,5,FALSE) -> PERIMETRO SUL | D56: BR-PE-IPO1-CCTV-CAM - 011 | E56: =VLOOKUP(D56,BD_CCTV,6,FALSE) -> 10.173.138.21 | F56: CAMERA CCTV | G56: T1/1/6 | H56: Perimetro (RP - 02) | I56: BR-PE-IPO1-SWI-018 | J56: 10.173.133.21 | K56: SWITCH I | L56: T2/1/1 | M56: UTP | N56: 1G | O56: Ativo | P56: Alta | R56: =VLOOKUP(D56,BD_CCTV,7,FALSE) -> -839545565775499 | S56: =VLOOKUP(D56,BD_CCTV,8,FALSE) -> -349824040853502
A57: L048 | B57: Acesso Industrial | C57: =VLOOKUP(D57,BD_CCTV,5,FALSE) -> PERIMETRO SUL | D57: BR-PE-IPO1-CCTV-CAM - 012 | E57: =VLOOKUP(D57,BD_CCTV,6,FALSE) -> 10.173.138.22 | F57: CAMERA CCTV | G57: T1/1/1 | H57: Perimetro (RP - 03) | I57: BR-PE-IPO1-SWI-016 | J57: 10.173.133.19 | K57: SWITCH I | L57: T2/1/1 | M57: UTP | N57: 1G | O57: Ativo | P57: Alta | R57: =VLOOKUP(D57,BD_CCTV,7,FALSE) -> -83955100187335 | S57: =VLOOKUP(D57,BD_CCTV,8,FALSE) -> -349827176533504
... A111: L102 | B111: Acesso Industrial | C111: =VLOOKUP(D111,BD_CCTV,5,FALSE) -> SAIDA BALANÇA | D111: BR-PE-IPO1-CCTV-CAM - 069 | E111: =VLOOKUP(D111,BD_CCTV,6,FALSE) -> 10.173.138.79 | F111: CAMERA CCTV | G111: T1/1/4 | H111: Perimetro | I111: BR-PE-IPO1-SWI-021 | J111: 10.173.133.40 | K111: SWITCH I | L111: T2/1/1 | M111: UTP | N111: 1G | O111: Ativo | P111: Alta | R111: =VLOOKUP(D111,BD_CCTV,7,FALSE) -> -839507339335804 | S111: =VLOOKUP(D111,BD_CCTV,8,FALSE) -> -349807447072832

Sheet Ativos
A1: Ativos identificados na topologia
A3: Ativo | B3: Tipo | C3: Setor | D3: IP | E3: Modelo / Familia | F3: Papel | G3: Confianca | H3: Observacoes
A4: BR-PE-IP01-AP-001 | B4: Access Point | C4: Administrativo | D4: N/I | E4: C9115AXI-2 | F4: Wi-Fi | G4: Alta | H4: Porta Gi1/0/9
A5: BR-PE-IP01-AP-002 | B5: Access Point | C5: Administrativo | D5: N/I | E5: C9115AXI-2 | F5: Wi-Fi | G5: Média | H5: Porta pouco legível
A6: BR-PE-IP01-AP-003 | B6: Access Point | C6: Administrativo | D6: N/I | E6: C9115AXI-2 | F6: Wi-Fi | G6: Média | H6: Porta pouco legível
A7: BR-PE-IP01-AP-004 | B7: Access Point | C7: Faturamento | D7: N/I | E7: C9115AXI-2 | F7: Wi-Fi | G7: Média | H7: Porta Gi1/0/1?
A8: BR-PE-IP01-AP-005 | B8: Access Point | C8: DPA | D8: N/I | E8: C9115AXI-2 | F8: Wi-Fi | G8: Alta | H8: Porta Gi1/0/21
A9: BR-PE-IP01-AP-006 | B9: Access Point | C9: Laboratorio | D9: N/I | E9: C9115AXI-2 | F9: Wi-Fi | G9: Média | H9: Porta pouco legível
A10: BR-PE-IP01-AP-007 | B10: Access Point | C10: Laboratorio | D10: N/I | E10: C9115AXI-2 | F10: Wi-Fi | G10: Média | H10: Porta pouco legível
A11: BR-PE-IP01-AP-008 | B11: Access Point | C11: Sup. Moagem | D11: N/I | E11: C9115AXI-2 | F11: Wi-Fi | G11: Alta | H11: Porta Gi1/0/11
A12: BR-PE-IP01-AP-009 | B12: Access Point | C12: Laboratorio | D12: N/I | E12: C9115AXI-2 | F12: Wi-Fi | G12: Alta | H12: Porta Gi1/0/24
A13: BR-PE-IP01-AP-010 | B13: Access Point | C13: Laboratorio | D13: N/I | E13: C9115AXI-2 | F13: Wi-Fi | G13: Média | H13: Porta pouco legível
A14: BR-PE-IP01-RTC-001 | B14: Roteador | C14: Core | D14: 189.23.196.2 | E14: N/I | F14: Borda principal | G14: Alta | H14: Ligado ao PRI INTERNET e SCE-001
... A30: BR-PE-IP01-SWI-014 | B30: Switch Industrial | C30: Portaria | D30: 10.173.133.25 | E30: IE-1000-8P2S-LM | F30: Acesso industrial | G30: Alta | H30: 165
A31: BR-PE-IP01-SWI-015 | B31: Switch Industrial | C31: Faturamento | D31: 10.173.133.18 | E31: IE-1000-8P2S-LM | F31: Acesso industrial | G31: Alta
A32: BR-PE-IP01-SWI-016 | B32: Switch Industrial | C32: Subestacao | D32: 10.173.133.19 | E32: IE-1000-8P2S-LM | F32: Acesso industrial | G32: Alta | H32: 165
A33: BR-PE-IP01-SWI-017 | B33: Switch Industrial | C33: Portaria | D33: 10.173.133.20 | E33: IE-1000-8P2S-LM | F33: Acesso industrial | G33: Alta | H33: 165
A34: BR-PE-IP01-SWI-018 | B34: Switch Industrial | C34: Subestacao | D34: 10.173.133.21 | E34: IE-1000-8P2S-LM | F34: Acesso industrial | G34: Alta | H34: 165
A35: BR-PE-IP01-SWI-019 | B35: Switch Industrial | C35: Sala de Servidores | D35: 10.173.133.22 | E35: IE-1000-8P2S-LM | F35: Acesso industrial | G35: Alta | H35: 165
A36: BR-PE-IP01-SWI-021 | B36: Switch Industrial | C36: Faturamento | D36: 10.173.133.40 | E36: IE-1000-8P2S-LM | F36: Acesso industrial | G36: Alta | H36: 165
A37: HUB_PLANET_ESTEIRA | B37: Hub / Equipamento | C37: Laboratorio | D37: N/I | E37: PLANET | F37: Esteira / campo | G37: Média | H37: Ligado via conversor
A38: BR-PE-IPO1-CCTV-CAM - 001 | B38: CAMERA_CFTV | C38: =VLOOKUP(A38,BD_CCTV,5,FALSE) -> PERIMETRO SULDESTE | D38: =VLOOKUP(A38,BD_CCTV,6,FALSE) -> 10.173.138.11 | E38: IE-1000-8P2S-LM | F38: Switch Industrial | G38: Alta
A39: BR-PE-IPO1-CCTV-CAM - 002 | B39: CAMERA_CFTV | C39: =VLOOKUP(A39,BD_CCTV,5,FALSE) -> PERIMETRO SULDESTE | D39: =VLOOKUP(A39,BD_CCTV,6,FALSE) -> 10.173.138.12 | E39: IE-1000-8P2S-LM | F39: Switch Industrial | G39: Alta
A40: BR-PE-IPO1-CCTV-CAM - 003 | B40: CAMERA_CFTV | C40: =VLOOKUP(A40,BD_CCTV,5,FALSE) -> PERIMETRO SULDESTE | D40: =VLOOKUP(A40,BD_CCTV,6,FALSE) -> 10.173.138.13 | E40: IE-1000-8P2S-LM | F40: Switch Industrial | G40: Alta
A41: BR-PE-IPO1-CCTV-CAM - 004 | B41: CAMERA_CFTV | C41: =VLOOKUP(A41,BD_CCTV,5,FALSE) -> PERIMETRO SUL | D41: =VLOOKUP(A41,BD_CCTV,6,FALSE) -> 10.173.138.14 | E41: IE-1000-8P2S-LM | F41: Switch Industrial | G41: Alta
A42: BR-PE-IPO1-CCTV-CAM - 005 | B42: CAMERA_CFTV | C42: =VLOOKUP(A42,BD_CCTV,5,FALSE) -> PERIMETRO SUL | D42: =VLOOKUP(A42,BD_CCTV,6,FALSE) -> 10.173.138.15 | E42: IE-1000-8P2S-LM | F42: Switch Industrial | G42: Alta
A43: BR-PE-IPO1-CCTV-CAM - 006 | B43: CAMERA_CFTV | C43: =VLOOKUP(A43,BD_CCTV,5,FALSE) -> PERIMETRO SUL | D43: =VLOOKUP(A43,BD_CCTV,6,FALSE) -> 10.173.138.16 | E43: IE-1000-8P2S-LM | F43: Switch Industrial | G43: Alta
A44: BR-PE-IPO1-CCTV-CAM - 007 | B44: CAMERA_CFTV | C44: =VLOOKUP(A44,BD_CCTV,5,FALSE) -> PERIMETRO SUL | D44: =VLOOKUP(A44,BD_CCTV,6,FALSE) -> 10.173.138.17 | E44: IE-1000-8P2S-LM | F44: Switch Industrial | G44: Alta
A45: BR-PE-IPO1-CCTV-CAM - 008 | B45: CAMERA_CFTV | C45: =VLOOKUP(A45,BD_CCTV,5,FALSE) -> PERIMETRO SUL | D45: =VLOOKUP(A45,BD_CCTV,6,FALSE) -> 10.173.138.18 | E45: IE-1000-8P2S-LM | F45: Switch Industrial | G45: Alta
A46: BR-PE-IPO1-CCTV-CAM - 009 | B46: CAMERA_CFTV | C46: =VLOOKUP(A46,BD_CCTV,5,FALSE) -> PERIMETRO SUL | D46: =VLOOKUP(A46,BD_CCTV,6,FALSE) -> 10.173.138.19 | E46: IE-1000-8P2S-LM | F46: Switch Industrial | G46: Alta
A47: BR-PE-IPO1-CCTV-CAM - 010 | B47: CAMERA_CFTV | C47: =VLOOKUP(A47,BD_CCTV,5,FALSE) -> PERIMETRO SUL | D47: =VLOOKUP(A47,BD_CCTV,6,FALSE) -> 10.173.138.20 | E47: IE-1000-8P2S-LM | F47: Switch Industrial | G47: Alta
A48: BR-PE-IPO1-CCTV-CAM - 011 | B48: CAMERA_CFTV | C48: =VLOOKUP(A48,BD_CCTV,5,FALSE) -> PERIMETRO SUL | D48: =VLOOKUP(A48,BD_CCTV,6,FALSE) -> 10.173.138.21 | E48: IE-1000-8P2S-LM | F48: Switch Industrial | G48: Alta
A49: BR-PE-IPO1-CCTV-CAM - 012 | B49: CAMERA_CFTV | C49: =VLOOKUP(A49,BD_CCTV,5,FALSE) -> PERIMETRO SUL | D49: =VLOOKUP(A49,BD_CCTV,6,FALSE) -> 10.173.138.22 | E49: IE-1000-8P2S-LM | F49: Switch Industrial | G49: Alta
... A74: BR-PE-IPO1-CCTV-CAM - 037 | B74: CAMERA_CFTV | C74: =VLOOKUP(A74,BD_CCTV,5,FALSE) -> PERIMETRO LESTE | D74: =VLOOKUP(A74,BD_CCTV,6,FALSE) -> 10.173.138.47 | E74: IE-1000-8P2S-LM | F74: Switch Industrial | G74: Alta
A75: BR-PE-IPO1-CCTV-CAM - 038 | B75: CAMERA_CFTV | C75: =VLOOKUP(A75,BD_CCTV,5,FALSE) -> ACESSO SL SERVIDOR | D75: =VLOOKUP(A75,BD_CCTV,6,FALSE) -> 10.173.138.48 | F75: Switch Industrial | G75: Alta
A76: BR-PE-IPO1-CCTV-CAM - 039 | B76: CAMERA_CFTV | C76: =VLOOKUP(A76,BD_CCTV,5,FALSE) -> ACESSO SUBSTAÇÃO 01 | D76: =VLOOKUP(A76,BD_CCTV,6,FALSE) -> 10.173.138.49 | F76: Switch Industrial | G76: Alta
A77: BR-PE-IPO1-CCTV-CAM - 040 | B77: CAMERA_CFTV | C77: =VLOOKUP(A77,BD_CCTV,5,FALSE) -> ACESSO SUBSTAÇÃO | D77: =VLOOKUP(A77,BD_CCTV,6,FALSE) -> 10.173.138.50 | F77: Switch Industrial | G77: Alta
A78: BR-PE-IPO1-CCTV-CAM - 041 | B78: CAMERA_CFTV | C78: =VLOOKUP(A78,BD_CCTV,5,FALSE) -> ACESSO ARMAZEM | D78: =VLOOKUP(A78,BD_CCTV,6,FALSE) -> 10.173.138.51 | F78: Switch Industrial | G78: Alta
A79: BR-PE-IPO1-CCTV-CAM - 042 | B79: CAMERA_CFTV | C79: =VLOOKUP(A79,BD_CCTV,5,FALSE) -> ADMINISTRATIVO | D79: =VLOOKUP(A79,BD_CCTV,6,FALSE) -> 10.173.138.52 | F79: Switch Industrial | G79: Alta
A80: BR-PE-IPO1-CCTV-CAM - 043 | B80: CAMERA_CFTV | C80: =VLOOKUP(A80,BD_CCTV,5,FALSE) -> 1 ANDAR LIMPEZA | D80: =VLOOKUP(A80,BD_CCTV,6,FALSE) -> 10.173.138.53 | F80: Switch Industrial | G80: Alta
A81: BR-PE-IPO1-CCTV-CAM - 044 | B81: CAMERA_CFTV | C81: =VLOOKUP(A81,BD_CCTV,5,FALSE) -> ACESSO A PORTARIA | D81: =VLOOKUP(A81,BD_CCTV,6,FALSE) -> 10.173.138.54 | F81: Switch Industrial | G81: Alta
A82: BR-PE-IPO1-CCTV-CAM - 045 | B82: CAMERA_CFTV | C82: =VLOOKUP(A82,BD_CCTV,5,FALSE) -> ACESSO A SALA CFTV | D82: =VLOOKUP(A82,BD_CCTV,6,FALSE) -> 10.173.138.55 | F82: Switch Industrial | G82: Alta
A83: BR-PE-IPO1-CCTV-CAM - 046 | B83: CAMERA_CFTV | C83: =VLOOKUP(A83,BD_CCTV,5,FALSE) -> CANCELA ENTRADA E SAIDA | D83: =VLOOKUP(A83,BD_CCTV,6,FALSE) -> 10.173.138.56 | F83: Switch Industrial | G83: Alta
A84: BR-PE-IPO1-CCTV-CAM - 047 | B84: CAMERA_CFTV | C84: =VLOOKUP(A84,BD_CCTV,5,FALSE) -> PATIO SILOS | D84: =VLOOKUP(A84,BD_CCTV,6,FALSE) -> 10.173.138.57 | F84: Switch Industrial | G84: Alta
A85: BR-PE-IPO1-CCTV-CAM - 048 | B85: CAMERA_CFTV | C85: =VLOOKUP(A85,BD_CCTV,5,FALSE) -> ESTEIRA | D85: =VLOOKUP(A85,BD_CCTV,6,FALSE) -> 10.173.138.58 | F85: Switch Industrial | G85: Alta
A86: BR-PE-IPO1-CCTV-CAM - 049 | B86: CAMERA_CFTV | C86: =VLOOKUP(A86,BD_CCTV,5,FALSE) -> ESTEIRA | D86: =VLOOKUP(A86,BD_CCTV,6,FALSE) -> 10.173.138.59 | F86: Switch Industrial | G86: Alta
... A98: BR-PE-IPO1-CCTV-CAM - 061 | B98: CAMERA_CFTV | C98: =VLOOKUP(A98,BD_CCTV,5,FALSE) -> REFEITORIO ACESSO A COZINHA | D98: =VLOOKUP(A98,BD_CCTV,6,FALSE) -> 10.173.138.71 | F98: Switch Industrial | G98: Alta

Sheet Planilha1
A1: BR-PE-IPO1-CCTV-
A2: =$A$1&C2 -> BR-PE-IPO1-CCTV-CAM - 001 | B2: CAM - 001 ( PERIMETRO SULDESTE) | C2: =MID(B2,1,9) -> CAM - 001 | D2: 1 | E2: PERIMETRO SULDESTE | F2: 10.173.138.11 | G2: -839499167457789 | H2: -349800387465946
A3: =$A$1&C3 -> BR-PE-IPO1-CCTV-CAM - 002 | B3: CAM - 002 ( PERIMETRO SULDESTE) | C3: =MID(B3,1,9) -> CAM - 002 | D3: 2 | E3: PERIMETRO SULDESTE | F3: 10.173.138.12 | G3: -839502241334003 | H3: -349800597738073
A4: =$A$1&C4 -> BR-PE-IPO1-CCTV-CAM - 003 | B4: CAM - 003 ( PERIMETRO SULDESTE) | C4: =MID(B4,1,9) -> CAM - 003 | D4: 3 | E4: PERIMETRO SULDESTE | F4: 10.173.138.13 | G4: -839496723611927 | H4: -349800818450684
A5: =$A$1&C5 -> BR-PE-IPO1-CCTV-CAM - 004 | B5: CAM - 004 ( PERIMETRO SUL) | C5: =MID(B5,1,9) -> CAM - 004 | D5: 4 | E5: PERIMETRO SUL | F5: 10.173.138.14 | G5: -83951250895223 | H5: -349806546756134
A6: =$A$1&C6 -> BR-PE-IPO1-CCTV-CAM - 005 | B6: CAM - 005 ( PERIMETRO SUL) | C6: =MID(B6,1,9) -> CAM - 005 | D6: 5 | E6: PERIMETRO SUL | F6: 10.173.138.15 | G6: -839512792667867 | H6: -349806404285613
A7: =$A$1&C7 -> BR-PE-IPO1-CCTV-CAM - 006 | B7: CAM - 006 ( PERIMETRO SUL) | C7: =MID(B7,1,9) -> CAM - 006 | D7: 6 | E7: PERIMETRO SUL | F7: 10.173.138.16 | G7: -839518832756237 | H7: -349810999661202
A8: =$A$1&C8 -> BR-PE-IPO1-CCTV-CAM - 007 | B8: CAM - 007 ( PERIMETRO SUL) | C8: =MID(B8,1,9) -> CAM - 007 | D8: 7 | E8: PERIMETRO SUL | F8: 10.173.138.17 | G8: -839518647189521 | H8: -349811145036329
A9: =$A$1&C9 -> BR-PE-IPO1-CCTV-CAM - 008 | B9: CAM - 008 ( PERIMETRO SUL ) | C9: =MID(B9,1,9) -> CAM - 008 | D9: 8 | E9: PERIMETRO SUL | F9: 10.173.138.18 | G9: -8395277132448 | H9: -349817039800978
A10: =$A$1&C10 -> BR-PE-IPO1-CCTV-CAM - 009 | B10: CAM - 009 ( PERIMETRO SUL ) | C10: =MID(B10,1,9) -> CAM - 009 | D10: 9 | E10: PERIMETRO SUL | F10: 10.173.138.19 | G10: -839527784720926 | H10: -349817172109514
A11: =$A$1&C11 -> BR-PE-IPO1-CCTV-CAM - 010 | B11: CAM - 010 ( PERIMETRO SUL ) | C11: =MID(B11,1,9) -> CAM - 010 | D11: 10 | E11: PERIMETRO SUL | F11: 10.173.138.20 | G11: -839545104624989 | H11: -349823510937675
A12: =$A$1&C12 -> BR-PE-IPO1-CCTV-CAM - 011 | B12: CAM - 011 ( PERIMETRO SUL ) | C12: =MID(B12,1,9) -> CAM - 011 | D12: 11 | E12: PERIMETRO SUL | F12: 10.173.138.21 | G12: -839545565775499 | H12: -349824040853502
A13: =$A$1&C13 -> BR-PE-IPO1-CCTV-CAM - 012 | B13: CAM - 012 ( PERIMETRO SUL ) | C13: =MID(B13,1,9) -> CAM - 012 | D13: 12 | E13: PERIMETRO SUL | F13: 10.173.138.22 | G13: -83955100187335 | H13: -349827176533504
... A67: =$A$1&C67 -> BR-PE-IPO1-CCTV-CAM - 069 | B67: CAM - 069 ( SAIDA BALANÇA ) | C67: =MID(B67,1,9) -> CAM - 069 | D67: 69 | E67: SAIDA BALANÇA | F67: 10.173.138.79 | G67: -839507339335804 | H67: -349807447072832
A68: =$A$1&C68 -> BR-PE-IPO1-CCTV-CAM - SAL | B68: CAM - SALA SERVIDOR | C68: =MID(B68,1,9) -> CAM - SAL | E68: SALA SERVIDOR | G68: -839446725591903 | H68: -349806877315271

Sheet Resumo
A1: Resumo operacional
A3: Indicador | B3: Valor | C3: Observacao | D3: Status
A4: Total de ligacoes | B4: =COUNTA(Ligacoes!A9:A45) -> 37 | C4: Linhas uteis na aba Ligacoes | D4: OK
A5: Total de ativos | B5: =COUNTA(Ativos!A4:A37) -> 34 | C5: Ativos identificados na imagem | D5: OK
A6: Ligações Alta confiança | B6: =COUNTIF(Ligacoes!P:P,"Alta") -> 103 | C6: Leitura nitida na imagem | D6: OK
A7: Ligações Media confiança | B7: =COUNTIF(Ligacoes!P:P,"Média") -> 0 | C7: Exige validacao de portas/traçado | D7: Revisar
A8: Ligações Baixa confiança | B8: =COUNTIF(Ligacoes!P:P,"Baixa") -> 0 | C8: Hipoteses visuais; conferir no fonte original | D8: Revisar
A9: Links Fibra LX | B9: =COUNTIF(Ligacoes!M9:M45,"Fibra LX") -> 8 | C9: Backbone/acesso em verde | D9: OK
A10: Links Fibra SX | B10: =COUNTIF(Ligacoes!M9:M45,"Fibra SX") -> 3 | C10: Backbone/acesso em azul | D10: OK
A11: Links UTP | B11: =COUNTIF(Ligacoes!M9:M45,"UTP") -> 12 | C11: Acessos em vermelho | D11: OK
A12: Switches industriais | B12: =COUNTIF(Ativos!B:B,"Switch Industrial") -> 7 | C12: Ativos industriais identificados | D12: OK
A13: Access points | B13: =COUNTIF(Ativos!B:B,"Access Point") -> 10 | C13: APs identificados | D13: OK
A16: Ligações por setor (fórmula)
A17: Setor | B17: Qtd Links Origem | C17: Qtd Links Destino | D17: Qtd Ativos
A18: Administrativo | B18: =COUNTIF(Ligacoes!C:C,A18) -> 6 | C18: =COUNTIF(Ligacoes!H:H,A18) -> 13 | D18: =COUNTIF(Ativos!C:C,A18) -> 6
A19: Sup. Moagem | B19: =COUNTIF(Ligacoes!C:C,A19) -> 2 | C19: =COUNTIF(Ligacoes!H:H,A19) -> 2 | D19: =COUNTIF(Ativos!C:C,A19) -> 2
A20: Laboratorio | B20: =COUNTIF(Ligacoes!C:C,A20) -> 6 | C20: =COUNTIF(Ligacoes!H:H,A20) -> 6 | D20: =COUNTIF(Ativos!C:C,A20) -> 6
A21: DPA | B21: =COUNTIF(Ligacoes!C:C,A21) -> 2 | C21: =COUNTIF(Ligacoes!H:H,A21) -> 6 | D21: =COUNTIF(Ativos!C:C,A21) -> 2
A22: Portaria | B22: =COUNTIF(Ligacoes!C:C,A22) -> 3 | C22: =COUNTIF(Ligacoes!H:H,A22) -> 7 | D22: =COUNTIF(Ativos!C:C,A22) -> 3
A23: Sala de Servidores | B23: =COUNTIF(Ligacoes!C:C,A23) -> 2 | C23: =COUNTIF(Ligacoes!H:H,A23) -> 3 | D23: =COUNTIF(Ativos!C:C,A23) -> 2
A24: Refeitorio | B24: =COUNTIF(Ligacoes!C:C,A24) -> 2 | C24: =COUNTIF(Ligacoes!H:H,A24) -> 2 | D24: =COUNTIF(Ativos!C:C,A24) -> 2
A25: Subestacao | B25: =COUNTIF(Ligacoes!C:C,A25) -> 3 | C25: =COUNTIF(Ligacoes!H:H,A25) -> 4 | D25: =COUNTIF(Ativos!C:C,A25) -> 3
A26: Faturamento | B26: =COUNTIF(Ligacoes!C:C,A26) -> 4 | C26: =COUNTIF(Ligacoes!H:H,A26) -> 4 | D26: =COUNTIF(Ativos!C:C,A26) -> 4
A27: Core | B27: =COUNTIF(Ligacoes!C:C,A27) -> 6 | C27: =COUNTIF(Ligacoes!H:H,A27) -> 8 | D27: =COUNTIF(Ativos!C:C,A27) -> 6
A28: Perimetro | B28: 6 | C28: =COUNTIF(Ligacoes!H:H,A28) -> 4
A29: Esteira | B29: 3 | C29: =COUNTIF(Ligacoes!H:H,A29) -> 0

Sheet Pendencias
A1: Pendências e validações recomendadas
A3: Tema | B3: Item | C3: Motivo | D3: Acao recomendada | E3: Prioridade
A4: Portas | B4: AP-002 / AP-003 / AP-006 / AP-007 / AP-010 | C4: Texto pequeno na imagem | D4: Conferir na topologia fonte ou diretamente no switch | E4: Alta
A5: Backbone | B5: SWA-005 <-> SWA-013 | C5: Linha azul continua mas sem identificação inequívoca das pontas | D5: Validar no desenho original / Visio / CAD | E5: Alta
A6: Core | B6: Portas entre SCE-001 e SWC-001 | C6: Rótulo parcial (Gi1/1/1? / Gi1/0/9?) | D6: Confirmar em documentação ou CLI | E6: Média
A7: Indústria | B7: Portas exatas em SW-014 / SW-017 / SW-019 | C7: Rótulos visíveis parcialmente | D7: Confirmar em campo | E7: Média
A8: Inventário | B8: IP do SW-015 | C8: Um dígito pode estar ilegível | D8: Confirmar no ativo | E8: Média

Sheet TABELA_D
A3: Tipo | B3: Setor | C3: Ativo | D3: IP | E3: Google Maps
A4: CAMERA_CFTV | B4: 1 ANDAR LIMPEZA | C4: BR-PE-IPO1-CCTV-CAM - 043 | D4: 10.173.138.53 | E4: https://www.google.com/maps?q=-8.393733535961838,-34.98147415254873
B5: ACESSO A PORTARIA | C5: BR-PE-IPO1-CCTV-CAM - 044 | D5: 10.173.138.54 | E5: https://www.google.com/maps?q=-8.392973178228337,-34.98058419457563
B6: ACESSO A SALA CFTV | C6: BR-PE-IPO1-CCTV-CAM - 045 | D6: 10.173.138.55 | E6: https://www.google.com/maps?q=-8.393159608830874,-34.9806172327275
B7: ACESSO A SUBSTAÇÃO 2 | C7: BR-PE-IPO1-CCTV-CAM - 055 | D7: 10.173.138.65 | E7: https://www.google.com/maps?q=-8.393928194965712,-34.98187531103486
B8: ACESSO ARMAZEM | C8: BR-PE-IPO1-CCTV-CAM - 041 | D8: 10.173.138.51 | E8: https://www.google.com/maps?q=-8.39456529245095,-34.98217458405846
B9: ACESSO SL SERVIDOR | C9: BR-PE-IPO1-CCTV-CAM - 038 | D9: 10.173.138.48 | E9: https://www.google.com/maps?q=-8.39443627446032,-34.98070909752835
B10: ACESSO SUBSTAÇÃO | C10: BR-PE-IPO1-CCTV-CAM - 040 | D10: 10.173.138.50 | E10: https://www.google.com/maps?q=-8.395124251859327,-34.98146750151291
B11: ACESSO SUBSTAÇÃO 01 | C11: BR-PE-IPO1-CCTV-CAM - 039 | D11: 10.173.138.49 | E11: https://www.google.com/maps?q=-8.395225725979795,-34.98137599534356
B12: ADMINISTRATIVO | C12: BR-PE-IPO1-CCTV-CAM - 042 | D12: 10.173.138.52 | E12: https://www.google.com/maps?q=-8.394137301612771,-34.98206400222836
B13: CANCELA ENTRADA E SAIDA | C13: BR-PE-IPO1-CCTV-CAM - 046 | D13: 10.173.138.56 | E13: https://www.google.com/maps?q=-8.392996699441309,-34.98049116710096
B14: ENTRADA BALANÇA | C14: BR-PE-IPO1-CCTV-CAM - 066 | D14: 10.173.138.76 | E14: https://www.google.com/maps?q=-8.394937021059343,-34.98075268662764
C15: BR-PE-IPO1-CCTV-CAM - 067 | D15: 10.173.138.77 | E15: https://www.google.com/maps?q=-8.39500289397036,-34.9810900746526
B16: ENTRADA DA LOGISTICA | C16: BR-PE-IPO1-CCTV-CAM - 059 | D16: 10.173.138.68 | E16: https://www.google.com/maps?q=-8.394450571026178,-34.98217141920166
B17: ENTRADA DA PRODUÇÃO | C17: BR-PE-IPO1-CCTV-CAM - 058 | D17: 10.173.138.67 | E17: https://www.google.com/maps?q=-8.393863096691657,-34.98196909780188
B18: ESTEIRA | C18: BR-PE-IPO1-CCTV-CAM - 048 | D18: 10.173.138.58 | E18: https://www.google.com/maps?q=-8.39337123821898,-34.98140494740467
C19: BR-PE-IPO1-CCTV-CAM - 049 | D19: 10.173.138.59 | E19: https://www.google.com/maps?q=-8.392665547885436,-34.98144737448115
C20: BR-PE-IPO1-CCTV-CAM - 051 | D20: 10.173.138.61 | E20: https://www.google.com/maps?q=-8.39262134663708,-34.98139234603293
C21: BR-PE-IPO1-CCTV-CAM - 052 | D21: 10.173.138.62 | E21: https://www.google.com/maps?q=-8.392196777512515,-34.97293654714609
C22: BR-PE-IPO1-CCTV-CAM - 054 | D22: 10.173.138.64 | E22: https://www.google.com/maps?q=-8.392168221573607,-34.97283917520677
B23: PATIO DPA EXTERNO | C23: BR-PE-IPO1-CCTV-CAM - 062 | D23: 10.173.138.72 | E23: https://www.google.com/maps?q=-8.394565068035355,-34.98219609091107
B24: PATIO DPA INTERNO | C24: BR-PE-IPO1-CCTV-CAM - 063 | D24: 10.173.138.73 | E24: https://www.google.com/maps?q=-8.394407671205915,-34.98202551201338
B25: PATIO SILOS | C25: BR-PE-IPO1-CCTV-CAM - 047 | D25: 10.173.138.57 | E25: https://www.google.com/maps?q=-8.393354884708874,-34.9813679265949
B26: PERIMETRO LESTE | C26: BR-PE-IPO1-CCTV-CAM - 032 | D26: 10.173.138.42 | E26: https://www.google.com/maps?q=-8.393263281649674,-34.98013882270176
C27: BR-PE-IPO1-CCTV-CAM - 033 | D27: 10.173.138.43 | E27: https://www.google.com/maps?q=-8.393302030071697,-34.98013367818771
C28: BR-PE-IPO1-CCTV-CAM - 034 | D28: 10.173.138.44 | E28: https://www.google.com/maps?q=-8.394065136229731,-34.98010436820961
C29: BR-PE-IPO1-CCTV-CAM - 035 | D29: 10.173.138.45 | E29: https://www.google.com/maps?q=-8.394101965843703,-34.98009800665028
C30: BR-PE-IPO1-CCTV-CAM - 036 | D30: 10.173.138.46 | E30: https://www.google.com/maps?q=-8.394515943611621,-34.98007171879629
C31: BR-PE-IPO1-CCTV-CAM - 037 | D31: 10.173.138.47 | E31: https://www.google.com/maps?q=-8.394540709744033,-34.98006934949468
B32: PERIMETRO NOROESTE | C32: BR-PE-IPO1-CCTV-CAM - 020 | D32: 10.173.138.30 | E32: https://www.google.com/maps?q=-8.393096578013173,-34.98290510206887
C33: BR-PE-IPO1-CCTV-CAM - 021 | D33: 10.173.138.31 | E33: https://www.google.com/maps?q=-8.393068228934652,-34.98290723261054
C34: BR-PE-IPO1-CCTV-CAM - 030 | D34: 10.173.138.40 | E34: https://www.google.com/maps?q=-8.39292178708134,-34.98016266238712
C35: BR-PE-IPO1-CCTV-CAM - 031 | D35: 10.173.138.41 | E35: https://www.google.com/maps?q=-8.392973734810406,-34.98014368968758
B36: PERIMETRO NORTE | C36: BR-PE-IPO1-CCTV-CAM - 022 | D36: 10.173.138.32 | E36: https://www.google.com/maps?q=-8.393059770778834,-34.98254222230981
C37: BR-PE-IPO1-CCTV-CAM - 023 | D37: 10.173.138.33 | E37: https://www.google.com/maps?q=-8.393061182253188,-34.98250946123082
C38: BR-PE-IPO1-CCTV-CAM - 024 | D38: 10.173.138.34 | E38: https://www.google.com/maps?q=-8.39304251085938,-34.9819329778252
C39: BR-PE-IPO1-CCTV-CAM - 025 | D39: 10.173.138.35 | E39: https://www.google.com/maps?q=-8.39303047757866,-34.98185658474576
C40: BR-PE-IPO1-CCTV-CAM - 026 | D40: 10.173.138.36 | E40: https://www.google.com/maps?q=-8.392951323427157,-34.98128147101797
C41: BR-PE-IPO1-CCTV-CAM - 027 | D41: 10.173.138.37 | E41: https://www.google.com/maps?q=-8.392950267972045,-34.98126222118234
C42: BR-PE-IPO1-CCTV-CAM - 028 | D42: 10.173.138.38 | E42: https://www.google.com/maps?q=-8.392935323461987,-34.98069289227146
C43: BR-PE-IPO1-CCTV-CAM - 029 | D43: 10.173.138.39 | E43: https://www.google.com/maps?q=-8.392933167973844,-34.98067550009899
B44: PERIMETRO OESTE | C44: BR-PE-IPO1-CCTV-CAM - 014 | D44: 10.173.138.24 | E44: https://www.google.com/maps?q=-8.394845346309204,-34.98279124674493
C45: BR-PE-IPO1-CCTV-CAM - 015 | D45: 10.173.138.25 | E45: https://www.google.com/maps?q=-8.39477872221857,-34.98278956668728
C46: BR-PE-IPO1-CCTV-CAM - 016 | D46: 10.173.138.26 | E46: https://www.google.com/maps?q=-8.394306625289175,-34.98281848037762
C47: BR-PE-IPO1-CCTV-CAM - 017 | D47: 10.173.138.27 | E47: https://www.google.com/maps?q=-8.394229216478715,-34.98281017326516
C48: BR-PE-IPO1-CCTV-CAM - 018 | D48: 10.173.138.28 | E48: https://www.google.com/maps?q=-8.39361967763889,-34.98289150149289
C49: BR-PE-IPO1-CCTV-CAM - 019 | D49: 10.173.138.29 | E49: https://www.google.com/maps?q=-8.39356791936792,-34.98289380280738
B50: PERIMETRO SUL | C50: BR-PE-IPO1-CCTV-CAM - 004 | D50: 10.173.138.14 | E50: https://www.google.com/maps?q=-8.395125089522297,-34.98065467561339
C51: BR-PE-IPO1-CCTV-CAM - 005 | D51: 10.173.138.15 | E51: https://www.google.com/maps?q=-8.395127926678674,-34.98064042856126
C52: BR-PE-IPO1-CCTV-CAM - 006 | D52: 10.173.138.16 | E52: https://www.google.com/maps?q=-8.395188327562373,-34.98109996612019
C53: BR-PE-IPO1-CCTV-CAM - 007 | D53: 10.173.138.17 | E53: https://www.google.com/maps?q=-8.395186471895206,-34.9811145036329
C54: BR-PE-IPO1-CCTV-CAM - 008 | D54: 10.173.138.18 | E54: https://www.google.com/maps?q=-8.395277132448,-34.98170398009776
C55: BR-PE-IPO1-CCTV-CAM - 009 | D55: 10.173.138.19 | E55: https://www.google.com/maps?q=-8.395277847209265,-34.98171721095139
C56: BR-PE-IPO1-CCTV-CAM - 010 | D56: 10.173.138.20 | E56: https://www.google.com/maps?q=-8.395451046249885,-34.98235109376746
C57: BR-PE-IPO1-CCTV-CAM - 011 | D57: 10.173.138.21 | E57: https://www.google.com/maps?q=-8.395455657754992,-34.98240408535023
C58: BR-PE-IPO1-CCTV-CAM - 012 | D58: 10.173.138.22 | E58: https://www.google.com/maps?q=-8.395510018733498,-34.98271765335036
B59: PERIMETRO SULDESTE | C59: BR-PE-IPO1-CCTV-CAM - 001 | D59: 10.173.138.11 | E59: https://www.google.com/maps?q=-8.394991674577888,-34.98003874659464
C60: BR-PE-IPO1-CCTV-CAM - 002 | D60: 10.173.138.12 | E60: https://www.google.com/maps?q=-8.395022413340026,-34.98005977380735
C61: BR-PE-IPO1-CCTV-CAM - 003 | D61: 10.173.138.13 | E61: https://www.google.com/maps?q=-8.39496723611927,-34.98008184506837
B62: PERIMETRO SULDOESTE | C62: BR-PE-IPO1-CCTV-CAM - 013 | D62: 10.173.138.23 | E62: https://www.google.com/maps?q=-8.395517149561515,-34.98277740821111
B63: REFEITORIO | C63: BR-PE-IPO1-CCTV-CAM - 060 | D63: 10.173.138.70 | E63: https://www.google.com/maps?q=-8.39460505491663,-34.98103378991059
C64: BR-PE-IPO1-CCTV-CAM - 061 | D64: 10.173.138.71 | E64: https://www.google.com/maps?q=-8.394624910023708,-34.98093336081025
B65: SAIDA BALANÇA | C65: BR-PE-IPO1-CCTV-CAM - 068 | D65: 10.173.138.78 | E65: https://www.google.com/maps?q=-8.395097646379991,-34.98108083393364
C66: BR-PE-IPO1-CCTV-CAM - 069 | D66: 10.173.138.79 | E66: https://www.google.com/maps?q=-8.395073393358041,-34.98074470728319
B67: SALA CFTV | C67: BR-PE-IPO1-CCTV-CAM - 056 | D67: 10.173.138.66 | E67: https://www.google.com/maps?q=-8.393039524586428,-34.98058567722471
B68: SUBSTAÇÃO ESTEIRA | C68: BR-PE-IPO1-CCTV-CAM - 050 | D68: 10.173.138.60 | E68: https://www.google.com/maps?q=-8.392593551275104,-34.98145937717768
C69: BR-PE-IPO1-CCTV-CAM - 053 | D69: 10.173.138.63 | E69: https://www.google.com/maps?q=-8.39223150563182,-34.9728613716107

Sheet Inventario Visual
A1: BUNGE Brasil - Moinho Ipojuca | Inventario visual de equipamentos
A2: 110 equipamentos | 103 ligacoes | imagens e geolocalizacao incorporadas
A4: Imagem | B4: Ativo | C4: Tipo | D4: Fabricante | E4: Modelo / Familia | F4: Setor | G4: IP | H4: Papel | I4: Dependencias | J4: Porta(s) local(is) | K4: Porta(s) remota(s) | L4: Midia | M4: Links | N4: Latitude | O4: Longitude | P4: Google Maps | Q4: Confianca | R4: Observacoes | S4: Link da imagem
B5: BR-PE-IPO1-AP-001 | C5: ACESS POINT | D5: Cisco | E5: C9115AXI-2 | F5: ADMINISTRATIVO | G5: N/I | H5: Wi-Fi | I5: BR-PE-IPO1-SWA-001-01 | J5: L021: Gi1/0/1 | K5: L021: Gi1/0/6 | L5: WAN | M5: L021 | Q5: Alta | R5: Porta Gi1/0/9 | S5: =HYPERLINK("imagens/AP.png","Abrir imagem") -> Abrir imagem
B6: BR-PE-IPO1-AP-002 | C6: ACESS POINT | D6: Cisco | E6: C9115AXI-2 | F6: ADMINISTRATIVO | G6: N/I | H6: Wi-Fi | I6: BR-PE-IPO1-SWA-001-02 | J6: L022: Gi1/0/1 | K6: L022: Gi2/0/9 | L6: WAN | M6: L022 | Q6: Média | R6: Porta pouco legível | S6: =HYPERLINK("imagens/AP.png","Abrir imagem") -> Abrir imagem
B7: BR-PE-IPO1-AP-003 | C7: ACESS POINT | D7: Cisco | E7: C9115AXI-2 | F7: ADMINISTRATIVO | G7: N/I | H7: Wi-Fi | I7: BR-PE-IPO1-SWA-001-02 | J7: L023: Gi1/0/1 | K7: L023: Gi2/0/6 | L7: WAN | M7: L023 | Q7: Média | R7: Porta pouco legível | S7: =HYPERLINK("imagens/AP.png","Abrir imagem") -> Abrir imagem
B8: BR-PE-IPO1-AP-004 | C8: ACESS POINT | D8: Cisco | E8: C9115AXI-2 | F8: FATURAMENTO | G8: N/I | H8: Wi-Fi | I8: BR-PE-IPO1-SWA-013 | J8: L033: Gi1/0/1 | K8: L033: Gi1/0/1 | L8: WAN | M8: L033 | Q8: Média | R8: Porta Gi1/0/1? | S8: =HYPERLINK("imagens/AP.png","Abrir imagem") -> Abrir imagem
B9: BR-PE-IPO1-AP-005 | C9: ACESS POINT | D9: Cisco | E9: C9115AXI-2 | F9: DPA | G9: N/I | H9: Wi-Fi | I9: BR-PE-IPO1-SWA-010 | J9: L019: Gi1/0/1 | K9: L019: Gi1/0/21 | L9: WAN | M9: L019 | Q9: Alta | R9: Porta Gi1/0/21 | S9: =HYPERLINK("imagens/AP.png","Abrir imagem") -> Abrir imagem
B10: BR-PE-IPO1-AP-006 | C10: ACESS POINT | D10: Cisco | E10: C9115AXI-2 | F10: LABORATORIO | G10: N/I | H10: Wi-Fi | I10: BR-PE-IPO1-SWA-009 | J10: L011: Gi1/0/1 | K10: L011: Gi1/0/11 | L10: WAN | M10: L011 | Q10: Média | R10: Porta pouco legível | S10: =HYPERLINK("imagens/AP.png","Abrir imagem") -> Abrir imagem
B11: BR-PE-IPO1-AP-007 | C11: ACESS POINT | D11: Cisco | E11: C9115AXI-2 | F11: LABORATORIO | G11: N/I | H11: Wi-Fi | I11: BR-PE-IPO1-SWA-007 | J11: L015: Gi1/0/1 | K11: L015: Gi1/0/21 | L11: WAN | M11: L015 | Q11: Média | R11: Porta pouco legível | S11: =HYPERLINK("imagens/AP.png","Abrir imagem") -> Abrir imagem
B12: BR-PE-IPO1-AP-008 | C12: ACESS POINT | D12: Cisco | E12: C9115AXI-2 | F12: SUP. MOAGEM | G12: N/I | H12: Wi-Fi | I12: BR-PE-IPO1-SWA-007 | J12: L016: Gi1/0/1 | K12: L016: Gi2/0/5 | L12: WAN | M12: L016 | Q12: Alta | R12: Porta Gi1/0/11 | S12: =HYPERLINK("imagens/AP.png","Abrir imagem") -> Abrir imagem
B13: BR-PE-IPO1-AP-009 | C13: ACESS POINT | D13: Cisco | E13: C9115AXI-2 | F13: LABORATORIO | G13: N/I | H13: Wi-Fi | I13: BR-PE-IPO1-SWA-007 | J13: L013: Gi1/0/1 | K13: L013: Gi1/0/34 | L13: WAN | M13: L013 | Q13: Alta | R13: Porta Gi1/0/24 | S13: =HYPERLINK("imagens/AP.png","Abrir imagem") -> Abrir imagem
B14: BR-PE-IPO1-AP-010 | C14: ACESS POINT | D14: Cisco | E14: C9115AXI-2 | F14: LABORATORIO | G14: N/I | H14: Wi-Fi | I14: BR-PE-IPO1-SWA-007 | J14: L014: Gi1/0/1 | K14: L014: Gi1/0/28 | L14: WAN | M14: L014 | Q14: Média | R14: Porta pouco legível | S14: =HYPERLINK("imagens/AP.png","Abrir imagem") -> Abrir imagem
B15: BR-PE-IPO1-RTC-001 | C15: ROUTER | D15: N/I | E15: N/I | F15: CORE | G15: 189.23.196.2 | H15: Borda principal | I15: PRI INTERNET | BR-PE-IPO1-SDE-001 | J15: L001: Vni-02 | L004: Vni-02 | K15: L001: Vni-01 | L004: NIC | L15: UTP | M15: L001 | L004 | Q15: Alta | R15: Ligado ao PRI INTERNET e SCE-001 | S15: =HYPERLINK("imagens/ROUTER.png","Abrir imagem") -> Abrir imagem
B16: BR-PE-IPO1-RTC-002 | C16: ROUTER | D16: N/I | E16: N/I | F16: CORE | G16: 187.32.41.121 | H16: Borda secundária | I16: SEC INTERNET | BR-PE-IPO1-SDE-002 | J16: L003: Vni-02 | L006: Vni-02 | K16: L003: Vni-01 | L006: NIC | L16: UTP | M16: L003 | L006 | Q16: Alta | R16: Ligado ao SEC INTERNET e SCE-002 | S16: =HYPERLINK("imagens/ROUTER.png","Abrir imagem") -> Abrir imagem
B17: BR-PE-IPO1-RTC-003 | C17: ROUTER | D17: N/I | E17: N/I | F17: CORE | G17: 179.18.249.62 | H17: Borda terrestre | I17: TER BANDA | BR-PE-IPO1-SDE-001 | J17: L002: Vni-02 | L005: Vni-05 | K17: L002: Vni-01 | L005: NIC | L17: UTP | M17: L002 | L005 | Q17: Alta | R17: Ligado ao TER BANDA e SCE-001 | S17: =HYPERLINK("imagens/ROUTER.png","Abrir imagem") -> Abrir imagem
B18: BR-PE-IPO1-RTV-001 | C18: APLICACAO | D18: Cisco | E18: CISCO2901/K9 | F18: CORE | G18: 10.173.133.254 / 10.249.17.75 | H18: Roteamento/serviço | I18: BR-PE-IPO1-SWC-001-02 | J18: L009: Gi1/1/1 | K18: L009: Gi1/1/24 | L18: UTP | M18: L009 | Q18: Alta | R18: Equipamento horizontal à direita do CORE | S18: =HYPERLINK("imagens/ROUTER.png","Abrir imagem") -> Abrir imagem
B19: BR-PE-IPO1-SCE-001 | C19: APLICACAO | D19: N/I | E19: N/I | F19: CORE | G19: 10.249.6.27 | H19: Segurança / overlay | I19: Sem ligacao registrada | J19: N/I | K19: N/I | L19: N/I | M19: N/I | Q19: Alta | R19: Interliga RTC-001, RTC-003 e CORE | S19: =HYPERLINK("imagens/ROUTER.png","Abrir imagem") -> Abrir imagem
B20: BR-PE-IPO1-SCE-002 | C20: APLICACAO | D20: N/I | E20: N/I | F20: CORE | G20: 10.249.7.27 | H20: Segurança / overlay | I20: Sem ligacao registrada | J20: N/I | K20: N/I | L20: N/I | M20: N/I | Q20: Alta | R20: Interliga RTC-002 e RTV-001 | S20: =HYPERLINK("imagens/ROUTER.png","Abrir imagem") -> Abrir imagem
B21: BR-PE-IPO1-SWA-001 | C21: SWITCH ACESSO | D21: Cisco | E21: STACK 1x C9200L-24P-4X + 1x C9200L-48P-4X | F21: ADMINISTRATIVO | G21: 10.173.133.2 | H21: Acesso setor ADM | I21: Sem ligacao registrada | J21: N/I | K21: N/I | L21: N/I | M21: N/I | Q21: Alta | R21: Ligado ao Po1 | S21: =HYPERLINK("imagens/SWITCH.png","Abrir imagem") -> Abrir imagem
B22: BR-PE-IPO1-SWA-004 | C22: SWITCH ACESSO | D22: Cisco | E22: C9200L-24P-4X | F22: PORTARIA | G22: 10.173.133.5 | H22: Acesso setor | I22: BR-PE-IPO1-SWC-001 | BR-PE-IPO1-SWI-017 | BR-PE-IPO1-SWI-019 | BR-PE-IPO1-CCTV-CAM - 028 | BR-PE-IPO1-CCTV-CAM - 029 | BR-PE-IPO1-CCTV-CAM - 044 | BR-PE-IPO1-CCTV-CAM - 045 | BR-PE-IPO1-CCTV-CAM - 046 | BR-PE-IPO1-CCTV-CAM - 056 | J22: L024: T1/1/1 | L025: T1/1/4 | L026: T1/1/3 | L064: T2/1/1 | L065: T2/1/1 | L080: T2/1/1 | L081: T2/1/1 | L082: T2/1/1 | L092: T2/1/1 | K22: L024: Gi1/1/10 | L025: Gi1/1/9 | L026: Gi1/1/9 | L064: T1/1/1 | L065: T1/1/2 | L080: T1/1/3 | L081: T1/1/4 | L082: T1/1/5 | L092: T1/1/6 | L22: Fibra SX | Fibra LX | Fibra SX / Port-channel | M22: L024 | L025 | L026 | L064 | L065 | L080 | L081 | L082 | L092 | Q22: Alta | S22: =HYPERLINK("imagens/SWITCH.png","Abrir imagem") -> Abrir imagem
B23: BR-PE-IPO1-SWA-005 | C23: SWITCH ACESSO | D23: Cisco | E23: C9200L-24P-4X | F23: SALA DE SERVIDORES | G23: 10.173.133.6 | H23: Acesso setor | I23: BR-PE-IPO1-SWI-019 | BR-PE-IPO1-SWA-013 | BR-PE-IPO1-CCTV-CAM - 038 | J23: L027: T1/1/2 | L028: T1/1/1 | L074: T2/1/1 | K23: L027: Gi1/1/10 | L028: T1/1/3 | L074: T1/1/2 | L23: Fibra SX | UTP | Fibra LX | M23: L027 | L028 | L074 | Q23: Alta | S23: =HYPERLINK("imagens/SWITCH.png","Abrir imagem") -> Abrir imagem
B24: BR-PE-IPO1-SWA-006 | C24: SWITCH ACESSO | D24: Cisco | E24: C9200L-24P-4X | F24: REFEITORIO | G24: 10.173.133.7 | H24: Acesso setor | I24: BR-PE-IPO1-SWC-001 | BR-PE-IPO1-CCTV-CAM - 060 | BR-PE-IPO1-CCTV-CAM - 061 | J24: L029: T1/1/1 | L095: T2/1/1 | L096: T2/1/1 | K24: L029: T1/1/2 | L095: T1/1/1 | L096: T1/1/2 | L24: Fibra LX | M24: L029 | L095 | L096 | Q24: Alta | S24: =HYPERLINK("imagens/SWITCH.png","Abrir imagem") -> Abrir imagem
B25: BR-PE-IPO1-SWA-007 | C25: SWITCH ACESSO | D25: Cisco | E25: STACK 1x C9200L-48P-4G + 1x C9200L-24P-4X | F25: LABORATORIO | G25: 10.173.133.8 | H25: Acesso setor | I25: BR-PE-IPO1-AP-009 | BR-PE-IPO1-AP-010 | BR-PE-IPO1-AP-007 | BR-PE-IPO1-AP-008 | HUB_PLANET_ESTEIRA | BR-PE-IPO1-SWC-001-02 | BR-PE-IPO1-CCTV-CAM - 047 | BR-PE-IPO1-CCTV-CAM - 048 | BR-PE-IPO1-CCTV-CAM - 049 | BR-PE-IPO1-CCTV-CAM - 050 | BR-PE-IPO1-CCTV-CAM - 051 | BR-PE-IPO1-CCTV-CAM - 052 | BR-PE-IPO1-CCTV-CAM - 053 | BR-PE-IPO1-CCTV-CAM - 054 | BR-PE-IPO1-CCTV-CAM - 055 | BR-PE-IPO1-CCTV-CAM - 058 | J25: L013: Gi1/0/34 | L014: Gi1/0/28 | L015: Gi1/0/21 | L016: Gi2/0/5 | L017: T2/1/2 | L018: T2/1/1 | L083: T2/1/1 | L084: T2/1/1 | L085: T2/1/1 | L086: T2/1/1 | L087: T2/1/1 | L088: T2/1/1 | L089: T2/1/1 | L090: T2/1/1 | L091: T2/1/1 | L093: T2/1/1 | K25: L013: Gi1/0/1 | L014: Gi1/0/1 | L015: Gi1/0/1 | L016: Gi1/0/1 | L017: Vni-02 | L018: T2/1/2 | L083: T1/1/1 | L084: T1/1/2 | L085: T1/1/3 | L086: T1/1/4 | L087: T1/1/5 | L088: T1/1/6 | L089: T1/1/7 | L090: T1/1/8 | L091: T1/1/9 | L093: T1/1/1 | L25: WAN | Virtual/Overlay | Fibra LX | M25: L013 | L014 | L015 | L016 | L017 | L018 | L083 | L084 | L085 | L086 | L087 | L088 | L089 | L090 | L091 | L093 | Q25: Alta | S25: =HYPERLINK("imagens/SWITCH.png","Abrir imagem") -> Abrir imagem
B26: BR-PE-IPO1-SWA-009 | C26: SWITCH ACESSO | D26: Cisco | E26: C9200L-24P-4X | F26: SUP. MOAGEM | G26: 10.173.133.10 | H26: Acesso setor | I26: BR-PE-IPO1-AP-006 | BR-PE-IPO1-SWC-001 | BR-PE-IPO1-CCTV-CAM - 043 | J26: L011: Gi1/0/11 | L012: T1/1/1 | L079: T2/1/1 | K26: L011: Gi1/0/1 | L012: T1/1/3 | L079: T1/1/1 | L26: WAN | Fibra LX | M26: L011 | L012 | L079 | Q26: Alta | S26: =HYPERLINK("imagens/SWITCH.png","Abrir imagem") -> Abrir imagem
B27: BR-PE-IPO1-SWA-010 | C27: SWITCH ACESSO | D27: Cisco | E27: C9200L-48P-4X | F27: DPA | G27: 10.173.133.11 | H27: Acesso setor | I27: BR-PE-IPO1-AP-005 | BR-PE-IPO1-SWC-001-02 | BR-PE-IPO1-CCTV-CAM - 041 | BR-PE-IPO1-CCTV-CAM - 042 | BR-PE-IPO1-CCTV-CAM - 059 | BR-PE-IPO1-CCTV-CAM - 062 | BR-PE-IPO1-CCTV-CAM - 063 | J27: L019: Gi1/0/21 | L020: T1/1/1 | L077: T2/1/1 | L078: T2/1/1 | L094: T2/1/1 | L097: T2/1/1 | L098: T2/1/1 | K27: L019: Gi1/0/1 | L020: T2/1/1 | L077: T1/1/3 | L078: T1/1/4 | L094: T1/1/6 | L097: T1/1/8 | L098: T1/1/9 | L27: WAN | Fibra LX | M27: L019 | L020 | L077 | L078 | L094 | L097 | L098 | Q27: Alta | S27: =HYPERLINK("imagens/SWITCH.png","Abrir imagem") -> Abrir imagem
B28: BR-PE-IPO1-SWA-012 | C28: SWITCH ACESSO | D28: Cisco | E28: C9200L-24P-4X | F28: SUBESTACAO | G28: 10.173.133.16 | H28: Acesso setor | I28: BR-PE-IPO1-SWC-001 | BR-PE-IPO1-SWI-018 | BR-PE-IPO1-CCTV-CAM - 039 | BR-PE-IPO1-CCTV-CAM - 040 | J28: L030: T1/1/1 | L031: T1/1/2 | L075: T2/1/1 | L076: T2/1/1 | K28: L030: T1/1/1 | L031: Gi1/1/9 | L075: T1/1/1 | L076: T1/1/2 | L28: Fibra LX | M28: L030 | L031 | L075 | L076 | Q28: Alta | S28: =HYPERLINK("imagens/SWITCH.png","Abrir imagem") -> Abrir imagem
B29: BR-PE-IPO1-SWA-013 | C29: SWITCH ACESSO | D29: Cisco | E29: C9200L-24P-4X | F29: FATURAMENTO | G29: 10.173.133.17 | H29: Acesso setor | I29: BR-PE-IPO1-SWA-005 | BR-PE-IPO1-AP-004 | BR-PE-IPO1-SWI-021 | BR-PE-IPO1-SWI-015 | BR-PE-IPO1-SWC-001-02 | J29: L028: T1/1/3 | L033: Gi1/0/1 | L034: T1/1/2 | L035: T1/1/4 | L036: T1/1/1 | K29: L028: T1/1/1 | L033: Gi1/0/1 | L034: Gi1/0/1 | L035: Gi1/0/1 | L036: T2/1/3 | L29: UTP | WAN | Fibra LX | Fibra SX | M29: L028 | L033 | L034 | L035 | L036 | Q29: Alta | S29: =HYPERLINK("imagens/SWITCH.png","Abrir imagem") -> Abrir imagem
B30: BR-PE-IPO1-SWC-001 | C30: SWITCH CORE | D30: N/I | E30: STACK 2x 9300-24T | F30: ADMINISTRATIVO | G30: 10.173.133.1 | H30: Core LAN | I30: BR-PE-IPO1-SWA-009 | BR-PE-IPO1-SWA-004 | BR-PE-IPO1-SWA-006 | BR-PE-IPO1-SWA-012 | J30: L012: T1/1/3 | L024: Gi1/1/10 | L029: T1/1/2 | L030: T1/1/1 | K30: L012: T1/1/1 | L024: T1/1/1 | L029: T1/1/1 | L030: T1/1/1 | L30: WAN | Fibra SX | Fibra LX | M30: L012 | L024 | L029 | L030 | Q30: Alta | R30: SWITCH CORE central da topologia | S30: =HYPERLINK("imagens/SWITCH.png","Abrir imagem") -> Abrir imagem
B31: BR-PE-IPO1-SWI-014 | C31: SWITCH INDUSTRIAL | D31: Cisco | E31: IE-1000-8P2S-LM | F31: PORTARIA | G31: 10.173.133.25 | H31: Acesso industrial | I31: BR-PE-IPO1-CCTV-CAM - 018 | BR-PE-IPO1-CCTV-CAM - 019 | BR-PE-IPO1-CCTV-CAM - 020 | BR-PE-IPO1-CCTV-CAM - 021 | BR-PE-IPO1-CCTV-CAM - 022 | BR-PE-IPO1-CCTV-CAM - 023 | J31: L054: T2/1/1 | L055: T2/1/1 | L056: T2/1/1 | L057: T2/1/1 | L058: T2/1/1 | L059: T2/1/1 | K31: L054: T1/1/1 | L055: T1/1/2 | L056: T1/1/3 | L057: T1/1/4 | L058: T1/1/5 | L059: T1/1/6 | L31: Fibra LX | M31: L054 | L055 | L056 | L057 | L058 | L059 | Q31: Alta | S31: =HYPERLINK("imagens/SWITCH.png","Abrir imagem") -> Abrir imagem
B32: BR-PE-IPO1-SWI-015 | C32: SWITCH INDUSTRIAL | D32: Cisco | E32: IE-1000-8P2S-LM | F32: FATURAMENTO | G32: 10.173.133.18 | H32: Acesso industrial | I32: BR-PE-IPO1-SWA-013 | BR-PE-IPO1-CCTV-CAM - 001 | BR-PE-IPO1-CCTV-CAM - 002 | BR-PE-IPO1-CCTV-CAM - 003 | BR-PE-IPO1-CCTV-CAM - 004 | BR-PE-IPO1-CCTV-CAM - 005 | BR-PE-IPO1-CCTV-CAM - 036 | BR-PE-IPO1-CCTV-CAM - 037 | J32: L035: Gi1/0/1 | L037: T2/1/1 | L038: T2/1/1 | L039: T2/1/1 | L040: T2/1/1 | L041: T2/1/1 | L072: T2/1/1 | L073: T2/1/1 | K32: L035: T1/1/4 | L037: T1/1/1 | L038: T1/1/2 | L039: T1/1/3 | L040: T1/1/4 | L041: T1/1/5 | L072: T1/1/5 | L073: T1/1/6 | L32: Fibra LX | M32: L035 | L037 | L038 | L039 | L040 | L041 | L072 | L073 | Q32: Alta | S32: =HYPERLINK("imagens/SWITCH.png","Abrir imagem") -> Abrir imagem
B33: BR-PE-IPO1-SWI-016 | C33: SWITCH INDUSTRIAL | D33: Cisco | E33: IE-1000-8P2S-LM | F33: SUBESTACAO | G33: 10.173.133.19 | H33: Acesso industrial | I33: BR-PE-IPO1-SWI-018 | BR-PE-IPO1-CCTV-CAM - 012 | BR-PE-IPO1-CCTV-CAM - 013 | BR-PE-IPO1-CCTV-CAM - 014 | BR-PE-IPO1-CCTV-CAM - 015 | BR-PE-IPO1-CCTV-CAM - 016 | BR-PE-IPO1-CCTV-CAM - 017 | J33: L032: Gi1/1/9 | L048: T2/1/1 | L049: T2/1/1 | L050: T2/1/1 | L051: T2/1/1 | L052: T2/1/1 | L053: T2/1/1 | K33: L032: Gi1/1/10 | L048: T1/1/1 | L049: T1/1/2 | L050: T1/1/3 | L051: T1/1/4 | L052: T1/1/5 | L053: T1/1/6 | L33: Fibra LX | M33: L032 | L048 | L049 | L050 | L051 | L052 | L053 | Q33: Alta | S33: =HYPERLINK("imagens/SWITCH.png","Abrir imagem") -> Abrir imagem
B34: BR-PE-IPO1-SWI-017 | C34: SWITCH INDUSTRIAL | D34: Cisco | E34: IE-1000-8P2S-LM | F34: PORTARIA | G34: 10.173.133.20 | H34: Acesso industrial | I34: BR-PE-IPO1-SWA-004 | BR-PE-IPO1-CCTV-CAM - 024 | BR-PE-IPO1-CCTV-CAM - 025 | BR-PE-IPO1-CCTV-CAM - 026 | BR-PE-IPO1-CCTV-CAM - 027 | J34: L025: Gi1/1/9 | L060: T2/1/1 | L061: T2/1/1 | L062: T2/1/1 | L063: T2/1/1 | K34: L025: T1/1/4 | L060: T1/1/1 | L061: T1/1/2 | L062: T1/1/3 | L063: T1/1/4 | L34: Fibra LX | M34: L025 | L060 | L061 | L062 | L063 | Q34: Alta | S34: =HYPERLINK("imagens/SWITCH.png","Abrir imagem") -> Abrir imagem
B35: BR-PE-IPO1-SWI-018 | C35: SWITCH INDUSTRIAL | D35: Cisco | E35: IE-1000-8P2S-LM | F35: SUBESTACAO | G35: 10.173.133.21 | H35: Acesso industrial | I35: BR-PE-IPO1-SWA-012 | BR-PE-IPO1-SWI-016 | BR-PE-IPO1-CCTV-CAM - 006 | BR-PE-IPO1-CCTV-CAM - 007 | BR-PE-IPO1-CCTV-CAM - 008 | BR-PE-IPO1-CCTV-CAM - 009 | BR-PE-IPO1-CCTV-CAM - 010 | BR-PE-IPO1-CCTV-CAM - 011 | J35: L031: Gi1/1/9 | L032: Gi1/1/10 | L042: T2/1/1 | L043: T2/1/1 | L044: T2/1/1 | L045: T2/1/1 | L046: T2/1/1 | L047: T2/1/1 | K35: L031: T1/1/2 | L032: Gi1/1/9 | L042: T1/1/1 | L043: T1/1/2 | L044: T1/1/3 | L045: T1/1/4 | L046: T1/1/5 | L047: T1/1/6 | L35: Fibra LX | M35: L031 | L032 | L042 | L043 | L044 | L045 | L046 | L047 | Q35: Alta | S35: =HYPERLINK("imagens/SWITCH.png","Abrir imagem") -> Abrir imagem
B36: BR-PE-IPO1-SWI-019 | C36: SWITCH INDUSTRIAL | D36: Cisco | E36: IE-1000-8P2S-LM | F36: SALA DE SERVIDORES | G36: 10.173.133.22 | H36: Acesso industrial | I36: BR-PE-IPO1-SWA-004 | BR-PE-IPO1-SWA-005 | BR-PE-IPO1-CCTV-CAM - 030 | BR-PE-IPO1-CCTV-CAM - 031 | BR-PE-IPO1-CCTV-CAM - 032 | BR-PE-IPO1-CCTV-CAM - 033 | BR-PE-IPO1-CCTV-CAM - 034 | BR-PE-IPO1-CCTV-CAM - 035 | J36: L026: Gi1/1/9 | L027: Gi1/1/10 | L066: T2/1/1 | L067: T2/1/1 | L068: T2/1/1 | L069: T2/1/1 | L070: T2/1/1 | L071: T2/1/1 | K36: L026: T1/1/3 | L027: T1/1/2 | L066: T1/1/1 | L067: T1/1/2 | L068: T1/1/3 | L069: T1/1/4 | L070: T1/1/5 | L071: T1/1/6 | L36: Fibra SX / Port-channel | Fibra SX | Fibra LX | M36: L026 | L027 | L066 | L067 | L068 | L069 | L070 | L071 | Q36: Alta | S36: =HYPERLINK("imagens/SWITCH.png","Abrir imagem") -> Abrir imagem
B37: BR-PE-IPO1-SWI-021 | C37: SWITCH INDUSTRIAL | D37: Cisco | E37: IE-1000-8P2S-LM | F37: FATURAMENTO | G37: 10.173.133.40 | H37: Acesso industrial | I37: BR-PE-IPO1-SWA-013 | BR-PE-IPO1-CCTV-CAM - 066 | BR-PE-IPO1-CCTV-CAM - 067 | BR-PE-IPO1-CCTV-CAM - 068 | BR-PE-IPO1-CCTV-CAM - 069 | J37: L034: Gi1/0/1 | L099: T2/1/1 | L100: T2/1/1 | L101: T2/1/1 | L102: T2/1/1 | K37: L034: T1/1/2 | L099: T1/1/1 | L100: T1/1/2 | L101: T1/1/3 | L102: T1/1/4 | L37: Fibra LX | M37: L034 | L099 | L100 | L101 | L102 | Q37: Alta | S37: =HYPERLINK("imagens/SWITCH.png","Abrir imagem") -> Abrir imagem
B38: HUB_PLANET_ESTEIRA | C38: HUB | D38: Planet | E38: PLANET | F38: LABORATORIO | G38: N/I | H38: Esteira / campo | I38: BR-PE-IPO1-SWA-007 | J38: L017: Vni-02 | K38: L017: T2/1/2 | L38: Virtual/Overlay | M38: L017 | Q38: Média | R38: Ligado via conversor | S38: =HYPERLINK("imagens/HUB.png","Abrir imagem") -> Abrir imagem
B39: BR-PE-IPO1-CCTV-CAM - 001 | C39: CAMERA_CFTV | D39: N/I | E39: CAMERA_CFTV | F39: PERIMETRO SULDESTE | G39: 10.173.138.11 | H39: Switch Industrial | I39: BR-PE-IPO1-SWI-015 | J39: L037: T1/1/1 | K39: L037: T2/1/1 | L39: Fibra LX | M39: L037 | N39: -8.3949917 | O39: -34.980039 | P39: https://www.google.com/maps?q=-8.394991674577888,-34.98003874659464 | Q39: Alta | S39: =HYPERLINK("imagens/CAM_001.jpg","Abrir imagem") -> Abrir imagem
B40: BR-PE-IPO1-CCTV-CAM - 002 | C40: CAMERA_CFTV | D40: N/I | E40: CAMERA_CFTV | F40: PERIMETRO SULDESTE | G40: 10.173.138.12 | H40: Switch Industrial | I40: BR-PE-IPO1-SWI-015 | J40: L038: T1/1/2 | K40: L038: T2/1/1 | L40: Fibra LX | M40: L038 | N40: -8.3950224 | O40: -34.98006 | P40: https://www.google.com/maps?q=-8.395022413340026,-34.98005977380735 | Q40: Alta | S40: =HYPERLINK("imagens/CAM_002.jpg","Abrir imagem") -> Abrir imagem
B41: BR-PE-IPO1-CCTV-CAM - 003 | C41: CAMERA_CFTV | D41: N/I | E41: CAMERA_CFTV | F41: PERIMETRO SULDESTE | G41: 10.173.138.13 | H41: Switch Industrial | I41: BR-PE-IPO1-SWI-015 | J41: L039: T1/1/3 | K41: L039: T2/1/1 | L41: Fibra LX | M41: L039 | N41: -8.3949672 | O41: -34.980082 | P41: https://www.google.com/maps?q=-8.39496723611927,-34.98008184506837 | Q41: Alta | S41: =HYPERLINK("imagens/CAM_003.jpg","Abrir imagem") -> Abrir imagem
B42: BR-PE-IPO1-CCTV-CAM - 004 | C42: CAMERA_CFTV | D42: N/I | E42: CAMERA_CFTV | F42: PERIMETRO SUL | G42: 10.173.138.14 | H42: Switch Industrial | I42: BR-PE-IPO1-SWI-015 | J42: L040: T1/1/4 | K42: L040: T2/1/1 | L42: Fibra LX | M42: L040 | N42: -8.3951251 | O42: -34.980655 | P42: https://www.google.com/maps?q=-8.395125089522297,-34.98065467561339 | Q42: Alta | S42: =HYPERLINK("imagens/CAM_004.jpg","Abrir imagem") -> Abrir imagem
B43: BR-PE-IPO1-CCTV-CAM - 005 | C43: CAMERA_CFTV | D43: N/I | E43: CAMERA_CFTV | F43: PERIMETRO SUL | G43: 10.173.138.15 | H43: Switch Industrial | I43: BR-PE-IPO1-SWI-015 | J43: L041: T1/1/5 | K43: L041: T2/1/1 | L43: Fibra LX | M43: L041 | N43: -8.3951279 | O43: -34.98064 | P43: https://www.google.com/maps?q=-8.395127926678674,-34.98064042856126 | Q43: Alta | S43: =HYPERLINK("imagens/CAM_005.jpg","Abrir imagem") -> Abrir imagem
B44: BR-PE-IPO1-CCTV-CAM - 006 | C44: CAMERA_CFTV | D44: N/I | E44: CAMERA_CFTV | F44: PERIMETRO SUL | G44: 10.173.138.16 | H44: Switch Industrial | I44: BR-PE-IPO1-SWI-018 | J44: L042: T1/1/1 | K44: L042: T2/1/1 | L44: Fibra LX | M44: L042 | N44: -8.3951883 | O44: -34.9811 | P44: https://www.google.com/maps?q=-8.395188327562373,-34.98109996612019 | Q44: Alta | S44: =HYPERLINK("imagens/CAM_006.jpg","Abrir imagem") -> Abrir imagem
B45: BR-PE-IPO1-CCTV-CAM - 007 | C45: CAMERA_CFTV | D45: N/I | E45: CAMERA_CFTV | F45: PERIMETRO SUL | G45: 10.173.138.17 | H45: Switch Industrial | I45: BR-PE-IPO1-SWI-018 | J45: L043: T1/1/2 | K45: L043: T2/1/1 | L45: Fibra LX | M45: L043 | N45: -8.3951865 | O45: -34.981115 | P45: https://www.google.com/maps?q=-8.395186471895206,-34.9811145036329 | Q45: Alta | S45: =HYPERLINK("imagens/CAM_007.jpg","Abrir imagem") -> Abrir imagem
B46: BR-PE-IPO1-CCTV-CAM - 008 | C46: CAMERA_CFTV | D46: N/I | E46: CAMERA_CFTV | F46: PERIMETRO SUL | G46: 10.173.138.18 | H46: Switch Industrial | I46: BR-PE-IPO1-SWI-018 | J46: L044: T1/1/3 | K46: L044: T2/1/1 | L46: Fibra LX | M46: L044 | N46: -8.3952771 | O46: -34.981704 | P46: https://www.google.com/maps?q=-8.395277132448,-34.98170398009776 | Q46: Alta | S46: =HYPERLINK("imagens/CAM_008.jpg","Abrir imagem") -> Abrir imagem
B47: BR-PE-IPO1-CCTV-CAM - 009 | C47: CAMERA_CFTV | D47: N/I | E47: CAMERA_CFTV | F47: PERIMETRO SUL | G47: 10.173.138.19 | H47: Switch Industrial | I47: BR-PE-IPO1-SWI-018 | J47: L045: T1/1/4 | K47: L045: T2/1/1 | L47: Fibra LX | M47: L045 | N47: -8.3952778 | O47: -34.981717 | P47: https://www.google.com/maps?q=-8.395277847209265,-34.98171721095139 | Q47: Alta | S47: =HYPERLINK("imagens/CAM_009.jpg","Abrir imagem") -> Abrir imagem
B48: BR-PE-IPO1-CCTV-CAM - 010 | C48: CAMERA_CFTV | D48: N/I | E48: CAMERA_CFTV | F48: PERIMETRO SUL | G48: 10.173.138.20 | H48: Switch Industrial | I48: BR-PE-IPO1-SWI-018 | J48: L046: T1/1/5 | K48: L046: T2/1/1 | L48: Fibra LX | M48: L046 | N48: -8.395451 | O48: -34.982351 | P48: https://www.google.com/maps?q=-8.395451046249885,-34.98235109376746 | Q48: Alta | S48: =HYPERLINK("imagens/CAM_010.jpg","Abrir imagem") -> Abrir imagem
B49: BR-PE-IPO1-CCTV-CAM - 011 | C49: CAMERA_CFTV | D49: N/I | E49: CAMERA_CFTV | F49: PERIMETRO SUL | G49: 10.173.138.21 | H49: Switch Industrial | I49: BR-PE-IPO1-SWI-018 | J49: L047: T1/1/6 | K49: L047: T2/1/1 | L49: Fibra LX | M49: L047 | N49: -8.3954557 | O49: -34.982404 | P49: https://www.google.com/maps?q=-8.395455657754992,-34.98240408535023 | Q49: Alta | S49: =HYPERLINK("imagens/CAM_011.jpg","Abrir imagem") -> Abrir imagem
B50: BR-PE-IPO1-CCTV-CAM - 012 | C50: CAMERA_CFTV | D50: N/I | E50: CAMERA_CFTV | F50: PERIMETRO SUL | G50: 10.173.138.22 | H50: Switch Industrial | I50: BR-PE-IPO1-SWI-016 | J50: L048: T1/1/1 | K50: L048: T2/1/1 | L50: Fibra LX | M50: L048 | N50: -8.39551 | O50: -34.982718 | P50: https://www.google.com/maps?q=-8.395510018733498,-34.98271765335036 | Q50: Alta | S50: =HYPERLINK("imagens/CAM_012.jpg","Abrir imagem") -> Abrir imagem
B51: BR-PE-IPO1-CCTV-CAM - 013 | C51: CAMERA_CFTV | D51: N/I | E51: CAMERA_CFTV | F51: PERIMETRO SULDOESTE | G51: 10.173.138.23 | H51: Switch Industrial | I51: BR-PE-IPO1-SWI-016 | J51: L049: T1/1/2 | K51: L049: T2/1/1 | L51: Fibra LX | M51: L049 | N51: -8.3955171 | O51: -34.982777 | P51: https://www.google.com/maps?q=-8.395517149561515,-34.98277740821111 | Q51: Alta | S51: =HYPERLINK("imagens/CAM_013.jpg","Abrir imagem") -> Abrir imagem
B52: BR-PE-IPO1-CCTV-CAM - 014 | C52: CAMERA_CFTV | D52: N/I | E52: CAMERA_CFTV | F52: PERIMETRO OESTE | G52: 10.173.138.24 | H52: Switch Industrial | I52: BR-PE-IPO1-SWI-016 | J52: L050: T1/1/3 | K52: L050: T2/1/1 | L52: Fibra LX | M52: L050 | N52: -8.3948453 | O52: -34.982791 | P52: https://www.google.com/maps?q=-8.394845346309204,-34.98279124674493 | Q52: Alta | S52: =HYPERLINK("imagens/CAM_014.jpg","Abrir imagem") -> Abrir imagem
B53: BR-PE-IPO1-CCTV-CAM - 015 | C53: CAMERA_CFTV | D53: N/I | E53: CAMERA_CFTV | F53: PERIMETRO OESTE | G53: 10.173.138.25 | H53: Switch Industrial | I53: BR-PE-IPO1-SWI-016 | J53: L051: T1/1/4 | K53: L051: T2/1/1 | L53: Fibra LX | M53: L051 | N53: -8.3947787 | O53: -34.98279 | P53: https://www.google.com/maps?q=-8.39477872221857,-34.98278956668728 | Q53: Alta | S53: =HYPERLINK("imagens/CAM_015.jpg","Abrir imagem") -> Abrir imagem
B54: BR-PE-IPO1-CCTV-CAM - 016 | C54: CAMERA_CFTV | D54: N/I | E54: CAMERA_CFTV | F54: PERIMETRO OESTE | G54: 10.173.138.26 | H54: Switch Industrial | I54: BR-PE-IPO1-SWI-016 | J54: L052: T1/1/5 | K54: L052: T2/1/1 | L54: Fibra LX | M54: L052 | N54: -8.3943066 | O54: -34.982818 | P54: https://www.google.com/maps?q=-8.394306625289175,-34.98281848037762 | Q54: Alta | S54: =HYPERLINK("imagens/CAM_016.jpg","Abrir imagem") -> Abrir imagem
B55: BR-PE-IPO1-CCTV-CAM - 017 | C55: CAMERA_CFTV | D55: N/I | E55: CAMERA_CFTV | F55: PERIMETRO OESTE | G55: 10.173.138.27 | H55: Switch Industrial | I55: BR-PE-IPO1-SWI-016 | J55: L053: T1/1/6 | K55: L053: T2/1/1 | L55: Fibra LX | M55: L053 | N55: -8.3942292 | O55: -34.98281 | P55: https://www.google.com/maps?q=-8.394229216478715,-34.98281017326516 | Q55: Alta | S55: =HYPERLINK("imagens/CAM_017.jpg","Abrir imagem") -> Abrir imagem
B56: BR-PE-IPO1-CCTV-CAM - 018 | C56: CAMERA_CFTV | D56: N/I | E56: CAMERA_CFTV | F56: PERIMETRO OESTE | G56: 10.173.138.28 | H56: Switch Industrial | I56: BR-PE-IPO1-SWI-014 | J56: L054: T1/1/1 | K56: L054: T2/1/1 | L56: Fibra LX | M56: L054 | N56: -8.3936197 | O56: -34.982892 | P56: https://www.google.com/maps?q=-8.39361967763889,-34.98289150149289 | Q56: Alta | S56: =HYPERLINK("imagens/CAM_018.jpg","Abrir imagem") -> Abrir imagem
B57: BR-PE-IPO1-CCTV-CAM - 019 | C57: CAMERA_CFTV | D57: N/I | E57: CAMERA_CFTV | F57: PERIMETRO OESTE | G57: 10.173.138.29 | H57: Switch Industrial | I57: BR-PE-IPO1-SWI-014 | J57: L055: T1/1/2 | K57: L055: T2/1/1 | L57: Fibra LX | M57: L055 | N57: -8.3935679 | O57: -34.982894 | P57: https://www.google.com/maps?q=-8.39356791936792,-34.98289380280738 | Q57: Alta | S57: =HYPERLINK("imagens/CAM_019.jpg","Abrir imagem") -> Abrir imagem
B58: BR-PE-IPO1-CCTV-CAM - 020 | C58: CAMERA_CFTV | D58: N/I | E58: CAMERA_CFTV | F58: PERIMETRO NOROESTE | G58: 10.173.138.30 | H58: Switch Industrial | I58: BR-PE-IPO1-SWI-014 | J58: L056: T1/1/3 | K58: L056: T2/1/1 | L58: Fibra LX | M58: L056 | N58: -8.3930966 | O58: -34.982905 | P58: https://www.google.com/maps?q=-8.393096578013173,-34.98290510206887 | Q58: Alta | S58: =HYPERLINK("imagens/CAM_020.jpg","Abrir imagem") -> Abrir imagem
B59: BR-PE-IPO1-CCTV-CAM - 021 | C59: CAMERA_CFTV | D59: N/I | E59: CAMERA_CFTV | F59: PERIMETRO NOROESTE | G59: 10.173.138.31 | H59: Switch Industrial | I59: BR-PE-IPO1-SWI-014 | J59: L057: T1/1/4 | K59: L057: T2/1/1 | L59: Fibra LX | M59: L057 | N59: -8.3930682 | O59: -34.982907 | P59: https://www.google.com/maps?q=-8.393068228934652,-34.98290723261054 | Q59: Alta | S59: =HYPERLINK("imagens/CAM_021.jpg","Abrir imagem") -> Abrir imagem
B60: BR-PE-IPO1-CCTV-CAM - 022 | C60: CAMERA_CFTV | D60: N/I | E60: CAMERA_CFTV | F60: PERIMETRO NORTE | G60: 10.173.138.32 | H60: Switch Industrial | I60: BR-PE-IPO1-SWI-014 | J60: L058: T1/1/5 | K60: L058: T2/1/1 | L60: Fibra LX | M60: L058 | N60: -8.3930598 | O60: -34.982542 | P60: https://www.google.com/maps?q=-8.393059770778834,-34.98254222230981 | Q60: Alta | S60: =HYPERLINK("imagens/CAM_022.jpg","Abrir imagem") -> Abrir imagem
B61: BR-PE-IPO1-CCTV-CAM - 023 | C61: CAMERA_CFTV | D61: N/I | E61: CAMERA_CFTV | F61: PERIMETRO NORTE | G61: 10.173.138.33 | H61: Switch Industrial | I61: BR-PE-IPO1-SWI-014 | J61: L059: T1/1/6 | K61: L059: T2/1/1 | L61: Fibra LX | M61: L059 | N61: -8.3930612 | O61: -34.982509 | P61: https://www.google.com/maps?q=-8.393061182253188,-34.98250946123082 | Q61: Alta | S61: =HYPERLINK("imagens/CAM_023.jpg","Abrir imagem") -> Abrir imagem
B62: BR-PE-IPO1-CCTV-CAM - 024 | C62: CAMERA_CFTV | D62: N/I | E62: CAMERA_CFTV | F62: PERIMETRO NORTE | G62: 10.173.138.34 | H62: Switch Industrial | I62: BR-PE-IPO1-SWI-017 | J62: L060: T1/1/1 | K62: L060: T2/1/1 | L62: Fibra LX | M62: L060 | N62: -8.3930425 | O62: -34.981933 | P62: https://www.google.com/maps?q=-8.39304251085938,-34.9819329778252 | Q62: Alta | S62: =HYPERLINK("imagens/CAM_024.jpg","Abrir imagem") -> Abrir imagem
B63: BR-PE-IPO1-CCTV-CAM - 025 | C63: CAMERA_CFTV | D63: N/I | E63: CAMERA_CFTV | F63: PERIMETRO NORTE | G63: 10.173.138.35 | H63: Switch Industrial | I63: BR-PE-IPO1-SWI-017 | J63: L061: T1/1/2 | K63: L061: T2/1/1 | L63: Fibra LX | M63: L061 | N63: -8.3930305 | O63: -34.981857 | P63: https://www.google.com/maps?q=-8.39303047757866,-34.98185658474576 | Q63: Alta | S63: =HYPERLINK("imagens/CAM_025.jpg","Abrir imagem") -> Abrir imagem
B64: BR-PE-IPO1-CCTV-CAM - 026 | C64: CAMERA_CFTV | D64: N/I | E64: CAMERA_CFTV | F64: PERIMETRO NORTE | G64: 10.173.138.36 | H64: Switch Industrial | I64: BR-PE-IPO1-SWI-017 | J64: L062: T1/1/3 | K64: L062: T2/1/1 | L64: Fibra LX | M64: L062 | N64: -8.3929513 | O64: -34.981281 | P64: https://www.google.com/maps?q=-8.392951323427157,-34.98128147101797 | Q64: Alta | S64: =HYPERLINK("imagens/CAM_026.jpg","Abrir imagem") -> Abrir imagem
B65: BR-PE-IPO1-CCTV-CAM - 027 | C65: CAMERA_CFTV | D65: N/I | E65: CAMERA_CFTV | F65: PERIMETRO NORTE | G65: 10.173.138.37 | H65: Switch Industrial | I65: BR-PE-IPO1-SWI-017 | J65: L063: T1/1/4 | K65: L063: T2/1/1 | L65: Fibra LX | M65: L063 | N65: -8.3929503 | O65: -34.981262 | P65: https://www.google.com/maps?q=-8.392950267972045,-34.98126222118234 | Q65: Alta | S65: =HYPERLINK("imagens/CAM_027.jpg","Abrir imagem") -> Abrir imagem
B66: BR-PE-IPO1-CCTV-CAM - 028 | C66: CAMERA_CFTV | D66: N/I | E66: CAMERA_CFTV | F66: PERIMETRO NORTE | G66: 10.173.138.38 | H66: Switch Industrial | I66: BR-PE-IPO1-SWA-004 | J66: L064: T1/1/1 | K66: L064: T2/1/1 | L66: Fibra LX | M66: L064 | N66: -8.3929353 | O66: -34.980693 | P66: https://www.google.com/maps?q=-8.392935323461987,-34.98069289227146 | Q66: Alta | S66: =HYPERLINK("imagens/CAM_028.jpg","Abrir imagem") -> Abrir imagem
B67: BR-PE-IPO1-CCTV-CAM - 029 | C67: CAMERA_CFTV | D67: N/I | E67: CAMERA_CFTV | F67: PERIMETRO NORTE | G67: 10.173.138.39 | H67: Switch Industrial | I67: BR-PE-IPO1-SWA-004 | J67: L065: T1/1/2 | K67: L065: T2/1/1 | L67: Fibra LX | M67: L065 | N67: -8.3929332 | O67: -34.980676 | P67: https://www.google.com/maps?q=-8.392933167973844,-34.98067550009899 | Q67: Alta | S67: =HYPERLINK("imagens/CAM_029.jpg","Abrir imagem") -> Abrir imagem
B68: BR-PE-IPO1-CCTV-CAM - 030 | C68: CAMERA_CFTV | D68: N/I | E68: CAMERA_CFTV | F68: PERIMETRO NOROESTE | G68: 10.173.138.40 | H68: Switch Industrial | I68: BR-PE-IPO1-SWI-019 | J68: L066: T1/1/1 | K68: L066: T2/1/1 | L68: Fibra LX | M68: L066 | N68: -8.3929218 | O68: -34.980163 | P68: https://www.google.com/maps?q=-8.39292178708134,-34.98016266238712 | Q68: Alta | S68: =HYPERLINK("imagens/CAM_030.jpg","Abrir imagem") -> Abrir imagem
B69: BR-PE-IPO1-CCTV-CAM - 031 | C69: CAMERA_CFTV | D69: N/I | E69: CAMERA_CFTV | F69: PERIMETRO NOROESTE | G69: 10.173.138.41 | H69: Switch Industrial | I69: BR-PE-IPO1-SWI-019 | J69: L067: T1/1/2 | K69: L067: T2/1/1 | L69: Fibra LX | M69: L067 | N69: -8.3929737 | O69: -34.980144 | P69: https://www.google.com/maps?q=-8.392973734810406,-34.98014368968758 | Q69: Alta | S69: =HYPERLINK("imagens/CAM_031.jpg","Abrir imagem") -> Abrir imagem
B70: BR-PE-IPO1-CCTV-CAM - 032 | C70: CAMERA_CFTV | D70: N/I | E70: CAMERA_CFTV | F70: PERIMETRO LESTE | G70: 10.173.138.42 | H70: Switch Industrial | I70: BR-PE-IPO1-SWI-019 | J70: L068: T1/1/3 | K70: L068: T2/1/1 | L70: Fibra LX | M70: L068 | N70: -8.3932633 | O70: -34.980139 | P70: https://www.google.com/maps?q=-8.393263281649674,-34.98013882270176 | Q70: Alta | S70: =HYPERLINK("imagens/CAM_032.jpg","Abrir imagem") -> Abrir imagem
B71: BR-PE-IPO1-CCTV-CAM - 033 | C71: CAMERA_CFTV | D71: N/I | E71: CAMERA_CFTV | F71: PERIMETRO LESTE | G71: 10.173.138.43 | H71: Switch Industrial | I71: BR-PE-IPO1-SWI-019 | J71: L069: T1/1/4 | K71: L069: T2/1/1 | L71: Fibra LX | M71: L069 | N71: -8.393302 | O71: -34.980134 | P71: https://www.google.com/maps?q=-8.393302030071697,-34.98013367818771 | Q71: Alta | S71: =HYPERLINK("imagens/CAM_033.jpg","Abrir imagem") -> Abrir imagem
B72: BR-PE-IPO1-CCTV-CAM - 034 | C72: CAMERA_CFTV | D72: N/I | E72: CAMERA_CFTV | F72: PERIMETRO LESTE | G72: 10.173.138.44 | H72: Switch Industrial | I72: BR-PE-IPO1-SWI-019 | J72: L070: T1/1/5 | K72: L070: T2/1/1 | L72: Fibra LX | M72: L070 | N72: -8.3940651 | O72: -34.980104 | P72: https://www.google.com/maps?q=-8.394065136229731,-34.98010436820961 | Q72: Alta | S72: =HYPERLINK("imagens/CAM_034.jpg","Abrir imagem") -> Abrir imagem
B73: BR-PE-IPO1-CCTV-CAM - 035 | C73: CAMERA_CFTV | D73: N/I | E73: CAMERA_CFTV | F73: PERIMETRO LESTE | G73: 10.173.138.45 | H73: Switch Industrial | I73: BR-PE-IPO1-SWI-019 | J73: L071: T1/1/6 | K73: L071: T2/1/1 | L73: Fibra LX | M73: L071 | N73: -8.394102 | O73: -34.980098 | P73: https://www.google.com/maps?q=-8.394101965843703,-34.98009800665028 | Q73: Alta | S73: =HYPERLINK("imagens/CAM_035.jpg","Abrir imagem") -> Abrir imagem
B74: BR-PE-IPO1-CCTV-CAM - 036 | C74: CAMERA_CFTV | D74: N/I | E74: CAMERA_CFTV | F74: PERIMETRO LESTE | G74: 10.173.138.46 | H74: Switch Industrial | I74: BR-PE-IPO1-SWI-015 | J74: L072: T1/1/5 | K74: L072: T2/1/1 | L74: Fibra LX | M74: L072 | N74: -8.3945159 | O74: -34.980072 | P74: https://www.google.com/maps?q=-8.394515943611621,-34.98007171879629 | Q74: Alta | S74: =HYPERLINK("imagens/CAM_036.jpg","Abrir imagem") -> Abrir imagem
B75: BR-PE-IPO1-CCTV-CAM - 037 | C75: CAMERA_CFTV | D75: N/I | E75: CAMERA_CFTV | F75: PERIMETRO LESTE | G75: 10.173.138.47 | H75: Switch Industrial | I75: BR-PE-IPO1-SWI-015 | J75: L073: T1/1/6 | K75: L073: T2/1/1 | L75: Fibra LX | M75: L073 | N75: -8.3945407 | O75: -34.980069 | P75: https://www.google.com/maps?q=-8.394540709744033,-34.98006934949468 | Q75: Alta | S75: =HYPERLINK("imagens/CAM_037.jpg","Abrir imagem") -> Abrir imagem
B76: BR-PE-IPO1-CCTV-CAM - 038 | C76: CAMERA_CFTV | D76: N/I | E76: N/I | F76: ACESSO SL SERVIDOR | G76: 10.173.138.48 | H76: Switch Industrial | I76: BR-PE-IPO1-SWA-005 | J76: L074: T1/1/2 | K76: L074: T2/1/1 | L76: Fibra LX | M76: L074 | N76: -8.3944363 | O76: -34.980709 | P76: https://www.google.com/maps?q=-8.39443627446032,-34.98070909752835 | Q76: Alta | S76: =HYPERLINK("imagens/CAM_038.jpg","Abrir imagem") -> Abrir imagem
B77: BR-PE-IPO1-CCTV-CAM - 039 | C77: CAMERA_CFTV | D77: N/I | E77: N/I | F77: ACESSO SUBSTAÇÃO 01 | G77: 10.173.138.49 | H77: Switch Industrial | I77: BR-PE-IPO1-SWA-012 | J77: L075: T1/1/1 | K77: L075: T2/1/1 | L77: Fibra LX | M77: L075 | N77: -8.3952257 | O77: -34.981376 | P77: https://www.google.com/maps?q=-8.395225725979795,-34.98137599534356 | Q77: Alta | S77: =HYPERLINK("imagens/CAM_039.jpg","Abrir imagem") -> Abrir imagem
B78: BR-PE-IPO1-CCTV-CAM - 040 | C78: CAMERA_CFTV | D78: N/I | E78: N/I | F78: ACESSO SUBSTAÇÃO | G78: 10.173.138.50 | H78: Switch Industrial | I78: BR-PE-IPO1-SWA-012 | J78: L076: T1/1/2 | K78: L076: T2/1/1 | L78: Fibra LX | M78: L076 | N78: -8.3951243 | O78: -34.981468 | P78: https://www.google.com/maps?q=-8.395124251859327,-34.98146750151291 | Q78: Alta | S78: =HYPERLINK("imagens/CAM_040.jpg","Abrir imagem") -> Abrir imagem
B79: BR-PE-IPO1-CCTV-CAM - 041 | C79: CAMERA_CFTV | D79: N/I | E79: N/I | F79: ACESSO ARMAZEM | G79: 10.173.138.51 | H79: Switch Industrial | I79: BR-PE-IPO1-SWA-010 | J79: L077: T1/1/3 | K79: L077: T2/1/1 | L79: Fibra LX | M79: L077 | N79: -8.3945653 | O79: -34.982175 | P79: https://www.google.com/maps?q=-8.39456529245095,-34.98217458405846 | Q79: Alta | S79: =HYPERLINK("imagens/CAM_041.jpg","Abrir imagem") -> Abrir imagem
B80: BR-PE-IPO1-CCTV-CAM - 042 | C80: CAMERA_CFTV | D80: N/I | E80: N/I | F80: ADMINISTRATIVO | G80: 10.173.138.52 | H80: Switch Industrial | I80: BR-PE-IPO1-SWA-010 | J80: L078: T1/1/4 | K80: L078: T2/1/1 | L80: Fibra LX | M80: L078 | N80: -8.3941373 | O80: -34.982064 | P80: https://www.google.com/maps?q=-8.394137301612771,-34.98206400222836 | Q80: Alta | S80: =HYPERLINK("imagens/CAM_042.jpg","Abrir imagem") -> Abrir imagem
B81: BR-PE-IPO1-CCTV-CAM - 043 | C81: CAMERA_CFTV | D81: N/I | E81: N/I | F81: 1 ANDAR LIMPEZA | G81: 10.173.138.53 | H81: Switch Industrial | I81: BR-PE-IPO1-SWA-009 | J81: L079: T1/1/1 | K81: L079: T2/1/1 | L81: Fibra LX | M81: L079 | N81: -8.3937335 | O81: -34.981474 | P81: https://www.google.com/maps?q=-8.393733535961838,-34.98147415254873 | Q81: Alta | S81: =HYPERLINK("imagens/CAM_043.jpg","Abrir imagem") -> Abrir imagem
B82: BR-PE-IPO1-CCTV-CAM - 044 | C82: CAMERA_CFTV | D82: N/I | E82: N/I | F82: ACESSO A PORTARIA | G82: 10.173.138.54 | H82: Switch Industrial | I82: BR-PE-IPO1-SWA-004 | J82: L080: T1/1/3 | K82: L080: T2/1/1 | L82: Fibra LX | M82: L080 | N82: -8.3929732 | O82: -34.980584 | P82: https://www.google.com/maps?q=-8.392973178228337,-34.98058419457563 | Q82: Alta | S82: =HYPERLINK("imagens/CAM_044.jpg","Abrir imagem") -> Abrir imagem
B83: BR-PE-IPO1-CCTV-CAM - 045 | C83: CAMERA_CFTV | D83: N/I | E83: N/I | F83: ACESSO A SALA CFTV | G83: 10.173.138.55 | H83: Switch Industrial | I83: BR-PE-IPO1-SWA-004 | J83: L081: T1/1/4 | K83: L081: T2/1/1 | L83: Fibra LX | M83: L081 | N83: -8.3931596 | O83: -34.980617 | P83: https://www.google.com/maps?q=-8.393159608830874,-34.9806172327275 | Q83: Alta | S83: =HYPERLINK("imagens/CAM_045.jpg","Abrir imagem") -> Abrir imagem
B84: BR-PE-IPO1-CCTV-CAM - 046 | C84: CAMERA_CFTV | D84: N/I | E84: N/I | F84: CANCELA ENTRADA E SAIDA | G84: 10.173.138.56 | H84: Switch Industrial | I84: BR-PE-IPO1-SWA-004 | J84: L082: T1/1/5 | K84: L082: T2/1/1 | L84: Fibra LX | M84: L082 | N84: -8.3929967 | O84: -34.980491 | P84: https://www.google.com/maps?q=-8.392996699441309,-34.98049116710096 | Q84: Alta | S84: =HYPERLINK("imagens/CAM_046.jpg","Abrir imagem") -> Abrir imagem
B85: BR-PE-IPO1-CCTV-CAM - 047 | C85: CAMERA_CFTV | D85: N/I | E85: N/I | F85: PATIO SILOS | G85: 10.173.138.57 | H85: Switch Industrial | I85: BR-PE-IPO1-SWA-007 | J85: L083: T1/1/1 | K85: L083: T2/1/1 | L85: Fibra LX | M85: L083 | N85: -8.3933549 | O85: -34.981368 | P85: https://www.google.com/maps?q=-8.393354884708874,-34.9813679265949 | Q85: Alta | S85: =HYPERLINK("imagens/CAM_047.jpg","Abrir imagem") -> Abrir imagem
B86: BR-PE-IPO1-CCTV-CAM - 048 | C86: CAMERA_CFTV | D86: N/I | E86: N/I | F86: ESTEIRA | G86: 10.173.138.58 | H86: Switch Industrial | I86: BR-PE-IPO1-SWA-007 | J86: L084: T1/1/2 | K86: L084: T2/1/1 | L86: Fibra LX | M86: L084 | N86: -8.3933712 | O86: -34.981405 | P86: https://www.google.com/maps?q=-8.39337123821898,-34.98140494740467 | Q86: Alta | S86: =HYPERLINK("imagens/CAMERA.png","Abrir imagem") -> Abrir imagem
B87: BR-PE-IPO1-CCTV-CAM - 049 | C87: CAMERA_CFTV | D87: N/I | E87: N/I | F87: ESTEIRA | G87: 10.173.138.59 | H87: Switch Industrial | I87: BR-PE-IPO1-SWA-007 | J87: L085: T1/1/3 | K87: L085: T2/1/1 | L87: Fibra LX | M87: L085 | N87: -8.3926655 | O87: -34.981447 | P87: https://www.google.com/maps?q=-8.392665547885436,-34.98144737448115 | Q87: Alta | S87: =HYPERLINK("imagens/CAMERA.png","Abrir imagem") -> Abrir imagem
B88: BR-PE-IPO1-CCTV-CAM - 050 | C88: CAMERA_CFTV | D88: N/I | E88: N/I | F88: SUBSTAÇÃO ESTEIRA | G88: 10.173.138.60 | H88: Switch Industrial | I88: BR-PE-IPO1-SWA-007 | J88: L086: T1/1/4 | K88: L086: T2/1/1 | L88: Fibra LX | M88: L086 | N88: -8.3925936 | O88: -34.981459 | P88: https://www.google.com/maps?q=-8.392593551275104,-34.98145937717768 | Q88: Alta | S88: =HYPERLINK("imagens/CAMERA.png","Abrir imagem") -> Abrir imagem
B89: BR-PE-IPO1-CCTV-CAM - 051 | C89: CAMERA_CFTV | D89: N/I | E89: N/I | F89: ESTEIRA | G89: 10.173.138.61 | H89: Switch Industrial | I89: BR-PE-IPO1-SWA-007 | J89: L087: T1/1/5 | K89: L087: T2/1/1 | L89: Fibra LX | M89: L087 | N89: -8.3926213 | O89: -34.981392 | P89: https://www.google.com/maps?q=-8.39262134663708,-34.98139234603293 | Q89: Alta | S89: =HYPERLINK("imagens/CAMERA.png","Abrir imagem") -> Abrir imagem
B90: BR-PE-IPO1-CCTV-CAM - 052 | C90: CAMERA_CFTV | D90: N/I | E90: N/I | F90: ESTEIRA | G90: 10.173.138.62 | H90: Switch Industrial | I90: BR-PE-IPO1-SWA-007 | J90: L088: T1/1/6 | K90: L088: T2/1/1 | L90: Fibra LX | M90: L088 | N90: -8.3921968 | O90: -34.972937 | P90: https://www.google.com/maps?q=-8.392196777512515,-34.97293654714609 | Q90: Alta | S90: =HYPERLINK("imagens/CAMERA.png","Abrir imagem") -> Abrir imagem
B91: BR-PE-IPO1-CCTV-CAM - 053 | C91: CAMERA_CFTV | D91: N/I | E91: N/I | F91: SUBSTAÇÃO ESTEIRA | G91: 10.173.138.63 | H91: Switch Industrial | I91: BR-PE-IPO1-SWA-007 | J91: L089: T1/1/7 | K91: L089: T2/1/1 | L91: Fibra LX | M91: L089 | N91: -8.3922315 | O91: -34.972861 | P91: https://www.google.com/maps?q=-8.39223150563182,-34.9728613716107 | Q91: Alta | S91: =HYPERLINK("imagens/CAMERA.png","Abrir imagem") -> Abrir imagem
B92: BR-PE-IPO1-CCTV-CAM - 054 | C92: CAMERA_CFTV | D92: N/I | E92: N/I | F92: ESTEIRA | G92: 10.173.138.64 | H92: Switch Industrial | I92: BR-PE-IPO1-SWA-007 | J92: L090: T1/1/8 | K92: L090: T2/1/1 | L92: Fibra LX | M92: L090 | N92: -8.3921682 | O92: -34.972839 | P92: https://www.google.com/maps?q=-8.392168221573607,-34.97283917520677 | Q92: Alta | S92: =HYPERLINK("imagens/CAMERA.png","Abrir imagem") -> Abrir imagem
B93: BR-PE-IPO1-CCTV-CAM - 055 | C93: CAMERA_CFTV | D93: N/I | E93: N/I | F93: ACESSO A SUBSTAÇÃO 2 | G93: 10.173.138.65 | H93: Switch Industrial | I93: BR-PE-IPO1-SWA-007 | J93: L091: T1/1/9 | K93: L091: T2/1/1 | L93: Fibra LX | M93: L091 | N93: -8.3939282 | O93: -34.981875 | P93: https://www.google.com/maps?q=-8.393928194965712,-34.98187531103486 | Q93: Alta | S93: =HYPERLINK("imagens/CAM_055.jpg","Abrir imagem") -> Abrir imagem
B94: BR-PE-IPO1-CCTV-CAM - 056 | C94: CAMERA_CFTV | D94: N/I | E94: N/I | F94: SALA CFTV | G94: 10.173.138.66 | H94: Switch Industrial | I94: BR-PE-IPO1-SWA-004 | J94: L092: T1/1/6 | K94: L092: T2/1/1 | L94: Fibra LX | M94: L092 | N94: -8.3930395 | O94: -34.980586 | P94: https://www.google.com/maps?q=-8.393039524586428,-34.98058567722471 | Q94: Alta | S94: =HYPERLINK("imagens/CAM_056.jpg","Abrir imagem") -> Abrir imagem
B95: BR-PE-IPO1-CCTV-CAM - 058 | C95: CAMERA_CFTV | D95: N/I | E95: N/I | F95: ENTRADA DA PRODUÇÃO | G95: 10.173.138.67 | H95: Switch Industrial | I95: BR-PE-IPO1-SWA-007 | J95: L093: T1/1/1 | K95: L093: T2/1/1 | L95: Fibra LX | M95: L093 | N95: -8.3938631 | O95: -34.981969 | P95: https://www.google.com/maps?q=-8.393863096691657,-34.98196909780188 | Q95: Alta | S95: =HYPERLINK("imagens/CAM_058.jpg","Abrir imagem") -> Abrir imagem
B96: BR-PE-IPO1-CCTV-CAM - 059 | C96: CAMERA_CFTV | D96: N/I | E96: N/I | F96: ENTRADA DA LOGISTICA | G96: 10.173.138.68 | H96: Switch Industrial | I96: BR-PE-IPO1-SWA-010 | J96: L094: T1/1/6 | K96: L094: T2/1/1 | L96: Fibra LX | M96: L094 | N96: -8.3944506 | O96: -34.982171 | P96: https://www.google.com/maps?q=-8.394450571026178,-34.98217141920166 | Q96: Alta | S96: =HYPERLINK("imagens/CAM_059.jpg","Abrir imagem") -> Abrir imagem
B97: BR-PE-IPO1-CCTV-CAM - 060 | C97: CAMERA_CFTV | D97: N/I | E97: N/I | F97: REFEITORIO | G97: 10.173.138.70 | H97: Switch Industrial | I97: BR-PE-IPO1-SWA-006 | J97: L095: T1/1/1 | K97: L095: T2/1/1 | L97: Fibra LX | M97: L095 | N97: -8.3946051 | O97: -34.981034 | P97: https://www.google.com/maps?q=-8.39460505491663,-34.98103378991059 | Q97: Alta | S97: =HYPERLINK("imagens/CAM_060.jpg","Abrir imagem") -> Abrir imagem
B98: BR-PE-IPO1-CCTV-CAM - 061 | C98: CAMERA_CFTV | D98: N/I | E98: N/I | F98: REFEITORIO | G98: 10.173.138.71 | H98: Switch Industrial | I98: BR-PE-IPO1-SWA-006 | J98: L096: T1/1/2 | K98: L096: T2/1/1 | L98: Fibra LX | M98: L096 | N98: -8.3946249 | O98: -34.980933 | P98: https://www.google.com/maps?q=-8.394624910023708,-34.98093336081025 | Q98: Alta | S98: =HYPERLINK("imagens/CAM_061.jpg","Abrir imagem") -> Abrir imagem
B99: PRI INTERNET | C99: ROUTER | D99: N/I | E99: N/I | F99: INTERNET | G99: 189.23.196.2 | H99: Ponto identificado em ligacao | I99: BR-PE-IPO1-RTC-001 | J99: L001: Vni-01 | K99: L001: Vni-02 | L99: UTP | M99: L001 | Q99: Alta | S99: =HYPERLINK("imagens/ROUTER.png","Abrir imagem") -> Abrir imagem
B100: TER BANDA | C100: ROUTER | D100: N/I | E100: N/I | F100: INTERNET | G100: 179.189.249.62 | H100: Ponto identificado em ligacao | I100: BR-PE-IPO1-RTC-003 | J100: L002: Vni-01 | K100: L002: Vni-02 | L100: UTP | M100: L002 | Q100: Alta | S100: =HYPERLINK("imagens/ROUTER.png","Abrir imagem") -> Abrir imagem
B101: SEC INTERNET | C101: ROUTER | D101: N/I | E101: N/I | F101: INTERNET | G101: 187.32.41.121 | H101: Ponto identificado em ligacao | I101: BR-PE-IPO1-RTC-002 | J101: L003: Vni-01 | K101: L003: Vni-02 | L101: UTP | M101: L003 | Q101: Alta | S101: =HYPERLINK("imagens/ROUTER.png","Abrir imagem") -> Abrir imagem
...

Sheet Mapa Geografico
A1: BUNGE Brasil - Moinho Ipojuca | Posicionamento geografico das cameras
A2: Pontos normalizados em latitude/longitude decimal. Clique nos links da tabela para abrir no Google Maps.
N4: Ativo | O4: Tipo | P4: Setor | Q4: IP | R4: Latitude | S4: Longitude | T4: Google Maps | U4: Link Imagem
N5: BR-PE-IPO1-CCTV-CAM - 001 | O5: CAMERA_CFTV | P5: PERIMETRO SULDESTE | Q5: 10.173.138.11 | R5: -8.3949917 | S5: -34.980039 | T5: https://www.google.com/maps?q=-8.394991674577888,-34.98003874659464 | U5: =HYPERLINK("imagens/CAM_001.jpg","Abrir imagem") -> Abrir imagem
N6: BR-PE-IPO1-CCTV-CAM - 002 | O6: CAMERA_CFTV | P6: PERIMETRO SULDESTE | Q6: 10.173.138.12 | R6: -8.3950224 | S6: -34.98006 | T6: https://www.google.com/maps?q=-8.395022413340026,-34.98005977380735 | U6: =HYPERLINK("imagens/CAM_002.jpg","Abrir imagem") -> Abrir imagem
N7: BR-PE-IPO1-CCTV-CAM - 003 | O7: CAMERA_CFTV | P7: PERIMETRO SULDESTE | Q7: 10.173.138.13 | R7: -8.3949672 | S7: -34.980082 | T7: https://www.google.com/maps?q=-8.39496723611927,-34.98008184506837 | U7: =HYPERLINK("imagens/CAM_003.jpg","Abrir imagem") -> Abrir imagem
N8: BR-PE-IPO1-CCTV-CAM - 004 | O8: CAMERA_CFTV | P8: PERIMETRO SUL | Q8: 10.173.138.14 | R8: -8.3951251 | S8: -34.980655 | T8: https://www.google.com/maps?q=-8.395125089522297,-34.98065467561339 | U8: =HYPERLINK("imagens/CAM_004.jpg","Abrir imagem") -> Abrir imagem
N9: BR-PE-IPO1-CCTV-CAM - 005 | O9: CAMERA_CFTV | P9: PERIMETRO SUL | Q9: 10.173.138.15 | R9: -8.3951279 | S9: -34.98064 | T9: https://www.google.com/maps?q=-8.395127926678674,-34.98064042856126 | U9: =HYPERLINK("imagens/CAM_005.jpg","Abrir imagem") -> Abrir imagem
N10: BR-PE-IPO1-CCTV-CAM - 006 | O10: CAMERA_CFTV | P10: PERIMETRO SUL | Q10: 10.173.138.16 | R10: -8.3951883 | S10: -34.9811 | T10: https://www.google.com/maps?q=-8.395188327562373,-34.98109996612019 | U10: =HYPERLINK("imagens/CAM_006.jpg","Abrir imagem") -> Abrir imagem
N11: BR-PE-IPO1-CCTV-CAM - 007 | O11: CAMERA_CFTV | P11: PERIMETRO SUL | Q11: 10.173.138.17 | R11: -8.3951865 | S11: -34.981115 | T11: https://www.google.com/maps?q=-8.395186471895206,-34.9811145036329 | U11: =HYPERLINK("imagens/CAM_007.jpg","Abrir imagem") -> Abrir imagem
N12: BR-PE-IPO1-CCTV-CAM - 008 | O12: CAMERA_CFTV | P12: PERIMETRO SUL | Q12: 10.173.138.18 | R12: -8.3952771 | S12: -34.981704 | T12: https://www.google.com/maps?q=-8.395277132448,-34.98170398009776 | U12: =HYPERLINK("imagens/CAM_008.jpg","Abrir imagem") -> Abrir imagem
N13: BR-PE-IPO1-CCTV-CAM - 009 | O13: CAMERA_CFTV | P13: PERIMETRO SUL | Q13: 10.173.138.19 | R13: -8.3952778 | S13: -34.981717 | T13: https://www.google.com/maps?q=-8.395277847209265,-34.98171721095139 | U13: =HYPERLINK("imagens/CAM_009.jpg","Abrir imagem") -> Abrir imagem
N14: BR-PE-IPO1-CCTV-CAM - 010 | O14: CAMERA_CFTV | P14: PERIMETRO SUL | Q14: 10.173.138.20 | R14: -8.395451 | S14: -34.982351 | T14: https://www.google.com/maps?q=-8.395451046249885,-34.98235109376746 | U14: =HYPERLINK("imagens/CAM_010.jpg","Abrir imagem") -> Abrir imagem
N15: BR-PE-IPO1-CCTV-CAM - 011 | O15: CAMERA_CFTV | P15: PERIMETRO SUL | Q15: 10.173.138.21 | R15: -8.3954557 | S15: -34.982404 | T15: https://www.google.com/maps?q=-8.395455657754992,-34.98240408535023 | U15: =HYPERLINK("imagens/CAM_011.jpg","Abrir imagem") -> Abrir imagem
N16: BR-PE-IPO1-CCTV-CAM - 012 | O16: CAMERA_CFTV | P16: PERIMETRO SUL | Q16: 10.173.138.22 | R16: -8.39551 | S16: -34.982718 | T16: https://www.google.com/maps?q=-8.395510018733498,-34.98271765335036 | U16: =HYPERLINK("imagens/CAM_012.jpg","Abrir imagem") -> Abrir imagem
N17: BR-PE-IPO1-CCTV-CAM - 013 | O17: CAMERA_CFTV | P17: PERIMETRO SULDOESTE | Q17: 10.173.138.23 | R17: -8.3955171 | S17: -34.982777 | T17: https://www.google.com/maps?q=-8.395517149561515,-34.98277740821111 | U17: =HYPERLINK("imagens/CAM_013.jpg","Abrir imagem") -> Abrir imagem
N18: BR-PE-IPO1-CCTV-CAM - 014 | O18: CAMERA_CFTV | P18: PERIMETRO OESTE | Q18: 10.173.138.24 | R18: -8.3948453 | S18: -34.982791 | T18: https://www.google.com/maps?q=-8.394845346309204,-34.98279124674493 | U18: =HYPERLINK("imagens/CAM_014.jpg","Abrir imagem") -> Abrir imagem
N19: BR-PE-IPO1-CCTV-CAM - 015 | O19: CAMERA_CFTV | P19: PERIMETRO OESTE | Q19: 10.173.138.25 | R19: -8.3947787 | S19: -34.98279 | T19: https://www.google.com/maps?q=-8.39477872221857,-34.98278956668728 | U19: =HYPERLINK("imagens/CAM_015.jpg","Abrir imagem") -> Abrir imagem
N20: BR-PE-IPO1-CCTV-CAM - 016 | O20: CAMERA_CFTV | P20: PERIMETRO OESTE | Q20: 10.173.138.26 | R20: -8.3943066 | S20: -34.982818 | T20: https://www.google.com/maps?q=-8.394306625289175,-34.98281848037762 | U20: =HYPERLINK("imagens/CAM_016.jpg","Abrir imagem") -> Abrir imagem
N21: BR-PE-IPO1-CCTV-CAM - 017 | O21: CAMERA_CFTV | P21: PERIMETRO OESTE | Q21: 10.173.138.27 | R21: -8.3942292 | S21: -34.98281 | T21: https://www.google.com/maps?q=-8.394229216478715,-34.98281017326516 | U21: =HYPERLINK("imagens/CAM_017.jpg","Abrir imagem") -> Abrir imagem
N22: BR-PE-IPO1-CCTV-CAM - 018 | O22: CAMERA_CFTV | P22: PERIMETRO OESTE | Q22: 10.173.138.28 | R22: -8.3936197 | S22: -34.982892 | T22: https://www.google.com/maps?q=-8.39361967763889,-34.98289150149289 | U22: =HYPERLINK("imagens/CAM_018.jpg","Abrir imagem") -> Abrir imagem
N23: BR-PE-IPO1-CCTV-CAM - 019 | O23: CAMERA_CFTV | P23: PERIMETRO OESTE | Q23: 10.173.138.29 | R23: -8.3935679 | S23: -34.982894 | T23: https://www.google.com/maps?q=-8.39356791936792,-34.98289380280738 | U23: =HYPERLINK("imagens/CAM_019.jpg","Abrir imagem") -> Abrir imagem
N24: BR-PE-IPO1-CCTV-CAM - 020 | O24: CAMERA_CFTV | P24: PERIMETRO NOROESTE | Q24: 10.173.138.30 | R24: -8.3930966 | S24: -34.982905 | T24: https://www.google.com/maps?q=-8.393096578013173,-34.98290510206887 | U24: =HYPERLINK("imagens/CAM_020.jpg","Abrir imagem") -> Abrir imagem
N25: BR-PE-IPO1-CCTV-CAM - 021 | O25: CAMERA_CFTV | P25: PERIMETRO NOROESTE | Q25: 10.173.138.31 | R25: -8.3930682 | S25: -34.982907 | T25: https://www.google.com/maps?q=-8.393068228934652,-34.98290723261054 | U25: =HYPERLINK("imagens/CAM_021.jpg","Abrir imagem") -> Abrir imagem
N26: BR-PE-IPO1-CCTV-CAM - 022 | O26: CAMERA_CFTV | P26: PERIMETRO NORTE | Q26: 10.173.138.32 | R26: -8.3930598 | S26: -34.982542 | T26: https://www.google.com/maps?q=-8.393059770778834,-34.98254222230981 | U26: =HYPERLINK("imagens/CAM_022.jpg","Abrir imagem") -> Abrir imagem
N27: BR-PE-IPO1-CCTV-CAM - 023 | O27: CAMERA_CFTV | P27: PERIMETRO NORTE | Q27: 10.173.138.33 | R27: -8.3930612 | S27: -34.982509 | T27: https://www.google.com/maps?q=-8.393061182253188,-34.98250946123082 | U27: =HYPERLINK("imagens/CAM_023.jpg","Abrir imagem") -> Abrir imagem
N28: BR-PE-IPO1-CCTV-CAM - 024 | O28: CAMERA_CFTV | P28: PERIMETRO NORTE | Q28: 10.173.138.34 | R28: -8.3930425 | S28: -34.981933 | T28: https://www.google.com/maps?q=-8.39304251085938,-34.9819329778252 | U28: =HYPERLINK("imagens/CAM_024.jpg","Abrir imagem") -> Abrir imagem
N29: BR-PE-IPO1-CCTV-CAM - 025 | O29: CAMERA_CFTV | P29: PERIMETRO NORTE | Q29: 10.173.138.35 | R29: -8.3930305 | S29: -34.981857 | T29: https://www.google.com/maps?q=-8.39303047757866,-34.98185658474576 | U29: =HYPERLINK("imagens/CAM_025.jpg","Abrir imagem") -> Abrir imagem
N30: BR-PE-IPO1-CCTV-CAM - 026 | O30: CAMERA_CFTV | P30: PERIMETRO NORTE | Q30: 10.173.138.36 | R30: -8.3929513 | S30: -34.981281 | T30: https://www.google.com/maps?q=-8.392951323427157,-34.98128147101797 | U30: =HYPERLINK("imagens/CAM_026.jpg","Abrir imagem") -> Abrir imagem
N31: BR-PE-IPO1-CCTV-CAM - 027 | O31: CAMERA_CFTV | P31: PERIMETRO NORTE | Q31: 10.173.138.37 | R31: -8.3929503 | S31: -34.981262 | T31: https://www.google.com/maps?q=-8.392950267972045,-34.98126222118234 | U31: =HYPERLINK("imagens/CAM_027.jpg","Abrir imagem") -> Abrir imagem
N32: BR-PE-IPO1-CCTV-CAM - 028 | O32: CAMERA_CFTV | P32: PERIMETRO NORTE | Q32: 10.173.138.38 | R32: -8.3929353 | S32: -34.980693 | T32: https://www.google.com/maps?q=-8.392935323461987,-34.98069289227146 | U32: =HYPERLINK("imagens/CAM_028.jpg","Abrir imagem") -> Abrir imagem
N33: BR-PE-IPO1-CCTV-CAM - 029 | O33: CAMERA_CFTV | P33: PERIMETRO NORTE | Q33: 10.173.138.39 | R33: -8.3929332 | S33: -34.980676 | T33: https://www.google.com/maps?q=-8.392933167973844,-34.98067550009899 | U33: =HYPERLINK("imagens/CAM_029.jpg","Abrir imagem") -> Abrir imagem
N34: BR-PE-IPO1-CCTV-CAM - 030 | O34: CAMERA_CFTV | P34: PERIMETRO NOROESTE | Q34: 10.173.138.40 | R34: -8.3929218 | S34: -34.980163 | T34: https://www.google.com/maps?q=-8.39292178708134,-34.98016266238712 | U34: =HYPERLINK("imagens/CAM_030.jpg","Abrir imagem") -> Abrir imagem
N35: BR-PE-IPO1-CCTV-CAM - 031 | O35: CAMERA_CFTV | P35: PERIMETRO NOROESTE | Q35: 10.173.138.41 | R35: -8.3929737 | S35: -34.980144 | T35: https://www.google.com/maps?q=-8.392973734810406,-34.98014368968758 | U35: =HYPERLINK("imagens/CAM_031.jpg","Abrir imagem") -> Abrir imagem
N36: BR-PE-IPO1-CCTV-CAM - 032 | O36: CAMERA_CFTV | P36: PERIMETRO LESTE | Q36: 10.173.138.42 | R36: -8.3932633 | S36: -34.980139 | T36: https://www.google.com/maps?q=-8.393263281649674,-34.98013882270176 | U36: =HYPERLINK("imagens/CAM_032.jpg","Abrir imagem") -> Abrir imagem
N37: BR-PE-IPO1-CCTV-CAM - 033 | O37: CAMERA_CFTV | P37: PERIMETRO LESTE | Q37: 10.173.138.43 | R37: -8.393302 | S37: -34.980134 | T37: https://www.google.com/maps?q=-8.393302030071697,-34.98013367818771 | U37: =HYPERLINK("imagens/CAM_033.jpg","Abrir imagem") -> Abrir imagem
N38: BR-PE-IPO1-CCTV-CAM - 034 | O38: CAMERA_CFTV | P38: PERIMETRO LESTE | Q38: 10.173.138.44 | R38: -8.3940651 | S38: -34.980104 | T38: https://www.google.com/maps?q=-8.394065136229731,-34.98010436820961 | U38: =HYPERLINK("imagens/CAM_034.jpg","Abrir imagem") -> Abrir imagem
N39: BR-PE-IPO1-CCTV-CAM - 035 | O39: CAMERA_CFTV | P39: PERIMETRO LESTE | Q39: 10.173.138.45 | R39: -8.394102 | S39: -34.980098 | T39: https://www.google.com/maps?q=-8.394101965843703,-34.98009800665028 | U39: =HYPERLINK("imagens/CAM_035.jpg","Abrir imagem") -> Abrir imagem
N40: BR-PE-IPO1-CCTV-CAM - 036 | O40: CAMERA_CFTV | P40: PERIMETRO LESTE | Q40: 10.173.138.46 | R40: -8.3945159 | S40: -34.980072 | T40: https://www.google.com/maps?q=-8.394515943611621,-34.98007171879629 | U40: =HYPERLINK("imagens/CAM_036.jpg","Abrir imagem") -> Abrir imagem
N41: BR-PE-IPO1-CCTV-CAM - 037 | O41: CAMERA_CFTV | P41: PERIMETRO LESTE | Q41: 10.173.138.47 | R41: -8.3945407 | S41: -34.980069 | T41: https://www.google.com/maps?q=-8.394540709744033,-34.98006934949468 | U41: =HYPERLINK("imagens/CAM_037.jpg","Abrir imagem") -> Abrir imagem
N42: BR-PE-IPO1-CCTV-CAM - 038 | O42: CAMERA_CFTV | P42: ACESSO SL SERVIDOR | Q42: 10.173.138.48 | R42: -8.3944363 | S42: -34.980709 | T42: https://www.google.com/maps?q=-8.39443627446032,-34.98070909752835 | U42: =HYPERLINK("imagens/CAM_038.jpg","Abrir imagem") -> Abrir imagem
N43: BR-PE-IPO1-CCTV-CAM - 039 | O43: CAMERA_CFTV | P43: ACESSO SUBSTAÇÃO 01 | Q43: 10.173.138.49 | R43: -8.3952257 | S43: -34.981376 | T43: https://www.google.com/maps?q=-8.395225725979795,-34.98137599534356 | U43: =HYPERLINK("imagens/CAM_039.jpg","Abrir imagem") -> Abrir imagem
N44: BR-PE-IPO1-CCTV-CAM - 040 | O44: CAMERA_CFTV | P44: ACESSO SUBSTAÇÃO | Q44: 10.173.138.50 | R44: -8.3951243 | S44: -34.981468 | T44: https://www.google.com/maps?q=-8.395124251859327,-34.98146750151291 | U44: =HYPERLINK("imagens/CAM_040.jpg","Abrir imagem") -> Abrir imagem
N45: BR-PE-IPO1-CCTV-CAM - 041 | O45: CAMERA_CFTV | P45: ACESSO ARMAZEM | Q45: 10.173.138.51 | R45: -8.3945653 | S45: -34.982175 | T45: https://www.google.com/maps?q=-8.39456529245095,-34.98217458405846 | U45: =HYPERLINK("imagens/CAM_041.jpg","Abrir imagem") -> Abrir imagem
N46: BR-PE-IPO1-CCTV-CAM - 042 | O46: CAMERA_CFTV | P46: ADMINISTRATIVO | Q46: 10.173.138.52 | R46: -8.3941373 | S46: -34.982064 | T46: https://www.google.com/maps?q=-8.394137301612771,-34.98206400222836 | U46: =HYPERLINK("imagens/CAM_042.jpg","Abrir imagem") -> Abrir imagem
N47: BR-PE-IPO1-CCTV-CAM - 043 | O47: CAMERA_CFTV | P47: 1 ANDAR LIMPEZA | Q47: 10.173.138.53 | R47: -8.3937335 | S47: -34.981474 | T47: https://www.google.com/maps?q=-8.393733535961838,-34.98147415254873 | U47: =HYPERLINK("imagens/CAM_043.jpg","Abrir imagem") -> Abrir imagem
N48: BR-PE-IPO1-CCTV-CAM - 044 | O48: CAMERA_CFTV | P48: ACESSO A PORTARIA | Q48: 10.173.138.54 | R48: -8.3929732 | S48: -34.980584 | T48: https://www.google.com/maps?q=-8.392973178228337,-34.98058419457563 | U48: =HYPERLINK("imagens/CAM_044.jpg","Abrir imagem") -> Abrir imagem
N49: BR-PE-IPO1-CCTV-CAM - 045 | O49: CAMERA_CFTV | P49: ACESSO A SALA CFTV | Q49: 10.173.138.55 | R49: -8.3931596 | S49: -34.980617 | T49: https://www.google.com/maps?q=-8.393159608830874,-34.9806172327275 | U49: =HYPERLINK("imagens/CAM_045.jpg","Abrir imagem") -> Abrir imagem
N50: BR-PE-IPO1-CCTV-CAM - 046 | O50: CAMERA_CFTV | P50: CANCELA ENTRADA E SAIDA | Q50: 10.173.138.56 | R50: -8.3929967 | S50: -34.980491 | T50: https://www.google.com/maps?q=-8.392996699441309,-34.98049116710096 | U50: =HYPERLINK("imagens/CAM_046.jpg","Abrir imagem") -> Abrir imagem
N51: BR-PE-IPO1-CCTV-CAM - 047 | O51: CAMERA_CFTV | P51: PATIO SILOS | Q51: 10.173.138.57 | R51: -8.3933549 | S51: -34.981368 | T51: https://www.google.com/maps?q=-8.393354884708874,-34.9813679265949 | U51: =HYPERLINK("imagens/CAM_047.jpg","Abrir imagem") -> Abrir imagem
N52: BR-PE-IPO1-CCTV-CAM - 048 | O52: CAMERA_CFTV | P52: ESTEIRA | Q52: 10.173.138.58 | R52: -8.3933712 | S52: -34.981405 | T52: https://www.google.com/maps?q=-8.39337123821898,-34.98140494740467 | U52: =HYPERLINK("imagens/CAMERA.png","Abrir imagem") -> Abrir imagem
N53: BR-PE-IPO1-CCTV-CAM - 049 | O53: CAMERA_CFTV | P53: ESTEIRA | Q53: 10.173.138.59 | R53: -8.3926655 | S53: -34.981447 | T53: https://www.google.com/maps?q=-8.392665547885436,-34.98144737448115 | U53: =HYPERLINK("imagens/CAMERA.png","Abrir imagem") -> Abrir imagem
N54: BR-PE-IPO1-CCTV-CAM - 050 | O54: CAMERA_CFTV | P54: SUBSTAÇÃO ESTEIRA | Q54: 10.173.138.60 | R54: -8.3925936 | S54: -34.981459 | T54: https://www.google.com/maps?q=-8.392593551275104,-34.98145937717768 | U54: =HYPERLINK("imagens/CAMERA.png","Abrir imagem") -> Abrir imagem
N55: BR-PE-IPO1-CCTV-CAM - 051 | O55: CAMERA_CFTV | P55: ESTEIRA | Q55: 10.173.138.61 | R55: -8.3926213 | S55: -34.981392 | T55: https://www.google.com/maps?q=-8.39262134663708,-34.98139234603293 | U55: =HYPERLINK("imagens/CAMERA.png","Abrir imagem") -> Abrir imagem
N56: BR-PE-IPO1-CCTV-CAM - 052 | O56: CAMERA_CFTV | P56: ESTEIRA | Q56: 10.173.138.62 | R56: -8.3921968 | S56: -34.972937 | T56: https://www.google.com/maps?q=-8.392196777512515,-34.97293654714609 | U56: =HYPERLINK("imagens/CAMERA.png","Abrir imagem") -> Abrir imagem
N57: BR-PE-IPO1-CCTV-CAM - 053 | O57: CAMERA_CFTV | P57: SUBSTAÇÃO ESTEIRA | Q57: 10.173.138.63 | R57: -8.3922315 | S57: -34.972861 | T57: https://www.google.com/maps?q=-8.39223150563182,-34.9728613716107 | U57: =HYPERLINK("imagens/CAMERA.png","Abrir imagem") -> Abrir imagem
N58: BR-PE-IPO1-CCTV-CAM - 054 | O58: CAMERA_CFTV | P58: ESTEIRA | Q58: 10.173.138.64 | R58: -8.3921682 | S58: -34.972839 | T58: https://www.google.com/maps?q=-8.392168221573607,-34.97283917520677 | U58: =HYPERLINK("imagens/CAMERA.png","Abrir imagem") -> Abrir imagem
N59: BR-PE-IPO1-CCTV-CAM - 055 | O59: CAMERA_CFTV | P59: ACESSO A SUBSTAÇÃO 2 | Q59: 10.173.138.65 | R59: -8.3939282 | S59: -34.981875 | T59: https://www.google.com/maps?q=-8.393928194965712,-34.98187531103486 | U59: =HYPERLINK("imagens/CAM_055.jpg","Abrir imagem") -> Abrir imagem
N60: BR-PE-IPO1-CCTV-CAM - 056 | O60: CAMERA_CFTV | P60: SALA CFTV | Q60: 10.173.138.66 | R60: -8.3930395 | S60: -34.980586 | T60: https://www.google.com/maps?q=-8.393039524586428,-34.98058567722471 | U60: =HYPERLINK("imagens/CAM_056.jpg","Abrir imagem") -> Abrir imagem
N61: BR-PE-IPO1-CCTV-CAM - 058 | O61: CAMERA_CFTV | P61: ENTRADA DA PRODUÇÃO | Q61: 10.173.138.67 | R61: -8.3938631 | S61: -34.981969 | T61: https://www.google.com/maps?q=-8.393863096691657,-34.98196909780188 | U61: =HYPERLINK("imagens/CAM_058.jpg","Abrir imagem") -> Abrir imagem
N62: BR-PE-IPO1-CCTV-CAM - 059 | O62: CAMERA_CFTV | P62: ENTRADA DA LOGISTICA | Q62: 10.173.138.68 | R62: -8.3944506 | S62: -34.982171 | T62: https://www.google.com/maps?q=-8.394450571026178,-34.98217141920166 | U62: =HYPERLINK("imagens/CAM_059.jpg","Abrir imagem") -> Abrir imagem
N63: BR-PE-IPO1-CCTV-CAM - 060 | O63: CAMERA_CFTV | P63: REFEITORIO | Q63: 10.173.138.70 | R63: -8.3946051 | S63: -34.981034 | T63: https://www.google.com/maps?q=-8.39460505491663,-34.98103378991059 | U63: =HYPERLINK("imagens/CAM_060.jpg","Abrir imagem") -> Abrir imagem
N64: BR-PE-IPO1-CCTV-CAM - 061 | O64: CAMERA_CFTV | P64: REFEITORIO ACESSO A COZINHA | Q64: 10.173.138.71 | R64: -8.3946249 | S64: -34.980933 | T64: https://www.google.com/maps?q=-8.394624910023708,-34.98093336081025 | U64: =HYPERLINK("imagens/CAM_061.jpg","Abrir imagem") -> Abrir imagem
N65: BR-PE-IPO1-CCTV-CAM - 062 | O65: Camera CFTV | P65: PATIO DPA EXTERNO | Q65: 10.173.138.72 | R65: -8.3945651 | S65: -34.982196 | T65: https://www.google.com/maps?q=-8.394565068035355,-34.98219609091107 | U65: =HYPERLINK("imagens/CAM_062.jpg","Abrir imagem") -> Abrir imagem
N66: BR-PE-IPO1-CCTV-CAM - 063 | O66: Camera CFTV | P66: PATIO DPA INTERNO | Q66: 10.173.138.73 | R66: -8.3944077 | S66: -34.982026 | T66: https://www.google.com/maps?q=-8.394407671205915,-34.98202551201338 | U66: =HYPERLINK("imagens/CAM_063.jpg","Abrir imagem") -> Abrir imagem
N67: BR-PE-IPO1-CCTV-CAM - 066 | O67: Camera CFTV | P67: ENTRADA BALANÇA | Q67: 10.173.138.76 | R67: -8.394937 | S67: -34.980753 | T67: https://www.google.com/maps?q=-8.394937021059343,-34.98075268662764 | U67: =HYPERLINK("imagens/CAM_066.jpg","Abrir imagem") -> Abrir imagem
N68: BR-PE-IPO1-CCTV-CAM - 067 | O68: Camera CFTV | P68: ENTRADA BALANÇA | Q68: 10.173.138.77 | R68: -8.3950029 | S68: -34.98109 | T68: https://www.google.com/maps?q=-8.39500289397036,-34.9810900746526 | U68: =HYPERLINK("imagens/CAM_067.jpg","Abrir imagem") -> Abrir imagem
N69: BR-PE-IPO1-CCTV-CAM - 068 | O69: Camera CFTV | P69: SAIDA BALANÇA | Q69: 10.173.138.78 | R69: -8.3950976 | S69: -34.981081 | T69: https://www.google.com/maps?q=-8.395097646379991,-34.98108083393364 | U69: =HYPERLINK("imagens/CAM_068.jpg","Abrir imagem") -> Abrir imagem
N70: BR-PE-IPO1-CCTV-CAM - 069 | O70: Camera CFTV | P70: SAIDA BALANÇA | Q70: 10.173.138.79 | R70: -8.3950734 | S70: -34.980745 | T70: https://www.google.com/maps?q=-8.395073393358041,-34.98074470728319 | U70: =HYPERLINK("imagens/CAM_069.jpg","Abrir imagem") -> Abrir imagem
