Workbook
Name BD_CCTV: Planilha1!$A$2:$H$68

Sheet Planilha2
A3: TIPO B | B3: Setor Destino | C3: Camada
A4: AP | B4: Administrativo | C4: Acesso
B5: DPA | C5: Acesso
B6: Faturamento | C6: Acesso
B7: Laboratorio | C7: Acesso
B8: Sup. Moagem | C8: Acesso
A9: HUB | B9: Laboratorio | C9: Acesso
A10: ROUTER | B10: Core | C10: Borda
C11: Core
C12: Seguranca
A13: SWITCH A | B13: Administrativo | C13: Distribuicao
B14: DPA | C14: Acesso Industrial
B15: Faturamento | C15: Backbone
B16: Laboratorio | C16: Acesso Industrial
B17: Perimetro (RP 01 - Esteiras) | C17: Acesso Industrial
B18: Perimetro (RP 02 - Esteiras) | C18: Acesso Industrial
B19: Portaria | C19: Acesso Industrial
B20: Refeitorio | C20: Acesso Industrial
B21: Sala de Servidores | C21: Acesso Industrial
B22: Subestacao | C22: Acesso Industrial
B23: Sup. Moagem | C23: Acesso Industrial
A24: SWITCH C | B24: Administrativo | C24: Core
C25: Distribuicao
A26: SWITCH I | B26: Faturamento | C26: Acesso Industrial
B27: Perimetro | C27: Acesso Industrial
B28: Perimetro (RP - 01) | C28: Acesso Industrial
B29: Perimetro (RP - 02) | C29: Acesso Industrial
B30: Perimetro (RP - 03) | C30: Acesso Industrial
B31: Perimetro (RP - 04) | C31: Acesso Industrial
B32: Perimetro (RP - 05) | C32: Acesso Industrial
B33: Perimetro (RP - 06) | C33: Acesso Industrial
B34: Portaria | C34: Acesso Industrial
B35: Sala de Servidores | C35: Acesso Industrial
B36: Subestacao | C36: Acesso Industrial

Sheet Ligacoes
A1: Notas de leitura
A2: Azul = Fibra SX; Verde = Fibra LX; Vermelho = UTP; quadrado preto = conversor.
A3: Portas com ? foram inferidas visualmente e precisam de confirmação no arquivo-fonte.
A4: A conexão SWA-005 <-> SWA-013 foi mantida como hipótese por continuidade visual da linha azul.
A5: Topologia LAN - Planilha completa das ligações extraídas da imagem
A8: ID Link | B8: Camada | C8: Setor Origem | D8: Origem | E8: IP_A | F8: TIPO A | G8: Porta Origem | H8: Setor Destino | I8: Destino | J8: IP_B | K8: TIPO B | L8: Porta Destino | M8: Midia | N8: Velocidade | O8: Status | P8: Confianca | Q8: Observacoes | R8: LAT | S8: LOGITUDE
A9: L001 | B9: Borda | C9: Internet | D9: PRI INTERNET | E9: 189.23.196.2 | F9: ROUTER | G9: Vni-01 | H9: Core | I9: BR-PE-IPO1-RTC-001 | J9: 189.23.196.2 | K9: ROUTER | L9: Vni-02 | M9: UTP | N9: 1G | O9: Ativo | P9: Alta
A10: L002 | B10: Borda | C10: Internet | D10: TER BANDA | E10: 179.189.249.62 | F10: ROUTER | G10: Vni-01 | H10: Core | I10: BR-PE-IPO1-RTC-003 | J10: 179.189.249.62 | K10: ROUTER | L10: Vni-02 | M10: UTP | N10: 1G | O10: Ativo | P10: Alta
A11: L003 | B11: Borda | C11: Internet | D11: SEC INTERNET | E11: 187.32.41.121 | F11: ROUTER | G11: Vni-01 | H11: Core | I11: BR-PE-IPO1-RTC-002 | J11: 187.32.41.121 | K11: ROUTER | L11: Vni-02 | M11: UTP | N11: 1G | O11: Ativo | P11: Alta
A12: L004 | B12: Borda | C12: Core | D12: BR-PE-IPO1-RTC-001 | E12: 189.23.196.2 | F12: ROUTER | G12: Vni-02 | H12: Core | I12: BR-PE-IPO1-SDE-001 | J12: 10.249.6.27 | K12: ROUTER | L12: NIC | M12: UTP | N12: 1G | O12: Ativo | P12: Alta
A13: L005 | B13: Borda | C13: Core | D13: BR-PE-IPO1-RTC-003 | E13: 179.189.249.62 | F13: ROUTER | G13: Vni-05 | H13: Core | I13: BR-PE-IPO1-SDE-001 | J13: 179.189.249.62 | K13: ROUTER | L13: NIC | M13: UTP | N13: 1G | O13: Ativo | P13: Alta
A14: L006 | B14: Borda | C14: Core | D14: BR-PE-IPO1-RTC-002 | E14: 10.249.7.27 | F14: ROUTER | G14: Vni-02 | H14: Core | I14: BR-PE-IPO1-SDE-002 | J14: 10.249.7.27 | K14: ROUTER | L14: NIC | M14: UTP | N14: 1G | O14: Ativo | P14: Alta
A15: L007 | B15: Seguranca | C15: Core | D15: BR-PE-IPO1-SDE-001 | F15: ROUTER | G15: Vni-06 | H15: Core | I15: BR-PE-IPO1-SDE-002 | K15: ROUTER | L15: Vni-06 | M15: UTP | N15: 1G | O15: Ativo | P15: Alta
A16: L008 | B16: Core | C16: Core | D16: BR-PE-IPO1-SDE-001 | E16: 10.249.6.27 | F16: ROUTER | G16: Vni0/3 | H16: Administrativo | I16: BR-PE-IPO1-SWC-001-02 | J16: 10.173.133.1 | K16: SWITCH C | L16: Gi2/0/1 | M16: UTP | N16: 1G | O16: Ativo | P16: Alta
A17: L009 | B17: Core | C17: Core | D17: BR-PE-IPO1-SWC-001-02 | E17: 10.173.133.1 | F17: SWITCH C | G17: Gi1/1/24 | H17: Core | I17: BR-PE-IPO1-RTV-001 | J17: 10173133254 | K17: ROUTER | L17: Gi1/1/1 | M17: UTP | N17: 1G | O17: Ativo | P17: Alta
A18: L010 | B18: Distribuicao | C18: Administrativo | D18: BR-PE-IPO1-SWC-001-01 | E18: 10.173.133.1 | F18: SWITCH C | G18: T1/1/5 | H18: Administrativo | I18: BR-PE-IPO1-SWA-001-01 | J18: 10.173.133.2 | K18: SWITCH A | L18: T1/1/1 | M18: UTP | N18: 1G | O18: Ativo | P18: Alta
A19: L010 | B19: Distribuicao | C19: Administrativo | D19: BR-PE-IPO1-SWC-001-02 | E19: 10.173.133.1 | F19: SWITCH C | G19: T2/1/4 | H19: Administrativo | I19: BR-PE-IPO1-SWA-001-02 | J19: 10.173.133.2 | K19: SWITCH A | L19: T2/1/1 | M19: UTP | N19: 1G | O19: Ativo | P19: Alta
A20: L011 | B20: Acesso | C20: Sup. Moagem | D20: BR-PE-IPO1-SWA-009 | E20: 10.173.133.10 | F20: SWITCH A | G20: Gi1/0/11 | H20: Sup. Moagem | I20: BR-PE-IPO1-AP6-006 | K20: AP | L20: Gi1/0/1 | M20: UTP CAT 6A LSZH | N20: 2,5G | O20: Ativo | P20: Alta
A21: L012 | B21: Distribuicao | C21: Sup. Moagem | D21: BR-PE-IPO1-SWA-009 | E21: 10.173.133.10 | F21: SWITCH A | G21: T1/1/1 | H21: Administrativo | I21: BR-PE-IPO1-SWC-001 | J21: 10.173.133.1 | K21: SWITCH C | L21: T1/1/3 | M21: WAN | N21: N/I | O21: Ativo | P21: Alta
A22: L013 | B22: Acesso | C22: Laboratorio | D22: BR-PE-IPO1-SWA-007 | E22: 10.173.133.8 | F22: SWITCH A | G22: Gi1/0/34 | H22: Laboratorio | I22: BR-PE-IPO1-AP6-009 | K22: AP | L22: Gi1/0/1 | M22: UTP CAT 6A LSZH | N22: 2,5G | O22: Ativo | P22: Alta
A23: L014 | B23: Acesso | C23: Laboratorio | D23: BR-PE-IPO1-SWA-007 | E23: 10.173.133.8 | F23: SWITCH A | G23: Gi1/0/28 | H23: Laboratorio | I23: BR-PE-IPO1-AP6-010 | K23: AP | L23: Gi1/0/1 | M23: UTP CAT 6A LSZH | N23: 2,5G | O23: Ativo | P23: Alta
A24: L015 | B24: Acesso | C24: Laboratorio | D24: BR-PE-IPO1-SWA-007 | E24: 10.173.133.8 | F24: SWITCH A | G24: Gi1/0/21 | H24: Laboratorio | I24: BR-PE-IPO1-AP6-007 | K24: AP | L24: Gi1/0/1 | M24: UTP CAT 6A LSZH | N24: 2,5G | O24: Ativo | P24: Alta
A25: L016 | B25: Acesso | C25: Laboratorio | D25: BR-PE-IPO1-SWA-007 | E25: 10.173.133.8 | F25: SWITCH A | G25: Gi2/0/5 | H25: Laboratorio | I25: BR-PE-IPO1-AP6-008 | K25: AP | L25: Gi1/0/1 | M25: UTP CAT 6A LSZH | N25: 2,5G | O25: Ativo | P25: Alta
A26: L017 | B26: Acesso | C26: Laboratorio | D26: BR-PE-IPO1-SWA-007 | E26: 10.173.133.8 | F26: SWITCH A | G26: T2/1/2 | H26: Laboratorio | I26: HUB_PLANET_ESTEIRA | K26: HUB | L26: Vni-02 | M26: Virtual/Overlay | N26: N/I | O26: Ativo | P26: Alta
A27: L018 | B27: Distribuicao | C27: Laboratorio | D27: BR-PE-IPO1-SWA-007 | E27: 10.173.133.8 | F27: SWITCH A | G27: T2/1/1 | H27: Administrativo | I27: BR-PE-IPO1-SWC-001-02 | J27: 10.173.133.1 | K27: SWITCH C | L27: T2/1/2 | M27: Virtual/Overlay | N27: N/I | O27: Ativo | P27: Alta
A28: L019 | B28: Acesso | C28: DPA | D28: BR-PE-IPO1-SWA-010 | E28: 10.173.133.11 | F28: SWITCH A | G28: Gi1/0/21 | H28: DPA | I28: BR-PE-IPO1-AP6-005 | K28: AP | L28: Gi1/0/1 | M28: UTP CAT 6A LSZH | N28: 2,5G | O28: Ativo | P28: Alta
A29: L020 | B29: Distribuicao | C29: DPA | D29: BR-PE-IPO1-SWA-010 | E29: 10.173.133.11 | F29: SWITCH A | G29: T1/1/1 | H29: Administrativo | I29: BR-PE-IPO1-SWC-001-02 | J29: 10.173.133.1 | K29: SWITCH C | L29: T2/1/1 | M29: Fibra LX | N29: N/I | O29: Ativo | P29: Alta
A30: L021 | B30: Acesso | C30: Administrativo | D30: BR-PE-IPO1-SWA-001-01 | E30: 10.173.133.2 | F30: SWITCH A | G30: Gi1/0/6 | H30: Administrativo | I30: BR-PE-IPO1-AP6-001 | K30: AP | L30: Gi1/0/1 | M30: UTP CAT 6A LSZH | N30: 2,5G | O30: Ativo | P30: Alta
A31: L022 | B31: Acesso | C31: Administrativo | D31: BR-PE-IPO1-SWA-001-02 | E31: 10.173.133.2 | F31: SWITCH A | G31: Gi2/0/9 | H31: Administrativo | I31: BR-PE-IPO1-AP6-002 | K31: AP | L31: Gi1/0/1 | M31: UTP CAT 6A LSZH | N31: 2,5G | O31: Ativo | P31: Alta
A32: L023 | B32: Acesso | C32: Administrativo | D32: BR-PE-IPO1-SWA-001-02 | E32: 10.173.133.2 | F32: SWITCH A | G32: Gi2/0/6 | H32: Administrativo | I32: BR-PE-IPO1-AP6-003 | K32: AP | L32: Gi1/0/1 | M32: UTP CAT 6A LSZH | N32: 2,5G | O32: Ativo | P32: Alta
A33: L024 | B33: Distribuicao | C33: Portaria | D33: BR-PE-IPO1-SWA-004 | E33: 10.173.133.5 | F33: SWITCH A | G33: T1/1/1 | H33: Administrativo | I33: BR-PE-IPO1-SWC-001 | J33: 10.173.133.1 | K33: SWITCH C | L33: Gi1/1/10 | M33: Fibra SX | N33: N/I | O33: Ativo | P33: Alta
A34: L025 | B34: Acesso Industrial | C34: Portaria | D34: BR-PE-IPO1-SWA-004 | E34: 10.173.133.5 | F34: SWITCH A | G34: T1/1/4 | H34: Portaria | I34: BR-PE-IPO1-SWI-017 | J34: 10.173.133.20 | K34: SWITCH I | L34: Gi1/1/9 | M34: Fibra LX | N34: N/I | O34: Ativo | P34: Alta
A35: L026 | B35: Acesso Industrial | C35: Portaria | D35: BR-PE-IPO1-SWA-004 | E35: 10.173.133.5 | F35: SWITCH A | G35: T1/1/3 | H35: Sala de Servidores | I35: BR-PE-IPO1-SWI-019 | J35: 10.173.133.22 | K35: SWITCH I | L35: Gi1/1/9 | M35: Fibra SX / Port-channel | N35: N/I | O35: Ativo | P35: Alta
A36: L027 | B36: Acesso Industrial | C36: Sala de Servidores | D36: BR-PE-IPO1-SWA-005 | E36: 10.173.133.6 | F36: SWITCH A | G36: T1/1/2 | H36: Sala de Servidores | I36: BR-PE-IPO1-SWI-019 | J36: 10.173.133.22 | K36: SWITCH I | L36: Gi1/1/10 | M36: Fibra SX | N36: N/I | O36: Ativo | P36: Alta
A37: L028 | B37: Backbone | C37: Sala de Servidores | D37: BR-PE-IPO1-SWA-005 | E37: 10.173.133.6 | F37: SWITCH A | G37: T1/1/1 | H37: Faturamento | I37: BR-PE-IPO1-SWA-013 | J37: 10.173.133.17 | K37: SWITCH A | L37: T1/1/3 | M37: UTP | N37: N/I | O37: Ativo | P37: Alta
A38: L029 | B38: Distribuicao | C38: Refeitorio | D38: BR-PE-IPO1-SWA-006 | E38: 10.173.133.7 | F38: SWITCH A | G38: T1/1/1 | H38: Administrativo | I38: BR-PE-IPO1-SWC-001 | J38: 10.173.133.1 | K38: SWITCH C | L38: T1/1/2 | M38: Fibra LX | N38: N/I | O38: Ativo | P38: Alta
A39: L030 | B39: Distribuicao | C39: Subestacao | D39: BR-PE-IPO1-SWA-012 | E39: 10.173.133.16 | F39: SWITCH A | G39: T1/1/1 | H39: Administrativo | I39: BR-PE-IPO1-SWC-001 | J39: 10.173.133.1 | K39: SWITCH C | L39: T1/1/1 | M39: Fibra LX | N39: N/I | O39: Ativo | P39: Alta
A40: L031 | B40: Acesso Industrial | C40: Subestacao | D40: BR-PE-IPO1-SWA-012 | E40: 10.173.133.16 | F40: SWITCH A | G40: T1/1/2 | H40: Subestacao | I40: BR-PE-IPO1-SWI-018 | J40: 10.173.133.21 | K40: SWITCH I | L40: Gi1/1/9 | M40: Fibra LX | N40: N/I | O40: Ativo | P40: Alta
A41: L032 | B41: Acesso Industrial | C41: Subestacao | D41: BR-PE-IPO1-SWI-018 | E41: 10.173.133.21 | F41: SWITCH I | G41: Gi1/1/10 | H41: Subestacao | I41: BR-PE-IPO1-SWI-016 | J41: 10.173.133.19 | K41: SWITCH I | L41: Gi1/1/9 | M41: Fibra LX | N41: N/I | O41: Ativo | P41: Alta
A42: L033 | B42: Acesso | C42: Faturamento | D42: BR-PE-IPO1-SWA-013 | E42: 10.173.133.17 | F42: SWITCH A | G42: Gi1/0/1 | H42: Faturamento | I42: BR-PE-IPO1-AP6-004 | K42: AP | L42: Gi1/0/1 | M42: UTP CAT 6A LSZH | N42: 2,5G | O42: Ativo | P42: Alta
A43: L034 | B43: Acesso Industrial | C43: Faturamento | D43: BR-PE-IPO1-SWA-013 | E43: 10.173.133.17 | F43: SWITCH A | G43: T1/1/2 | H43: Faturamento | I43: BR-PE-IPO1-SWI-021 | J43: 10.173.133.40 | K43: SWITCH I | L43: Gi1/0/1 | M43: Fibra LX | N43: N/I | O43: Ativo | P43: Alta
A44: L035 | B44: Acesso Industrial | C44: Faturamento | D44: BR-PE-IPO1-SWA-013 | E44: 10.173.133.17 | F44: SWITCH A | G44: T1/1/4 | H44: Faturamento | I44: BR-PE-IPO1-SWI-015 | J44: 10.173.133.18 | K44: SWITCH I | L44: Gi1/0/1 | M44: Fibra LX | N44: N/I | O44: Ativo | P44: Alta
A45: L036 | B45: Distribuicao | C45: Faturamento | D45: BR-PE-IPO1-SWA-013 | E45: 10.173.133.17 | F45: SWITCH A | G45: T1/1/1 | H45: Administrativo | I45: BR-PE-IPO1-SWC-001-02 | J45: 10.173.133.1 | K45: SWITCH C | L45: T2/1/3 | M45: Fibra LX | N45: N/I | O45: Ativo | P45: Alta
A46: L037 | B46: Acesso Industrial | C46: =VLOOKUP(D46,BD_CCTV,5,FALSE) -> PERIMETRO SULDESTE | D46: BR-PE-IPO1-CCTV-CAM - 001 | E46: =VLOOKUP(D46,BD_CCTV,6,FALSE) -> 10.173.138.11 | F46: CAMERA CCTV | G46: T1/1/1 | H46: Perimetro (RP - 01) | I46: BR-PE-IPO1-SWI-015 | J46: 10.173.133.18 | K46: SWITCH I | L46: T2/1/1 | M46: UTP CAT 6 LSZH | N46: 1G | O46: Ativo | P46: Alta | R46: =VLOOKUP(D46,BD_CCTV,7,FALSE) -> -839499167457789 | S46: =VLOOKUP(D46,BD_CCTV,8,FALSE) -> -349800387465946
A47: L038 | B47: Acesso Industrial | C47: =VLOOKUP(D47,BD_CCTV,5,FALSE) -> PERIMETRO SULDESTE | D47: BR-PE-IPO1-CCTV-CAM - 002 | E47: =VLOOKUP(D47,BD_CCTV,6,FALSE) -> 10.173.138.12 | F47: CAMERA CCTV | G47: T1/1/2 | H47: Perimetro (RP - 01) | I47: BR-PE-IPO1-SWI-015 | J47: 10.173.133.18 | K47: SWITCH I | L47: T2/1/1 | M47: UTP CAT 6 LSZH | N47: 1G | O47: Ativo | P47: Alta | R47: =VLOOKUP(D47,BD_CCTV,7,FALSE) -> -839502241334003 | S47: =VLOOKUP(D47,BD_CCTV,8,FALSE) -> -349800597738073
A48: L039 | B48: Acesso Industrial | C48: =VLOOKUP(D48,BD_CCTV,5,FALSE) -> PERIMETRO SULDESTE | D48: BR-PE-IPO1-CCTV-CAM - 003 | E48: =VLOOKUP(D48,BD_CCTV,6,FALSE) -> 10.173.138.13 | F48: CAMERA CCTV | G48: T1/1/3 | H48: Perimetro (RP - 01) | I48: BR-PE-IPO1-SWI-015 | J48: 10.173.133.18 | K48: SWITCH I | L48: T2/1/1 | M48: UTP CAT 6 LSZH | N48: 1G | O48: Ativo | P48: Alta | R48: =VLOOKUP(D48,BD_CCTV,7,FALSE) -> -839496723611927 | S48: =VLOOKUP(D48,BD_CCTV,8,FALSE) -> -349800818450684
A49: L040 | B49: Acesso Industrial | C49: =VLOOKUP(D49,BD_CCTV,5,FALSE) -> PERIMETRO SUL | D49: BR-PE-IPO1-CCTV-CAM - 004 | E49: =VLOOKUP(D49,BD_CCTV,6,FALSE) -> 10.173.138.14 | F49: CAMERA CCTV | G49: T1/1/4 | H49: Perimetro (RP - 01) | I49: BR-PE-IPO1-SWI-015 | J49: 10.173.133.18 | K49: SWITCH I | L49: T2/1/1 | M49: UTP CAT 6 LSZH | N49: 1G | O49: Ativo | P49: Alta | R49: =VLOOKUP(D49,BD_CCTV,7,FALSE) -> -83951250895223 | S49: =VLOOKUP(D49,BD_CCTV,8,FALSE) -> -349806546756134
A50: L041 | B50: Acesso Industrial | C50: =VLOOKUP(D50,BD_CCTV,5,FALSE) -> PERIMETRO SUL | D50: BR-PE-IPO1-CCTV-CAM - 005 | E50: =VLOOKUP(D50,BD_CCTV,6,FALSE) -> 10.173.138.15 | F50: CAMERA CCTV | G50: T1/1/5 | H50: Perimetro (RP - 01) | I50: BR-PE-IPO1-SWI-015 | J50: 10.173.133.18 | K50: SWITCH I | L50: T2/1/1 | M50: UTP CAT 6 LSZH | N50: 1G | O50: Ativo | P50: Alta | R50: =VLOOKUP(D50,BD_CCTV,7,FALSE) -> -839512792667867 | S50: =VLOOKUP(D50,BD_CCTV,8,FALSE) -> -349806404285613
A51: L042 | B51: Acesso Industrial | C51: =VLOOKUP(D51,BD_CCTV,5,FALSE) -> PERIMETRO SUL | D51: BR-PE-IPO1-CCTV-CAM - 006 | E51: =VLOOKUP(D51,BD_CCTV,6,FALSE) -> 10.173.138.16 | F51: CAMERA CCTV | G51: T1/1/1 | H51: Perimetro (RP - 02) | I51: BR-PE-IPO1-SWI-018 | J51: 10.173.133.21 | K51: SWITCH I | L51: T2/1/1 | M51: UTP CAT 6 LSZH | N51: 1G | O51: Ativo | P51: Alta | R51: =VLOOKUP(D51,BD_CCTV,7,FALSE) -> -839518832756237 | S51: =VLOOKUP(D51,BD_CCTV,8,FALSE) -> -349810999661202
A52: L043 | B52: Acesso Industrial | C52: =VLOOKUP(D52,BD_CCTV,5,FALSE) -> PERIMETRO SUL | D52: BR-PE-IPO1-CCTV-CAM - 007 | E52: =VLOOKUP(D52,BD_CCTV,6,FALSE) -> 10.173.138.17 | F52: CAMERA CCTV | G52: T1/1/2 | H52: Perimetro (RP - 02) | I52: BR-PE-IPO1-SWI-018 | J52: 10.173.133.21 | K52: SWITCH I | L52: T2/1/1 | M52: UTP CAT 6 LSZH | N52: 1G | O52: Ativo | P52: Alta | R52: =VLOOKUP(D52,BD_CCTV,7,FALSE) -> -839518647189521 | S52: =VLOOKUP(D52,BD_CCTV,8,FALSE) -> -349811145036329
A53: L044 | B53: Acesso Industrial | C53: =VLOOKUP(D53,BD_CCTV,5,FALSE) -> PERIMETRO SUL | D53: BR-PE-IPO1-CCTV-CAM - 008 | E53: =VLOOKUP(D53,BD_CCTV,6,FALSE) -> 10.173.138.18 | F53: CAMERA CCTV | G53: T1/1/3 | H53: Perimetro (RP - 02) | I53: BR-PE-IPO1-SWI-018 | J53: 10.173.133.21 | K53: SWITCH I | L53: T2/1/1 | M53: UTP CAT 6 LSZH | N53: 1G | O53: Ativo | P53: Alta | R53: =VLOOKUP(D53,BD_CCTV,7,FALSE) -> -8395277132448 | S53: =VLOOKUP(D53,BD_CCTV,8,FALSE) -> -349817039800978
A54: L045 | B54: Acesso Industrial | C54: =VLOOKUP(D54,BD_CCTV,5,FALSE) -> PERIMETRO SUL | D54: BR-PE-IPO1-CCTV-CAM - 009 | E54: =VLOOKUP(D54,BD_CCTV,6,FALSE) -> 10.173.138.19 | F54: CAMERA CCTV | G54: T1/1/4 | H54: Perimetro (RP - 02) | I54: BR-PE-IPO1-SWI-018 | J54: 10.173.133.21 | K54: SWITCH I | L54: T2/1/1 | M54: UTP CAT 6 LSZH | N54: 1G | O54: Ativo | P54: Alta | R54: =VLOOKUP(D54,BD_CCTV,7,FALSE) -> -839527784720926 | S54: =VLOOKUP(D54,BD_CCTV,8,FALSE) -> -349817172109514
A55: L046 | B55: Acesso Industrial | C55: =VLOOKUP(D55,BD_CCTV,5,FALSE) -> PERIMETRO SUL | D55: BR-PE-IPO1-CCTV-CAM - 010 | E55: =VLOOKUP(D55,BD_CCTV,6,FALSE) -> 10.173.138.20 | F55: CAMERA CCTV | G55: T1/1/5 | H55: Perimetro (RP - 02) | I55: BR-PE-IPO1-SWI-018 | J55: 10.173.133.21 | K55: SWITCH I | L55: T2/1/1 | M55: UTP CAT 6 LSZH | N55: 1G | O55: Ativo | P55: Alta | R55: =VLOOKUP(D55,BD_CCTV,7,FALSE) -> -839545104624989 | S55: =VLOOKUP(D55,BD_CCTV,8,FALSE) -> -349823510937675
A56: L047 | B56: Acesso Industrial | C56: =VLOOKUP(D56,BD_CCTV,5,FALSE) -> PERIMETRO SUL | D56: BR-PE-IPO1-CCTV-CAM - 011 | E56: =VLOOKUP(D56,BD_CCTV,6,FALSE) -> 10.173.138.21 | F56: CAMERA CCTV | G56: T1/1/6 | H56: Perimetro (RP - 02) | I56: BR-PE-IPO1-SWI-018 | J56: 10.173.133.21 | K56: SWITCH I | L56: T2/1/1 | M56: UTP CAT 6 LSZH | N56: 1G | O56: Ativo | P56: Alta | R56: =VLOOKUP(D56,BD_CCTV,7,FALSE) -> -839545565775499 | S56: =VLOOKUP(D56,BD_CCTV,8,FALSE) -> -349824040853502
A57: L048 | B57: Acesso Industrial | C57: =VLOOKUP(D57,BD_CCTV,5,FALSE) -> PERIMETRO SUL | D57: BR-PE-IPO1-CCTV-CAM - 012 | E57: =VLOOKUP(D57,BD_CCTV,6,FALSE) -> 10.173.138.22 | F57: CAMERA CCTV | G57: T1/1/1 | H57: Perimetro (RP - 03) | I57: BR-PE-IPO1-SWI-016 | J57: 10.173.133.19 | K57: SWITCH I | L57: T2/1/1 | M57: UTP CAT 6 LSZH | N57: 1G | O57: Ativo | P57: Alta | R57: =VLOOKUP(D57,BD_CCTV,7,FALSE) -> -83955100187335 | S57: =VLOOKUP(D57,BD_CCTV,8,FALSE) -> -349827176533504
... A111: L102 | B111: Acesso Industrial | C111: =VLOOKUP(D111,BD_CCTV,5,FALSE) -> SAIDA BALANÇA | D111: BR-PE-IPO1-CCTV-CAM - 069 | E111: =VLOOKUP(D111,BD_CCTV,6,FALSE) -> 10.173.138.79 | F111: CAMERA CCTV | G111: T1/1/4 | H111: Perimetro | I111: BR-PE-IPO1-SWI-021 | J111: 10.173.133.40 | K111: SWITCH I | L111: T2/1/1 | M111: UTP CAT 6 LSZH | N111: 1G | O111: Ativo | P111: Alta | R111: =VLOOKUP(D111,BD_CCTV,7,FALSE) -> -839507339335804 | S111: =VLOOKUP(D111,BD_CCTV,8,FALSE) -> -349807447072832

Sheet Planilha3
C3: AP
C4: ROUTER
C5: SWITCH A
C6: SWITCH C
C7: SWITCH I
C8: HUB
C9: CAMERA CCTV

Sheet Ativos
A1: Ativos identificados na topologia
A3: Ativo | B3: Tipo | C3: Setor | D3: IP | E3: Modelo / Familia | F3: Papel | G3: Confianca | H3: Observacoes
A4: BR-PE-IP01-AP-001 | B4: Access Point | C4: Administrativo | D4: N/I | E4: C9115AXI-2 | F4: Wi-Fi | G4: Alta | H4: Porta Gi1/0/9
A5: BR-PE-IP01-AP-002 | B5: Access Point | C5: Administrativo | D5: N/I | E5: C9115AXI-2 | F5: Wi-Fi | G5: Média | H5: Porta pouco legível
A6: BR-PE-IP01-AP-003 | B6: Access Point | C6: Administrativo | D6: N/I | E6: C9115AXI-2 | F6: Wi-Fi | G6: Média | H6: Porta pouco legível
A7: BR-PE-IP01-AP-004 | B7: Access Point | C7: Faturamento | D7: N/I | E7: C9115AXI-2 | F7: Wi-Fi | G7: Média | H7: Porta Gi1/0/1?
A8: BR-PE-IP01-AP-005 | B8: Access Point | C8: DPA | D8: N/I | E8: C9115AXI-2 | F8: Wi-Fi | G8: Alta | H8: Porta Gi1/0/21
A9: BR-PE-IP01-AP-006 | B9: Access Point | C9: Laboratorio | D9: N/I | E9: C9115AXI-2 | F9: Wi-Fi | G9: Média | H9: Porta pouco legível
A10: BR-PE-IP01-AP-007 | B10: Access Point | C10: Laboratorio | D10: N/I | E10: C9115AXI-2 | F10: Wi-Fi | G10: Média | H10: Porta pouco legível
A11: BR-PE-IP01-AP-008 | B11: Access Point | C11: Sup. Moagem | D11: N/I | E11: C9115AXI-2 | F11: Wi-Fi | G11: Alta | H11: Porta Gi1/0/11
A12: BR-PE-IP01-AP-009 | B12: Access Point | C12: Laboratorio | D12: N/I | E12: C9115AXI-2 | F12: Wi-Fi | G12: Alta | H12: Porta Gi1/0/24
A13: BR-PE-IP01-AP-010 | B13: Access Point | C13: Laboratorio | D13: N/I | E13: C9115AXI-2 | F13: Wi-Fi | G13: Média | H13: Porta pouco legível
A14: BR-PE-IP01-RTC-001 | B14: Roteador | C14: Core | D14: 189.23.196.2 | E14: N/I | F14: Borda principal | G14: Alta | H14: Ligado ao PRI INTERNET e SCE-001
... A20: BR-PE-IP01-SWA-001 | B20: Switch Acesso | C20: Administrativo | D20: 10.173.133.2 | E20: STACK 1x C9200L-24P-4X + 1x C9200L-48P-4X | F20: Acesso setor ADM | G20: Alta | H20: Ligado ao Po1
A21: BR-PE-IP01-SWA-004 | B21: Switch Acesso | C21: Portaria | D21: 10.173.133.5 | E21: C9200L-24P-4X | F21: Acesso setor | G21: Alta
A22: BR-PE-IP01-SWA-005 | B22: Switch Acesso | C22: Sala de Servidores | D22: 10.173.133.6 | E22: C9200L-24P-4X | F22: Acesso setor | G22: Alta
A23: BR-PE-IP01-SWA-006 | B23: Switch Acesso | C23: Refeitorio | D23: 10.173.133.7 | E23: C9200L-24P-4X | F23: Acesso setor | G23: Alta
A24: BR-PE-IP01-SWA-007 | B24: Switch Acesso | C24: Laboratorio | D24: 10.173.133.8 | E24: STACK 1x C9200L-48P-4G + 1x C9200L-24P-4X | F24: Acesso setor | G24: Alta
A25: BR-PE-IP01-SWA-009 | B25: Switch Acesso | C25: Sup. Moagem | D25: 10.173.133.10 | E25: C9200L-24P-4X | F25: Acesso setor | G25: Alta
A26: BR-PE-IP01-SWA-010 | B26: Switch Acesso | C26: DPA | D26: 10.173.133.11 | E26: C9200L-48P-4X | F26: Acesso setor | G26: Alta
A27: BR-PE-IP01-SWA-012 | B27: Switch Acesso | C27: Subestacao | D27: 10.173.133.16 | E27: C9200L-24P-4X | F27: Acesso setor | G27: Alta
A28: BR-PE-IP01-SWA-013 | B28: Switch Acesso | C28: Faturamento | D28: 10.173.133.17 | E28: C9200L-24P-4X | F28: Acesso setor | G28: Alta
A29: BR-PE-IP01-SWC-001 | B29: Switch Core | C29: Administrativo | D29: 10.173.133.1 | E29: STACK 2x 9300-24T | F29: Core LAN | G29: Alta | H29: Switch core central da topologia
A30: BR-PE-IP01-SWI-014 | B30: Switch Industrial | C30: Portaria | D30: 10.173.133.25 | E30: IE-1000-8P2S-LM | F30: Acesso industrial | G30: Alta
A31: BR-PE-IP01-SWI-015 | B31: Switch Industrial | C31: Faturamento | D31: 10.173.133.18 | E31: IE-1000-8P2S-LM | F31: Acesso industrial | G31: Alta
A32: BR-PE-IP01-SWI-016 | B32: Switch Industrial | C32: Subestacao | D32: 10.173.133.19 | E32: IE-1000-8P2S-LM | F32: Acesso industrial | G32: Alta
A33: BR-PE-IP01-SWI-017 | B33: Switch Industrial | C33: Portaria | D33: 10.173.133.20 | E33: IE-1000-8P2S-LM | F33: Acesso industrial | G33: Alta
A34: BR-PE-IP01-SWI-018 | B34: Switch Industrial | C34: Subestacao | D34: 10.173.133.21 | E34: IE-1000-8P2S-LM | F34: Acesso industrial | G34: Alta
A35: BR-PE-IP01-SWI-019 | B35: Switch Industrial | C35: Sala de Servidores | D35: 10.173.133.22 | E35: IE-1000-8P2S-LM | F35: Acesso industrial | G35: Alta
A36: BR-PE-IP01-SWI-021 | B36: Switch Industrial | C36: Faturamento | D36: 10.173.133.40 | E36: IE-1000-8P2S-LM | F36: Acesso industrial | G36: Alta
A37: HUB_PLANET_ESTEIRA | B37: Hub / Equipamento | C37: Laboratorio | D37: N/I | E37: PLANET | F37: Esteira / campo | G37: Média | H37: Ligado via conversor
A38: BR-PE-IPO1-CCTV-CAM - 001 | B38: CAMERA_CFTV | C38: =VLOOKUP(A38,BD_CCTV,5,FALSE) -> PERIMETRO SULDESTE | D38: =VLOOKUP(A38,BD_CCTV,6,FALSE) -> 10.173.138.11 | E38: IE-1000-8P2S-LM | F38: Switch Industrial | G38: Alta
A39: BR-PE-IPO1-CCTV-CAM - 002 | B39: CAMERA_CFTV | C39: =VLOOKUP(A39,BD_CCTV,5,FALSE) -> PERIMETRO SULDESTE | D39: =VLOOKUP(A39,BD_CCTV,6,FALSE) -> 10.173.138.12 | E39: IE-1000-8P2S-LM | F39: Switch Industrial | G39: Alta
A40: BR-PE-IPO1-CCTV-CAM - 003 | B40: CAMERA_CFTV | C40: =VLOOKUP(A40,BD_CCTV,5,FALSE) -> PERIMETRO SULDESTE | D40: =VLOOKUP(A40,BD_CCTV,6,FALSE) -> 10.173.138.13 | E40: IE-1000-8P2S-LM | F40: Switch Industrial | G40: Alta
A41: BR-PE-IPO1-CCTV-CAM - 004 | B41: CAMERA_CFTV | C41: =VLOOKUP(A41,BD_CCTV,5,FALSE) -> PERIMETRO SUL | D41: =VLOOKUP(A41,BD_CCTV,6,FALSE) -> 10.173.138.14 | E41: IE-1000-8P2S-LM | F41: Switch Industrial | G41: Alta
A42: BR-PE-IPO1-CCTV-CAM - 005 | B42: CAMERA_CFTV | C42: =VLOOKUP(A42,BD_CCTV,5,FALSE) -> PERIMETRO SUL | D42: =VLOOKUP(A42,BD_CCTV,6,FALSE) -> 10.173.138.15 | E42: IE-1000-8P2S-LM | F42: Switch Industrial | G42: Alta
A43: BR-PE-IPO1-CCTV-CAM - 006 | B43: CAMERA_CFTV | C43: =VLOOKUP(A43,BD_CCTV,5,FALSE) -> PERIMETRO SUL | D43: =VLOOKUP(A43,BD_CCTV,6,FALSE) -> 10.173.138.16 | E43: IE-1000-8P2S-LM | F43: Switch Industrial | G43: Alta
A44: BR-PE-IPO1-CCTV-CAM - 007 | B44: CAMERA_CFTV | C44: =VLOOKUP(A44,BD_CCTV,5,FALSE) -> PERIMETRO SUL | D44: =VLOOKUP(A44,BD_CCTV,6,FALSE) -> 10.173.138.17 | E44: IE-1000-8P2S-LM | F44: Switch Industrial | G44: Alta
A45: BR-PE-IPO1-CCTV-CAM - 008 | B45: CAMERA_CFTV | C45: =VLOOKUP(A45,BD_CCTV,5,FALSE) -> PERIMETRO SUL | D45: =VLOOKUP(A45,BD_CCTV,6,FALSE) -> 10.173.138.18 | E45: IE-1000-8P2S-LM | F45: Switch Industrial | G45: Alta
A46: BR-PE-IPO1-CCTV-CAM - 009 | B46: CAMERA_CFTV | C46: =VLOOKUP(A46,BD_CCTV,5,FALSE) -> PERIMETRO SUL | D46: =VLOOKUP(A46,BD_CCTV,6,FALSE) -> 10.173.138.19 | E46: IE-1000-8P2S-LM | F46: Switch Industrial | G46: Alta
A47: BR-PE-IPO1-CCTV-CAM - 010 | B47: CAMERA_CFTV | C47: =VLOOKUP(A47,BD_CCTV,5,FALSE) -> PERIMETRO SUL | D47: =VLOOKUP(A47,BD_CCTV,6,FALSE) -> 10.173.138.20 | E47: IE-1000-8P2S-LM | F47: Switch Industrial | G47: Alta
A48: BR-PE-IPO1-CCTV-CAM - 011 | B48: CAMERA_CFTV | C48: =VLOOKUP(A48,BD_CCTV,5,FALSE) -> PERIMETRO SUL | D48: =VLOOKUP(A48,BD_CCTV,6,FALSE) -> 10.173.138.21 | E48: IE-1000-8P2S-LM | F48: Switch Industrial | G48: Alta
A49: BR-PE-IPO1-CCTV-CAM - 012 | B49: CAMERA_CFTV | C49: =VLOOKUP(A49,BD_CCTV,5,FALSE) -> PERIMETRO SUL | D49: =VLOOKUP(A49,BD_CCTV,6,FALSE) -> 10.173.138.22 | E49: IE-1000-8P2S-LM | F49: Switch Industrial | G49: Alta
... A74: BR-PE-IPO1-CCTV-CAM - 037 | B74: CAMERA_CFTV | C74: =VLOOKUP(A74,BD_CCTV,5,FALSE) -> PERIMETRO LESTE | D74: =VLOOKUP(A74,BD_CCTV,6,FALSE) -> 10.173.138.47 | E74: IE-1000-8P2S-LM | F74: Switch Industrial | G74: Alta
A75: BR-PE-IPO1-CCTV-CAM - 038 | B75: CAMERA_CFTV | C75: =VLOOKUP(A75,BD_CCTV,5,FALSE) -> ACESSO SL SERVIDOR | D75: =VLOOKUP(A75,BD_CCTV,6,FALSE) -> 10.173.138.48 | F75: Switch Industrial | G75: Alta
A76: BR-PE-IPO1-CCTV-CAM - 039 | B76: CAMERA_CFTV | C76: =VLOOKUP(A76,BD_CCTV,5,FALSE) -> ACESSO SUBSTAÇÃO 01 | D76: =VLOOKUP(A76,BD_CCTV,6,FALSE) -> 10.173.138.49 | F76: Switch Industrial | G76: Alta
A77: BR-PE-IPO1-CCTV-CAM - 040 | B77: CAMERA_CFTV | C77: =VLOOKUP(A77,BD_CCTV,5,FALSE) -> ACESSO SUBSTAÇÃO | D77: =VLOOKUP(A77,BD_CCTV,6,FALSE) -> 10.173.138.50 | F77: Switch Industrial | G77: Alta
A78: BR-PE-IPO1-CCTV-CAM - 041 | B78: CAMERA_CFTV | C78: =VLOOKUP(A78,BD_CCTV,5,FALSE) -> ACESSO ARMAZEM | D78: =VLOOKUP(A78,BD_CCTV,6,FALSE) -> 10.173.138.51 | F78: Switch Industrial | G78: Alta
A79: BR-PE-IPO1-CCTV-CAM - 042 | B79: CAMERA_CFTV | C79: =VLOOKUP(A79,BD_CCTV,5,FALSE) -> ADMINISTRATIVO | D79: =VLOOKUP(A79,BD_CCTV,6,FALSE) -> 10.173.138.52 | F79: Switch Industrial | G79: Alta
A80: BR-PE-IPO1-CCTV-CAM - 043 | B80: CAMERA_CFTV | C80: =VLOOKUP(A80,BD_CCTV,5,FALSE) -> 1 ANDAR LIMPEZA | D80: =VLOOKUP(A80,BD_CCTV,6,FALSE) -> 10.173.138.53 | F80: Switch Industrial | G80: Alta
A81: BR-PE-IPO1-CCTV-CAM - 044 | B81: CAMERA_CFTV | C81: =VLOOKUP(A81,BD_CCTV,5,FALSE) -> ACESSO A PORTARIA | D81: =VLOOKUP(A81,BD_CCTV,6,FALSE) -> 10.173.138.54 | F81: Switch Industrial | G81: Alta
A82: BR-PE-IPO1-CCTV-CAM - 045 | B82: CAMERA_CFTV | C82: =VLOOKUP(A82,BD_CCTV,5,FALSE) -> ACESSO A SALA CFTV | D82: =VLOOKUP(A82,BD_CCTV,6,FALSE) -> 10.173.138.55 | F82: Switch Industrial | G82: Alta
A83: BR-PE-IPO1-CCTV-CAM - 046 | B83: CAMERA_CFTV | C83: =VLOOKUP(A83,BD_CCTV,5,FALSE) -> CANCELA ENTRADA E SAIDA | D83: =VLOOKUP(A83,BD_CCTV,6,FALSE) -> 10.173.138.56 | F83: Switch Industrial | G83: Alta
A84: BR-PE-IPO1-CCTV-CAM - 047 | B84: CAMERA_CFTV | C84: =VLOOKUP(A84,BD_CCTV,5,FALSE) -> PATIO SILOS | D84: =VLOOKUP(A84,BD_CCTV,6,FALSE) -> 10.173.138.57 | F84: Switch Industrial | G84: Alta
A85: BR-PE-IPO1-CCTV-CAM - 048 | B85: CAMERA_CFTV | C85: =VLOOKUP(A85,BD_CCTV,5,FALSE) -> ESTEIRA | D85: =VLOOKUP(A85,BD_CCTV,6,FALSE) -> 10.173.138.58 | F85: Switch Industrial | G85: Alta
A86: BR-PE-IPO1-CCTV-CAM - 049 | B86: CAMERA_CFTV | C86: =VLOOKUP(A86,BD_CCTV,5,FALSE) -> ESTEIRA | D86: =VLOOKUP(A86,BD_CCTV,6,FALSE) -> 10.173.138.59 | F86: Switch Industrial | G86: Alta
... A98: BR-PE-IPO1-CCTV-CAM - 061 | B98: CAMERA_CFTV | C98: =VLOOKUP(A98,BD_CCTV,5,FALSE) -> REFEITORIO ACESSO A COZINHA | D98: =VLOOKUP(A98,BD_CCTV,6,FALSE) -> 10.173.138.71 | F98: Switch Industrial | G98: Alta

Sheet Planilha1
A1: BR-PE-IPO1-CCTV-
A2: =$A$1&C2 -> BR-PE-IPO1-CCTV-CAM - 001 | B2: CAM - 001 ( PERIMETRO SULDESTE) | C2: =MID(B2,1,9) -> CAM - 001 | D2: 1 | E2: PERIMETRO SULDESTE | F2: 10.173.138.11 | G2: -839499167457789 | H2: -349800387465946
A3: =$A$1&C3 -> BR-PE-IPO1-CCTV-CAM - 002 | B3: CAM - 002 ( PERIMETRO SULDESTE) | C3: =MID(B3,1,9) -> CAM - 002 | D3: 2 | E3: PERIMETRO SULDESTE | F3: 10.173.138.12 | G3: -839502241334003 | H3: -349800597738073
A4: =$A$1&C4 -> BR-PE-IPO1-CCTV-CAM - 003 | B4: CAM - 003 ( PERIMETRO SULDESTE) | C4: =MID(B4,1,9) -> CAM - 003 | D4: 3 | E4: PERIMETRO SULDESTE | F4: 10.173.138.13 | G4: -839496723611927 | H4: -349800818450684
A5: =$A$1&C5 -> BR-PE-IPO1-CCTV-CAM - 004 | B5: CAM - 004 ( PERIMETRO SUL) | C5: =MID(B5,1,9) -> CAM - 004 | D5: 4 | E5: PERIMETRO SUL | F5: 10.173.138.14 | G5: -83951250895223 | H5: -349806546756134
A6: =$A$1&C6 -> BR-PE-IPO1-CCTV-CAM - 005 | B6: CAM - 005 ( PERIMETRO SUL) | C6: =MID(B6,1,9) -> CAM - 005 | D6: 5 | E6: PERIMETRO SUL | F6: 10.173.138.15 | G6: -839512792667867 | H6: -349806404285613
A7: =$A$1&C7 -> BR-PE-IPO1-CCTV-CAM - 006 | B7: CAM - 006 ( PERIMETRO SUL) | C7: =MID(B7,1,9) -> CAM - 006 | D7: 6 | E7: PERIMETRO SUL | F7: 10.173.138.16 | G7: -839518832756237 | H7: -349810999661202
A8: =$A$1&C8 -> BR-PE-IPO1-CCTV-CAM - 007 | B8: CAM - 007 ( PERIMETRO SUL) | C8: =MID(B8,1,9) -> CAM - 007 | D8: 7 | E8: PERIMETRO SUL | F8: 10.173.138.17 | G8: -839518647189521 | H8: -349811145036329
A9: =$A$1&C9 -> BR-PE-IPO1-CCTV-CAM - 008 | B9: CAM - 008 ( PERIMETRO SUL ) | C9: =MID(B9,1,9) -> CAM - 008 | D9: 8 | E9: PERIMETRO SUL | F9: 10.173.138.18 | G9: -8395277132448 | H9: -349817039800978
A10: =$A$1&C10 -> BR-PE-IPO1-CCTV-CAM - 009 | B10: CAM - 009 ( PERIMETRO SUL ) | C10: =MID(B10,1,9) -> CAM - 009 | D10: 9 | E10: PERIMETRO SUL | F10: 10.173.138.19 | G10: -839527784720926 | H10: -349817172109514
A11: =$A$1&C11 -> BR-PE-IPO1-CCTV-CAM - 010 | B11: CAM - 010 ( PERIMETRO SUL ) | C11: =MID(B11,1,9) -> CAM - 010 | D11: 10 | E11: PERIMETRO SUL | F11: 10.173.138.20 | G11: -839545104624989 | H11: -349823510937675
A12: =$A$1&C12 -> BR-PE-IPO1-CCTV-CAM - 011 | B12: CAM - 011 ( PERIMETRO SUL ) | C12: =MID(B12,1,9) -> CAM - 011 | D12: 11 | E12: PERIMETRO SUL | F12: 10.173.138.21 | G12: -839545565775499 | H12: -349824040853502
A13: =$A$1&C13 -> BR-PE-IPO1-CCTV-CAM - 012 | B13: CAM - 012 ( PERIMETRO SUL ) | C13: =MID(B13,1,9) -> CAM - 012 | D13: 12 | E13: PERIMETRO SUL | F13: 10.173.138.22 | G13: -83955100187335 | H13: -349827176533504
... A67: =$A$1&C67 -> BR-PE-IPO1-CCTV-CAM - 069 | B67: CAM - 069 ( SAIDA BALANÇA ) | C67: =MID(B67,1,9) -> CAM - 069 | D67: 69 | E67: SAIDA BALANÇA | F67: 10.173.138.79 | G67: -839507339335804 | H67: -349807447072832
A68: =$A$1&C68 -> BR-PE-IPO1-CCTV-CAM - SAL | B68: CAM - SALA SERVIDOR | C68: =MID(B68,1,9) -> CAM - SAL | E68: SALA SERVIDOR | G68: -839446725591903 | H68: -349806877315271

Sheet Resumo
A1: Resumo operacional
A3: Indicador | B3: Valor | C3: Observacao | D3: Status
A4: Total de ligacoes | B4: =COUNTA(Ligacoes!A9:A45) -> 37 | C4: Linhas uteis na aba Ligacoes | D4: OK
A5: Total de ativos | B5: =COUNTA(Ativos!A4:A37) -> 34 | C5: Ativos identificados na imagem | D5: OK
A6: Ligações Alta confiança | B6: =COUNTIF(Ligacoes!P:P,"Alta") -> 103 | C6: Leitura nitida na imagem | D6: OK
A7: Ligações Media confiança | B7: =COUNTIF(Ligacoes!P:P,"Média") -> 0 | C7: Exige validacao de portas/traçado | D7: Revisar
A8: Ligações Baixa confiança | B8: =COUNTIF(Ligacoes!P:P,"Baixa") -> 0 | C8: Hipoteses visuais; conferir no fonte original | D8: Revisar
A9: Links Fibra LX | B9: =COUNTIF(Ligacoes!M9:M45,"Fibra LX") -> 9 | C9: Backbone/acesso em verde | D9: OK
A10: Links Fibra SX | B10: =COUNTIF(Ligacoes!M9:M45,"Fibra SX") -> 2 | C10: Backbone/acesso em azul | D10: OK
A11: Links UTP | B11: =COUNTIF(Ligacoes!M9:M45,"UTP") -> 12 | C11: Acessos em vermelho | D11: OK
A12: Switches industriais | B12: =COUNTIF(Ativos!B:B,"Switch Industrial") -> 7 | C12: Ativos industriais identificados | D12: OK
A13: Access points | B13: =COUNTIF(Ativos!B:B,"Access Point") -> 10 | C13: APs identificados | D13: OK
A16: Ligações por setor (fórmula)
A17: Setor | B17: Qtd Links Origem | C17: Qtd Links Destino | D17: Qtd Ativos
A18: Administrativo | B18: =COUNTIF(Ligacoes!C:C,A18) -> 6 | C18: =COUNTIF(Ligacoes!H:H,A18) -> 13 | D18: =COUNTIF(Ativos!C:C,A18) -> 6
A19: Sup. Moagem | B19: =COUNTIF(Ligacoes!C:C,A19) -> 2 | C19: =COUNTIF(Ligacoes!H:H,A19) -> 2 | D19: =COUNTIF(Ativos!C:C,A19) -> 2
A20: Laboratorio | B20: =COUNTIF(Ligacoes!C:C,A20) -> 6 | C20: =COUNTIF(Ligacoes!H:H,A20) -> 6 | D20: =COUNTIF(Ativos!C:C,A20) -> 6
A21: DPA | B21: =COUNTIF(Ligacoes!C:C,A21) -> 2 | C21: =COUNTIF(Ligacoes!H:H,A21) -> 6 | D21: =COUNTIF(Ativos!C:C,A21) -> 2
A22: Portaria | B22: =COUNTIF(Ligacoes!C:C,A22) -> 3 | C22: =COUNTIF(Ligacoes!H:H,A22) -> 7 | D22: =COUNTIF(Ativos!C:C,A22) -> 3
A23: Sala de Servidores | B23: =COUNTIF(Ligacoes!C:C,A23) -> 2 | C23: =COUNTIF(Ligacoes!H:H,A23) -> 3 | D23: =COUNTIF(Ativos!C:C,A23) -> 2
A24: Refeitorio | B24: =COUNTIF(Ligacoes!C:C,A24) -> 2 | C24: =COUNTIF(Ligacoes!H:H,A24) -> 2 | D24: =COUNTIF(Ativos!C:C,A24) -> 2
A25: Subestacao | B25: =COUNTIF(Ligacoes!C:C,A25) -> 3 | C25: =COUNTIF(Ligacoes!H:H,A25) -> 4 | D25: =COUNTIF(Ativos!C:C,A25) -> 3
A26: Faturamento | B26: =COUNTIF(Ligacoes!C:C,A26) -> 4 | C26: =COUNTIF(Ligacoes!H:H,A26) -> 4 | D26: =COUNTIF(Ativos!C:C,A26) -> 4
A27: Core | B27: =COUNTIF(Ligacoes!C:C,A27) -> 6 | C27: =COUNTIF(Ligacoes!H:H,A27) -> 8 | D27: =COUNTIF(Ativos!C:C,A27) -> 6
A28: Perimetro | B28: 6 | C28: =COUNTIF(Ligacoes!H:H,A28) -> 4
A29: Esteira | B29: 3 | C29: =COUNTIF(Ligacoes!H:H,A29) -> 0

Sheet Pendencias
A1: Pendências e validações recomendadas
A3: Tema | B3: Item | C3: Motivo | D3: Acao recomendada | E3: Prioridade
A4: Portas | B4: AP-002 / AP-003 / AP-006 / AP-007 / AP-010 | C4: Texto pequeno na imagem | D4: Conferir na topologia fonte ou diretamente no switch | E4: Alta
A5: Backbone | B5: SWA-005 <-> SWA-013 | C5: Linha azul continua mas sem identificação inequívoca das pontas | D5: Validar no desenho original / Visio / CAD | E5: Alta
A6: Core | B6: Portas entre SCE-001 e SWC-001 | C6: Rótulo parcial (Gi1/1/1? / Gi1/0/9?) | D6: Confirmar em documentação ou CLI | E6: Média
A7: Indústria | B7: Portas exatas em SW-014 / SW-017 / SW-019 | C7: Rótulos visíveis parcialmente | D7: Confirmar em campo | E7: Média
A8: Inventário | B8: IP do SW-015 | C8: Um dígito pode estar ilegível | D8: Confirmar no ativo | E8: Média
